BEGIN:VCALENDAR
VERSION:2.0
PRODID:-//Help Hope Home - ECPv6.15.20//NONSGML v1.0//EN
CALSCALE:GREGORIAN
METHOD:PUBLISH
X-ORIGINAL-URL:https://helphopehome.org
X-WR-CALDESC:Events for Help Hope Home
REFRESH-INTERVAL;VALUE=DURATION:PT1H
X-Robots-Tag:noindex
X-PUBLISHED-TTL:PT1H
BEGIN:VTIMEZONE
TZID:America/Los_Angeles
BEGIN:DAYLIGHT
TZOFFSETFROM:-0800
TZOFFSETTO:-0700
TZNAME:PDT
DTSTART:20250309T100000
END:DAYLIGHT
BEGIN:STANDARD
TZOFFSETFROM:-0700
TZOFFSETTO:-0800
TZNAME:PST
DTSTART:20251102T090000
END:STANDARD
BEGIN:DAYLIGHT
TZOFFSETFROM:-0800
TZOFFSETTO:-0700
TZNAME:PDT
DTSTART:20260308T100000
END:DAYLIGHT
BEGIN:STANDARD
TZOFFSETFROM:-0700
TZOFFSETTO:-0800
TZNAME:PST
DTSTART:20261101T090000
END:STANDARD
BEGIN:DAYLIGHT
TZOFFSETFROM:-0800
TZOFFSETTO:-0700
TZNAME:PDT
DTSTART:20270314T100000
END:DAYLIGHT
BEGIN:STANDARD
TZOFFSETFROM:-0700
TZOFFSETTO:-0800
TZNAME:PST
DTSTART:20271107T090000
END:STANDARD
END:VTIMEZONE
BEGIN:VEVENT
DTSTART;TZID=America/Los_Angeles:20260207T090000
DTEND;TZID=America/Los_Angeles:20260207T113000
DTSTAMP:20260419T095222
CREATED:20260205T205304Z
LAST-MODIFIED:20260205T205304Z
UID:10002903-1770454800-1770463800@helphopehome.org
SUMMARY:CARE Fair
DESCRIPTION:Need a little extra support this month\, or know someone who does? CARE Complex is here for you. \nWe invite you to join us for our February CARE Fair\, a welcoming\, no-cost community event designed to provide essential resources with dignity and care. \nNo registration needed—first come\, first serve!! \nConnect with Caring Organizations: Speak directly with local nonprofits and support networks that are dedicated to strengthening our community. You will be able to learn about available resources and receive guidance from organizations that support individuals experiencing homelessness. \nAccess to Fundamental Services: Receive free essential services\, including access to a shower truck\, dog grooming\, hygiene packs\, nutritious food\, and clothing. These services are offered to help meet immediate needs in a respectful and supportive environment. \nMore than Just the Basics: In addition to essential services\, you will also have access to insurance information\, mental health support\, and free haircuts. Our goal is to go beyond meeting basic needs by providing care\, support\, and opportunities for a fresh start.
URL:https://helphopehome.org/event/care-fair-3/
LOCATION:CARE Complex\, 200 Foremaster Lane\, Las Vegas\, NV\, United States
ORGANIZER;CN="CARE Complex":MAILTO:careinfo@carecomplex.org
END:VEVENT
BEGIN:VEVENT
DTSTART;TZID=America/Los_Angeles:20260207T090000
DTEND;TZID=America/Los_Angeles:20260207T120000
DTSTAMP:20260419T095222
CREATED:20250814T183227Z
LAST-MODIFIED:20250814T183227Z
UID:10002886-1770454800-1770465600@helphopehome.org
SUMMARY:Street Dogz: Free Grooming Day & Pet Supplies
DESCRIPTION:
URL:https://helphopehome.org/event/street-dogz-free-grooming-day-2/2026-02-07/
LOCATION:CARE Complex\, 200 Foremaster Lane\, Las Vegas\, NV\, United States
ORGANIZER;CN="Street Dogz":MAILTO:help@streetdogzlv.org
END:VEVENT
BEGIN:VEVENT
DTSTART;TZID=America/Los_Angeles:20260207T140000
DTEND;TZID=America/Los_Angeles:20260207T150000
DTSTAMP:20260419T095222
CREATED:20250324T175241Z
LAST-MODIFIED:20250324T192440Z
UID:10001643-1770472800-1770476400@helphopehome.org
SUMMARY:Let's Talk Mental Health
DESCRIPTION:
URL:https://helphopehome.org/event/lets-talk-mental-health/2026-02-07/
LOCATION:The Care Complex\, 200 Foremaster Lane\, Las Vegas\, NV\, 89101\, United States
END:VEVENT
END:VCALENDAR