BEGIN:VCALENDAR
VERSION:2.0
PRODID:-//Help Hope Home - ECPv6.15.20//NONSGML v1.0//EN
CALSCALE:GREGORIAN
METHOD:PUBLISH
X-WR-CALNAME:Help Hope Home
X-ORIGINAL-URL:https://helphopehome.org
X-WR-CALDESC:Events for Help Hope Home
REFRESH-INTERVAL;VALUE=DURATION:PT1H
X-Robots-Tag:noindex
X-PUBLISHED-TTL:PT1H
BEGIN:VTIMEZONE
TZID:America/Los_Angeles
BEGIN:DAYLIGHT
TZOFFSETFROM:-0800
TZOFFSETTO:-0700
TZNAME:PDT
DTSTART:20250309T100000
END:DAYLIGHT
BEGIN:STANDARD
TZOFFSETFROM:-0700
TZOFFSETTO:-0800
TZNAME:PST
DTSTART:20251102T090000
END:STANDARD
BEGIN:DAYLIGHT
TZOFFSETFROM:-0800
TZOFFSETTO:-0700
TZNAME:PDT
DTSTART:20260308T100000
END:DAYLIGHT
BEGIN:STANDARD
TZOFFSETFROM:-0700
TZOFFSETTO:-0800
TZNAME:PST
DTSTART:20261101T090000
END:STANDARD
BEGIN:DAYLIGHT
TZOFFSETFROM:-0800
TZOFFSETTO:-0700
TZNAME:PDT
DTSTART:20270314T100000
END:DAYLIGHT
BEGIN:STANDARD
TZOFFSETFROM:-0700
TZOFFSETTO:-0800
TZNAME:PST
DTSTART:20271107T090000
END:STANDARD
END:VTIMEZONE
BEGIN:VEVENT
DTSTART;TZID=America/Los_Angeles:20260319T100000
DTEND;TZID=America/Los_Angeles:20260319T130000
DTSTAMP:20260419T100518
CREATED:20260316T210625Z
LAST-MODIFIED:20260316T210633Z
UID:10002906-1773914400-1773925200@helphopehome.org
SUMMARY:Project Homeless Connect Event
DESCRIPTION:Thursday\, March 19th\, 10:00am – 1:00pm \nSunrise Mountain Ministries \n5670 S. Pecos Rd.\, Las Vegas\, NV 89120 (Back parking lot) \nFREE SERVICES & RESOURCES: \n\nID & Birth Certificates for people experiencing homelessness\nHousing Assessments\nIndependent Living\nRecovery Support Community resources\nBehavioral & Mental Health Division of Social Services\nManaged Care Providers\nVision Screenings\nVeteran support Giveaways and more…
URL:https://helphopehome.org/event/project-homeless-connect-event-7/
LOCATION:Sunrise Mountain Ministries\, 5670 S. Pecos Rd.\, Las Vegas\, NV\, 89120\, United States
ATTACH;FMTTYPE=application/pdf:https://helphopehome.org/wp-content/uploads/2026/03/PHC-Flyer-Sunrise-Minitries-3.19.26.pdf
END:VEVENT
END:VCALENDAR