BEGIN:VCALENDAR
VERSION:2.0
PRODID:-//Help Hope Home - ECPv6.15.20//NONSGML v1.0//EN
CALSCALE:GREGORIAN
METHOD:PUBLISH
X-WR-CALNAME:Help Hope Home
X-ORIGINAL-URL:https://helphopehome.org
X-WR-CALDESC:Events for Help Hope Home
REFRESH-INTERVAL;VALUE=DURATION:PT1H
X-Robots-Tag:noindex
X-PUBLISHED-TTL:PT1H
BEGIN:VTIMEZONE
TZID:America/Los_Angeles
BEGIN:DAYLIGHT
TZOFFSETFROM:-0800
TZOFFSETTO:-0700
TZNAME:PDT
DTSTART:20230312T100000
END:DAYLIGHT
BEGIN:STANDARD
TZOFFSETFROM:-0700
TZOFFSETTO:-0800
TZNAME:PST
DTSTART:20231105T090000
END:STANDARD
BEGIN:DAYLIGHT
TZOFFSETFROM:-0800
TZOFFSETTO:-0700
TZNAME:PDT
DTSTART:20240310T100000
END:DAYLIGHT
BEGIN:STANDARD
TZOFFSETFROM:-0700
TZOFFSETTO:-0800
TZNAME:PST
DTSTART:20241103T090000
END:STANDARD
BEGIN:DAYLIGHT
TZOFFSETFROM:-0800
TZOFFSETTO:-0700
TZNAME:PDT
DTSTART:20250309T100000
END:DAYLIGHT
BEGIN:STANDARD
TZOFFSETFROM:-0700
TZOFFSETTO:-0800
TZNAME:PST
DTSTART:20251102T090000
END:STANDARD
BEGIN:DAYLIGHT
TZOFFSETFROM:-0800
TZOFFSETTO:-0700
TZNAME:PDT
DTSTART:20260308T100000
END:DAYLIGHT
BEGIN:STANDARD
TZOFFSETFROM:-0700
TZOFFSETTO:-0800
TZNAME:PST
DTSTART:20261101T090000
END:STANDARD
END:VTIMEZONE
BEGIN:VEVENT
DTSTART;TZID=America/Los_Angeles:20250814T090000
DTEND;TZID=America/Los_Angeles:20250814T120000
DTSTAMP:20260419T201550
CREATED:20250812T153937Z
LAST-MODIFIED:20250812T154554Z
UID:10002332-1755162000-1755172800@helphopehome.org
SUMMARY:PHC Pop-Up Event
DESCRIPTION:
URL:https://helphopehome.org/event/phc-pop-up-event/
LOCATION:Aghaby Clinic\, 1845 Civic Center Dr.\, North Las Vegas\, NV\, 89030\, United States
CATEGORIES:Community Events,NHA,Provider Collaboratives
END:VEVENT
BEGIN:VEVENT
DTSTART;TZID=America/Los_Angeles:20250226T100000
DTEND;TZID=America/Los_Angeles:20250226T140000
DTSTAMP:20260419T201550
CREATED:20250127T213331Z
LAST-MODIFIED:20250127T213427Z
UID:10001486-1740564000-1740578400@helphopehome.org
SUMMARY:Festive February Pop-Up Event
DESCRIPTION:
URL:https://helphopehome.org/event/festive-february-pop-up-event/
LOCATION:Tonopah Park\, 204 E. Tonopah Ave\, North Las Vegas\, NV\, United States
CATEGORIES:Community Events,NHA,Provider Collaboratives,Services Events
END:VEVENT
BEGIN:VEVENT
DTSTART;TZID=America/Los_Angeles:20250123T100000
DTEND;TZID=America/Los_Angeles:20250123T130000
DTSTAMP:20260419T201550
CREATED:20250106T170609Z
LAST-MODIFIED:20250106T170609Z
UID:10001484-1737626400-1737637200@helphopehome.org
SUMMARY:Pop-Up PHC
DESCRIPTION:
URL:https://helphopehome.org/event/pop-up-phc-5/
LOCATION:Vegas Stronger\, 916 N Main St\, Las Vegas\, NV\, 89101\, United States
CATEGORIES:Community Events,NHA,Provider Collaboratives,Services Events
END:VEVENT
BEGIN:VEVENT
DTSTART;TZID=America/Los_Angeles:20250114T140000
DTEND;TZID=America/Los_Angeles:20250114T170000
DTSTAMP:20260419T201550
CREATED:20241211T001519Z
LAST-MODIFIED:20241211T002437Z
UID:10001476-1736863200-1736874000@helphopehome.org
SUMMARY:Pop-Up Family Connect
DESCRIPTION:
URL:https://helphopehome.org/event/pop-up-family-connect/
LOCATION:Cimarron Memorial High School\, 2301 N Tenaya Way\, Las Vegas\, NV\, 89128\, United States
CATEGORIES:Community Events,NHA
END:VEVENT
BEGIN:VEVENT
DTSTART;TZID=America/Los_Angeles:20250109T090000
DTEND;TZID=America/Los_Angeles:20250109T120000
DTSTAMP:20260419T201550
CREATED:20250106T170347Z
LAST-MODIFIED:20250106T170347Z
UID:10001483-1736413200-1736424000@helphopehome.org
SUMMARY:Pop-Up PHC
DESCRIPTION:
URL:https://helphopehome.org/event/pop-up-phc-4/
LOCATION:Hopelink of Southern Nevada\, 178 Westminster Way\, Henderson\, NV\, 89015\, United States
CATEGORIES:Community Events,NHA,Provider Collaboratives,Services Events
END:VEVENT
BEGIN:VEVENT
DTSTART;TZID=America/Los_Angeles:20241217T100000
DTEND;TZID=America/Los_Angeles:20241217T130000
DTSTAMP:20260419T201550
CREATED:20241219T174703Z
LAST-MODIFIED:20241219T175010Z
UID:10001479-1734429600-1734440400@helphopehome.org
SUMMARY:Pop-Up Project Homeless Connect
DESCRIPTION:2024 December Pop-Up Flyer – West Charleston Library – 12-17-24
URL:https://helphopehome.org/event/pop-up-project-homeless-connect-6/
LOCATION:West Charleston Library\, 6101 W Charleston Blvd\, Las Vegas\, NV\, 89146\, United States
CATEGORIES:NHA,Provider Collaboratives,Services Events
END:VEVENT
BEGIN:VEVENT
DTSTART;TZID=America/Los_Angeles:20241212T150000
DTEND;TZID=America/Los_Angeles:20241212T180000
DTSTAMP:20260419T201550
CREATED:20241118T222123Z
LAST-MODIFIED:20241118T222123Z
UID:10001415-1734015600-1734026400@helphopehome.org
SUMMARY:31st Annual Homeless Candlelight Vigil
DESCRIPTION:The vigil will feature a candlelight ceremony to honor the lives lost\, live music\, speakers\, vendor booths offering valuable resources\, delicious food\, and we will be distributing survival kits to help those facing homelessness during the winter months. This is a great opportunity to connect\, reflect\, and take action. \nFeel free to transport clients to the event—let’s come together to share hope\, compassion\, and community. \nWe are seeking items for survival kits/backpacks including\, but not limited to:  \n\nHygiene items\nWhite Socks\nGloves\nKnit caps/Beanies\n\nAs part of the vigil\, we will be offering space for vendors to set up booths to showcase products\, services\, or information that can support individuals who are experiencing homelessness\, or that align with the values of community\, compassion\, and support. This is a wonderful opportunity to reach a compassionate and engaged audience while contributing to an event that is dedicated to making a positive impact on our community. Please be advised that there will be a limited amount of booths accepted.
URL:https://helphopehome.org/event/31st-annual-homeless-candlelight-vigil/
LOCATION:Behind the Stratosphere\, 227 W. St Louis Avenue\, Las Vegas\, NV\, 89102\, United States
CATEGORIES:NHA,Provider Collaboratives,Services Events
END:VEVENT
BEGIN:VEVENT
DTSTART;TZID=America/Los_Angeles:20241126T080000
DTEND;TZID=America/Los_Angeles:20241126T110000
DTSTAMP:20260419T201550
CREATED:20241114T165805Z
LAST-MODIFIED:20241114T223034Z
UID:10001414-1732608000-1732618800@helphopehome.org
SUMMARY:Pop-Up Project Homeless Connect
DESCRIPTION:Resources are free & open to the public:\nHousing Assessments and shelter referrals\, ID & Birth Certificate for people experiencing homelessness\, Medical Insurance\, veteran services and more.
URL:https://helphopehome.org/event/pop-up-project-homeless-connect-5/
LOCATION:Clark County Library\, 1401 E. Flamingo Road\, Las Vegas\, NV\, 89119\, United States
CATEGORIES:NHA,Services Events
END:VEVENT
BEGIN:VEVENT
DTSTART;TZID=America/Los_Angeles:20241115T100000
DTEND;TZID=America/Los_Angeles:20241115T140000
DTSTAMP:20260419T201550
CREATED:20241028T191850Z
LAST-MODIFIED:20241028T191850Z
UID:10001376-1731664800-1731679200@helphopehome.org
SUMMARY:Pop-Up Project Homeless Connect
DESCRIPTION:Pop-Up Flyer – The Center – 11.15.24 \nFriday\, November 15th\n10:00 am – 2:00 pm\nThe Center\n401 S. Maryland Pkwy\n(Indoor/Outdoor Mobile Units)\nFree Services & Resources:\nHousing Assessments\, ID/Birth Certificate for people experiencing homelessness\, Medical Insurance & Mental Health\, Medical\, Dental\, & Vision Services\, Mobile Showers & Clothing\, Haircuts\, Cell Phones & Tablets\, Food & Drinks\, Hygiene kits and more!\n*More services are being added – stay tuned!
URL:https://helphopehome.org/event/pop-up-project-homeless-connect-3/
LOCATION:The Center\, 401 S. Maryland Parkway\, Las Vegas\, NV\, United States
CATEGORIES:NHA
END:VEVENT
BEGIN:VEVENT
DTSTART;TZID=America/Los_Angeles:20241030T130000
DTEND;TZID=America/Los_Angeles:20241030T160000
DTSTAMP:20260419T201550
CREATED:20240930T172104Z
LAST-MODIFIED:20240930T172104Z
UID:10001360-1730293200-1730304000@helphopehome.org
SUMMARY:Pop-Up PHC
DESCRIPTION:
URL:https://helphopehome.org/event/pop-up-phc-3/
LOCATION:Whitney Library\, 5175 E. Tropicana Avenue\, Las Vegas\, NV\, 89122\, United States
CATEGORIES:NHA
END:VEVENT
BEGIN:VEVENT
DTSTART;TZID=America/Los_Angeles:20241024T100000
DTEND;TZID=America/Los_Angeles:20241024T130000
DTSTAMP:20260419T201550
CREATED:20240930T171707Z
LAST-MODIFIED:20240930T171707Z
UID:10001359-1729764000-1729774800@helphopehome.org
SUMMARY:Pop-Up PHC
DESCRIPTION:
URL:https://helphopehome.org/event/pop-up-phc-2/
LOCATION:First Church of God\, 827 Balzar Avenue\, Las Vegas\, NV\, 89106\, United States
CATEGORIES:NHA
END:VEVENT
BEGIN:VEVENT
DTSTART;TZID=America/Los_Angeles:20241015T090000
DTEND;TZID=America/Los_Angeles:20241015T120000
DTSTAMP:20260419T201550
CREATED:20240930T171022Z
LAST-MODIFIED:20240930T171720Z
UID:10001358-1728982800-1728993600@helphopehome.org
SUMMARY:Pop-Up PHC
DESCRIPTION:
URL:https://helphopehome.org/event/pop-up-phc/
LOCATION:Share Village\, 50 N. 21st Street\, Las Vegas\, NV\, 89101
CATEGORIES:NHA
END:VEVENT
BEGIN:VEVENT
DTSTART;VALUE=DATE:20241007
DTEND;VALUE=DATE:20241009
DTSTAMP:20260419T201550
CREATED:20240826T160243Z
LAST-MODIFIED:20240826T160243Z
UID:10001327-1728259200-1728431999@helphopehome.org
SUMMARY:3rd Annual Nevada Statewide Conference on Addressing Homelessness
DESCRIPTION:
URL:https://helphopehome.org/event/3rd-annual-nevada-statewide-conference-on-addressing-homelessness/
LOCATION:Flamingo Las Vegas
CATEGORIES:NHA
END:VEVENT
BEGIN:VEVENT
DTSTART;TZID=America/Los_Angeles:20240926T100000
DTEND;TZID=America/Los_Angeles:20240926T130000
DTSTAMP:20260419T201550
CREATED:20240828T002321Z
LAST-MODIFIED:20240828T002321Z
UID:10001331-1727344800-1727355600@helphopehome.org
SUMMARY:Pop-Up Project Homeless Connect
DESCRIPTION:
URL:https://helphopehome.org/event/pop-up-project-homeless-connect-4/
LOCATION:NV
CATEGORIES:NHA
END:VEVENT
BEGIN:VEVENT
DTSTART;TZID=America/Los_Angeles:20240918T140000
DTEND;TZID=America/Los_Angeles:20240918T170000
DTSTAMP:20260419T201550
CREATED:20240826T153903Z
LAST-MODIFIED:20240826T162206Z
UID:10001326-1726668000-1726678800@helphopehome.org
SUMMARY:Nevada Homeless Alliance Pop-Up Family Connect with Title I HOPE
DESCRIPTION:
URL:https://helphopehome.org/event/nevada-homeless-alliance-pop-up-family-connect-with-title-i-hope/
LOCATION:Rancho High School\, 1900 Searles Ave\, Las Vegas\, NV\, 89101\, United States
CATEGORIES:NHA
END:VEVENT
BEGIN:VEVENT
DTSTART;TZID=America/Los_Angeles:20240912T100000
DTEND;TZID=America/Los_Angeles:20240912T130000
DTSTAMP:20260419T201550
CREATED:20240828T001855Z
LAST-MODIFIED:20240828T001924Z
UID:10001329-1726135200-1726146000@helphopehome.org
SUMMARY:Pop-Up Project Homeless Connect
DESCRIPTION:
URL:https://helphopehome.org/event/pop-up-project-homeless-connect-2/
LOCATION:Meadows Library\, 215 W. Boston Ave\, Las Vegas\, NV\, 89102\, United States
CATEGORIES:NHA
END:VEVENT
BEGIN:VEVENT
DTSTART;TZID=America/Los_Angeles:20240905T130000
DTEND;TZID=America/Los_Angeles:20240905T160000
DTSTAMP:20260419T201550
CREATED:20240828T001231Z
LAST-MODIFIED:20240828T001512Z
UID:10001328-1725541200-1725552000@helphopehome.org
SUMMARY:Pop-Up Project Homeless Connect
DESCRIPTION:
URL:https://helphopehome.org/event/pop-up-project-homeless-connect/
LOCATION:RTC Bonneville Transit Center\, 101 E. Bonneville Ave\, Las Vegas\, NV\, 89101\, United States
CATEGORIES:NHA
END:VEVENT
END:VCALENDAR