BEGIN:VCALENDAR
VERSION:2.0
PRODID:-//Help Hope Home - ECPv6.15.20//NONSGML v1.0//EN
CALSCALE:GREGORIAN
METHOD:PUBLISH
X-WR-CALNAME:Help Hope Home
X-ORIGINAL-URL:https://helphopehome.org
X-WR-CALDESC:Events for Help Hope Home
REFRESH-INTERVAL;VALUE=DURATION:PT1H
X-Robots-Tag:noindex
X-PUBLISHED-TTL:PT1H
BEGIN:VTIMEZONE
TZID:America/Los_Angeles
BEGIN:DAYLIGHT
TZOFFSETFROM:-0800
TZOFFSETTO:-0700
TZNAME:PDT
DTSTART:20230312T100000
END:DAYLIGHT
BEGIN:STANDARD
TZOFFSETFROM:-0700
TZOFFSETTO:-0800
TZNAME:PST
DTSTART:20231105T090000
END:STANDARD
BEGIN:DAYLIGHT
TZOFFSETFROM:-0800
TZOFFSETTO:-0700
TZNAME:PDT
DTSTART:20240310T100000
END:DAYLIGHT
BEGIN:STANDARD
TZOFFSETFROM:-0700
TZOFFSETTO:-0800
TZNAME:PST
DTSTART:20241103T090000
END:STANDARD
BEGIN:DAYLIGHT
TZOFFSETFROM:-0800
TZOFFSETTO:-0700
TZNAME:PDT
DTSTART:20250309T100000
END:DAYLIGHT
BEGIN:STANDARD
TZOFFSETFROM:-0700
TZOFFSETTO:-0800
TZNAME:PST
DTSTART:20251102T090000
END:STANDARD
END:VTIMEZONE
BEGIN:VEVENT
DTSTART;VALUE=DATE:20241007
DTEND;VALUE=DATE:20241009
DTSTAMP:20260419T214959
CREATED:20240826T160243Z
LAST-MODIFIED:20240826T160243Z
UID:10001327-1728259200-1728431999@helphopehome.org
SUMMARY:3rd Annual Nevada Statewide Conference on Addressing Homelessness
DESCRIPTION:
URL:https://helphopehome.org/event/3rd-annual-nevada-statewide-conference-on-addressing-homelessness/
LOCATION:Flamingo Las Vegas
CATEGORIES:NHA
END:VEVENT
BEGIN:VEVENT
DTSTART;TZID=America/Los_Angeles:20240926T100000
DTEND;TZID=America/Los_Angeles:20240926T130000
DTSTAMP:20260419T214959
CREATED:20240828T002321Z
LAST-MODIFIED:20240828T002321Z
UID:10001331-1727344800-1727355600@helphopehome.org
SUMMARY:Pop-Up Project Homeless Connect
DESCRIPTION:
URL:https://helphopehome.org/event/pop-up-project-homeless-connect-4/
CATEGORIES:NHA
END:VEVENT
BEGIN:VEVENT
DTSTART;TZID=America/Los_Angeles:20240918T140000
DTEND;TZID=America/Los_Angeles:20240918T170000
DTSTAMP:20260419T214959
CREATED:20240826T153903Z
LAST-MODIFIED:20240826T162206Z
UID:10001326-1726668000-1726678800@helphopehome.org
SUMMARY:Nevada Homeless Alliance Pop-Up Family Connect with Title I HOPE
DESCRIPTION:
URL:https://helphopehome.org/event/nevada-homeless-alliance-pop-up-family-connect-with-title-i-hope/
LOCATION:Rancho High School\, 1900 Searles Ave\, Las Vegas\, NV\, 89101\, United States
CATEGORIES:NHA
END:VEVENT
BEGIN:VEVENT
DTSTART;TZID=America/Los_Angeles:20240912T100000
DTEND;TZID=America/Los_Angeles:20240912T130000
DTSTAMP:20260419T214959
CREATED:20240828T001855Z
LAST-MODIFIED:20240828T001924Z
UID:10001329-1726135200-1726146000@helphopehome.org
SUMMARY:Pop-Up Project Homeless Connect
DESCRIPTION:
URL:https://helphopehome.org/event/pop-up-project-homeless-connect-2/
LOCATION:Meadows Library\, 215 W. Boston Ave\, Las Vegas\, NV\, 89102\, United States
CATEGORIES:NHA
END:VEVENT
BEGIN:VEVENT
DTSTART;TZID=America/Los_Angeles:20240905T130000
DTEND;TZID=America/Los_Angeles:20240905T160000
DTSTAMP:20260419T214959
CREATED:20240828T001231Z
LAST-MODIFIED:20240828T001512Z
UID:10001328-1725541200-1725552000@helphopehome.org
SUMMARY:Pop-Up Project Homeless Connect
DESCRIPTION:
URL:https://helphopehome.org/event/pop-up-project-homeless-connect/
LOCATION:RTC Bonneville Transit Center\, 101 E. Bonneville Ave\, Las Vegas\, NV\, 89101\, United States
CATEGORIES:NHA
END:VEVENT
END:VCALENDAR