BEGIN:VCALENDAR
VERSION:2.0
PRODID:-//Help Hope Home - ECPv6.15.20//NONSGML v1.0//EN
CALSCALE:GREGORIAN
METHOD:PUBLISH
X-ORIGINAL-URL:https://helphopehome.org
X-WR-CALDESC:Events for Help Hope Home
REFRESH-INTERVAL;VALUE=DURATION:PT1H
X-Robots-Tag:noindex
X-PUBLISHED-TTL:PT1H
BEGIN:VTIMEZONE
TZID:America/Los_Angeles
BEGIN:DAYLIGHT
TZOFFSETFROM:-0800
TZOFFSETTO:-0700
TZNAME:PDT
DTSTART:20240310T100000
END:DAYLIGHT
BEGIN:STANDARD
TZOFFSETFROM:-0700
TZOFFSETTO:-0800
TZNAME:PST
DTSTART:20241103T090000
END:STANDARD
BEGIN:DAYLIGHT
TZOFFSETFROM:-0800
TZOFFSETTO:-0700
TZNAME:PDT
DTSTART:20250309T100000
END:DAYLIGHT
BEGIN:STANDARD
TZOFFSETFROM:-0700
TZOFFSETTO:-0800
TZNAME:PST
DTSTART:20251102T090000
END:STANDARD
BEGIN:DAYLIGHT
TZOFFSETFROM:-0800
TZOFFSETTO:-0700
TZNAME:PDT
DTSTART:20260308T100000
END:DAYLIGHT
BEGIN:STANDARD
TZOFFSETFROM:-0700
TZOFFSETTO:-0800
TZNAME:PST
DTSTART:20261101T090000
END:STANDARD
END:VTIMEZONE
BEGIN:VEVENT
DTSTART;TZID=America/Los_Angeles:20250910T150000
DTEND;TZID=America/Los_Angeles:20250910T170000
DTSTAMP:20260420T091712
CREATED:20250731T171820Z
LAST-MODIFIED:20250731T171820Z
UID:10002151-1757516400-1757523600@helphopehome.org
SUMMARY:SNHCoC Board Meeting
DESCRIPTION:Join Virtually
URL:https://helphopehome.org/event/snhcoc-board-meeting/2025-09-10/
CATEGORIES:SNHCoC
END:VEVENT
BEGIN:VEVENT
DTSTART;TZID=America/Los_Angeles:20250911T100000
DTEND;TZID=America/Los_Angeles:20250911T123000
DTSTAMP:20260420T091712
CREATED:20250313T203541Z
LAST-MODIFIED:20250313T203645Z
UID:10001627-1757584800-1757593800@helphopehome.org
SUMMARY:Continuum of Care Membership Meeting
DESCRIPTION:Join Virtually
URL:https://helphopehome.org/event/continuum-of-care-membership-meeting-3-2/2025-09-11/
LOCATION:United Way of Southern Nevada\, 5830 W. Flamingo Road\, Las Vegas\, NV\, 89103\, United States
CATEGORIES:SNHCoC
ORGANIZER;CN="Help Hope Home":MAILTO:helphopehome@clarkcountynv.gov
END:VEVENT
BEGIN:VEVENT
DTSTART;TZID=America/Los_Angeles:20250917T130000
DTEND;TZID=America/Los_Angeles:20250917T143000
DTSTAMP:20260420T091712
CREATED:20250821T193740Z
LAST-MODIFIED:20250821T193740Z
UID:10002890-1758114000-1758119400@helphopehome.org
SUMMARY:Coordinated Outreach Working Group
DESCRIPTION:Join Here
URL:https://helphopehome.org/event/coordinated-outreach-working-group-4/
CATEGORIES:Provider Collaboratives,SNHCoC
END:VEVENT
BEGIN:VEVENT
DTSTART;TZID=America/Los_Angeles:20250924T150000
DTEND;TZID=America/Los_Angeles:20250924T170000
DTSTAMP:20260420T091712
CREATED:20250731T172012Z
LAST-MODIFIED:20250731T172012Z
UID:10002271-1758726000-1758733200@helphopehome.org
SUMMARY:SNHCoC Board Meeting
DESCRIPTION:Join Virtually
URL:https://helphopehome.org/event/snhcoc-board-meeting-3/2025-09-24/
CATEGORIES:SNHCoC
END:VEVENT
END:VCALENDAR