BEGIN:VCALENDAR
VERSION:2.0
PRODID:-//Help Hope Home - ECPv6.15.20//NONSGML v1.0//EN
CALSCALE:GREGORIAN
METHOD:PUBLISH
X-ORIGINAL-URL:https://helphopehome.org
X-WR-CALDESC:Events for Help Hope Home
REFRESH-INTERVAL;VALUE=DURATION:PT1H
X-Robots-Tag:noindex
X-PUBLISHED-TTL:PT1H
BEGIN:VTIMEZONE
TZID:America/Los_Angeles
BEGIN:DAYLIGHT
TZOFFSETFROM:-0800
TZOFFSETTO:-0700
TZNAME:PDT
DTSTART:20240310T100000
END:DAYLIGHT
BEGIN:STANDARD
TZOFFSETFROM:-0700
TZOFFSETTO:-0800
TZNAME:PST
DTSTART:20241103T090000
END:STANDARD
BEGIN:DAYLIGHT
TZOFFSETFROM:-0800
TZOFFSETTO:-0700
TZNAME:PDT
DTSTART:20250309T100000
END:DAYLIGHT
BEGIN:STANDARD
TZOFFSETFROM:-0700
TZOFFSETTO:-0800
TZNAME:PST
DTSTART:20251102T090000
END:STANDARD
BEGIN:DAYLIGHT
TZOFFSETFROM:-0800
TZOFFSETTO:-0700
TZNAME:PDT
DTSTART:20260308T100000
END:DAYLIGHT
BEGIN:STANDARD
TZOFFSETFROM:-0700
TZOFFSETTO:-0800
TZNAME:PST
DTSTART:20261101T090000
END:STANDARD
BEGIN:DAYLIGHT
TZOFFSETFROM:-0800
TZOFFSETTO:-0700
TZNAME:PDT
DTSTART:20270314T100000
END:DAYLIGHT
BEGIN:STANDARD
TZOFFSETFROM:-0700
TZOFFSETTO:-0800
TZNAME:PST
DTSTART:20271107T090000
END:STANDARD
END:VTIMEZONE
BEGIN:VEVENT
DTSTART;TZID=America/Los_Angeles:20260204T130000
DTEND;TZID=America/Los_Angeles:20260204T150000
DTSTAMP:20260421T042841
CREATED:20250731T165509Z
LAST-MODIFIED:20250731T165509Z
UID:10001915-1770210000-1770217200@helphopehome.org
SUMMARY:Support That Moves You Forward
DESCRIPTION:
URL:https://helphopehome.org/event/support-that-moves-you-forward/2026-02-04/
LOCATION:200 Foremaster Lane\, 200 Foremaster Lane\, Las Vegas\, NV\, 89101\, United States
ORGANIZER;CN="CARE Complex":MAILTO:careinfo@carecomplex.org
END:VEVENT
BEGIN:VEVENT
DTSTART;TZID=America/Los_Angeles:20260202T090000
DTEND;TZID=America/Los_Angeles:20260202T120000
DTSTAMP:20260421T042841
CREATED:20250814T182658Z
LAST-MODIFIED:20250814T182658Z
UID:10002357-1770022800-1770033600@helphopehome.org
SUMMARY:Free Hair Cuts
DESCRIPTION:
URL:https://helphopehome.org/event/free-hair-cuts/2026-02-02/
LOCATION:CARE Complex\, 200 Foremaster Lane\, Las Vegas\, NV\, United States
CATEGORIES:Community Events
ORGANIZER;CN="CARE Complex":MAILTO:careinfo@carecomplex.org
END:VEVENT
BEGIN:VEVENT
DTSTART;TZID=America/Los_Angeles:20260202T080000
DTEND;TZID=America/Los_Angeles:20260202T120000
DTSTAMP:20260421T042841
CREATED:20250814T183002Z
LAST-MODIFIED:20250814T183002Z
UID:10002645-1770019200-1770033600@helphopehome.org
SUMMARY:Free Shower Truck
DESCRIPTION:
URL:https://helphopehome.org/event/free-shower-truck/2026-02-02/
LOCATION:CARE Complex\, 200 Foremaster Lane\, Las Vegas\, NV\, United States
CATEGORIES:Community Events
ORGANIZER;CN="CARE Complex":MAILTO:careinfo@carecomplex.org
END:VEVENT
BEGIN:VEVENT
DTSTART;TZID=America/Los_Angeles:20260128T130000
DTEND;TZID=America/Los_Angeles:20260128T150000
DTSTAMP:20260421T042841
CREATED:20250731T165509Z
LAST-MODIFIED:20250731T165509Z
UID:10001914-1769605200-1769612400@helphopehome.org
SUMMARY:Support That Moves You Forward
DESCRIPTION:
URL:https://helphopehome.org/event/support-that-moves-you-forward/2026-01-28/
LOCATION:200 Foremaster Lane\, 200 Foremaster Lane\, Las Vegas\, NV\, 89101\, United States
ORGANIZER;CN="CARE Complex":MAILTO:careinfo@carecomplex.org
END:VEVENT
BEGIN:VEVENT
DTSTART;TZID=America/Los_Angeles:20260126T090000
DTEND;TZID=America/Los_Angeles:20260126T120000
DTSTAMP:20260421T042841
CREATED:20250814T182658Z
LAST-MODIFIED:20250814T182658Z
UID:10002356-1769418000-1769428800@helphopehome.org
SUMMARY:Free Hair Cuts
DESCRIPTION:
URL:https://helphopehome.org/event/free-hair-cuts/2026-01-26/
LOCATION:CARE Complex\, 200 Foremaster Lane\, Las Vegas\, NV\, United States
CATEGORIES:Community Events
ORGANIZER;CN="CARE Complex":MAILTO:careinfo@carecomplex.org
END:VEVENT
BEGIN:VEVENT
DTSTART;TZID=America/Los_Angeles:20260126T080000
DTEND;TZID=America/Los_Angeles:20260126T120000
DTSTAMP:20260421T042841
CREATED:20250814T183002Z
LAST-MODIFIED:20250814T183002Z
UID:10002644-1769414400-1769428800@helphopehome.org
SUMMARY:Free Shower Truck
DESCRIPTION:
URL:https://helphopehome.org/event/free-shower-truck/2026-01-26/
LOCATION:CARE Complex\, 200 Foremaster Lane\, Las Vegas\, NV\, United States
CATEGORIES:Community Events
ORGANIZER;CN="CARE Complex":MAILTO:careinfo@carecomplex.org
END:VEVENT
BEGIN:VEVENT
DTSTART;TZID=America/Los_Angeles:20260121T130000
DTEND;TZID=America/Los_Angeles:20260121T150000
DTSTAMP:20260421T042841
CREATED:20250731T165509Z
LAST-MODIFIED:20250731T165509Z
UID:10001913-1769000400-1769007600@helphopehome.org
SUMMARY:Support That Moves You Forward
DESCRIPTION:
URL:https://helphopehome.org/event/support-that-moves-you-forward/2026-01-21/
LOCATION:200 Foremaster Lane\, 200 Foremaster Lane\, Las Vegas\, NV\, 89101\, United States
ORGANIZER;CN="CARE Complex":MAILTO:careinfo@carecomplex.org
END:VEVENT
BEGIN:VEVENT
DTSTART;TZID=America/Los_Angeles:20260119T090000
DTEND;TZID=America/Los_Angeles:20260119T120000
DTSTAMP:20260421T042841
CREATED:20250814T182658Z
LAST-MODIFIED:20250814T182658Z
UID:10002355-1768813200-1768824000@helphopehome.org
SUMMARY:Free Hair Cuts
DESCRIPTION:
URL:https://helphopehome.org/event/free-hair-cuts/2026-01-19/
LOCATION:CARE Complex\, 200 Foremaster Lane\, Las Vegas\, NV\, United States
CATEGORIES:Community Events
ORGANIZER;CN="CARE Complex":MAILTO:careinfo@carecomplex.org
END:VEVENT
BEGIN:VEVENT
DTSTART;TZID=America/Los_Angeles:20260119T080000
DTEND;TZID=America/Los_Angeles:20260119T120000
DTSTAMP:20260421T042841
CREATED:20250814T183002Z
LAST-MODIFIED:20250814T183002Z
UID:10002643-1768809600-1768824000@helphopehome.org
SUMMARY:Free Shower Truck
DESCRIPTION:
URL:https://helphopehome.org/event/free-shower-truck/2026-01-19/
LOCATION:CARE Complex\, 200 Foremaster Lane\, Las Vegas\, NV\, United States
CATEGORIES:Community Events
ORGANIZER;CN="CARE Complex":MAILTO:careinfo@carecomplex.org
END:VEVENT
BEGIN:VEVENT
DTSTART;TZID=America/Los_Angeles:20260114T130000
DTEND;TZID=America/Los_Angeles:20260114T150000
DTSTAMP:20260421T042841
CREATED:20250731T165509Z
LAST-MODIFIED:20250731T165509Z
UID:10001912-1768395600-1768402800@helphopehome.org
SUMMARY:Support That Moves You Forward
DESCRIPTION:
URL:https://helphopehome.org/event/support-that-moves-you-forward/2026-01-14/
LOCATION:200 Foremaster Lane\, 200 Foremaster Lane\, Las Vegas\, NV\, 89101\, United States
ORGANIZER;CN="CARE Complex":MAILTO:careinfo@carecomplex.org
END:VEVENT
BEGIN:VEVENT
DTSTART;TZID=America/Los_Angeles:20260112T090000
DTEND;TZID=America/Los_Angeles:20260112T120000
DTSTAMP:20260421T042841
CREATED:20250814T182658Z
LAST-MODIFIED:20250814T182658Z
UID:10002354-1768208400-1768219200@helphopehome.org
SUMMARY:Free Hair Cuts
DESCRIPTION:
URL:https://helphopehome.org/event/free-hair-cuts/2026-01-12/
LOCATION:CARE Complex\, 200 Foremaster Lane\, Las Vegas\, NV\, United States
CATEGORIES:Community Events
ORGANIZER;CN="CARE Complex":MAILTO:careinfo@carecomplex.org
END:VEVENT
BEGIN:VEVENT
DTSTART;TZID=America/Los_Angeles:20260112T080000
DTEND;TZID=America/Los_Angeles:20260112T120000
DTSTAMP:20260421T042841
CREATED:20250814T183002Z
LAST-MODIFIED:20250814T183002Z
UID:10002642-1768204800-1768219200@helphopehome.org
SUMMARY:Free Shower Truck
DESCRIPTION:
URL:https://helphopehome.org/event/free-shower-truck/2026-01-12/
LOCATION:CARE Complex\, 200 Foremaster Lane\, Las Vegas\, NV\, United States
CATEGORIES:Community Events
ORGANIZER;CN="CARE Complex":MAILTO:careinfo@carecomplex.org
END:VEVENT
BEGIN:VEVENT
DTSTART;TZID=America/Los_Angeles:20260107T130000
DTEND;TZID=America/Los_Angeles:20260107T150000
DTSTAMP:20260421T042841
CREATED:20250731T165509Z
LAST-MODIFIED:20250731T165509Z
UID:10001911-1767790800-1767798000@helphopehome.org
SUMMARY:Support That Moves You Forward
DESCRIPTION:
URL:https://helphopehome.org/event/support-that-moves-you-forward/2026-01-07/
LOCATION:200 Foremaster Lane\, 200 Foremaster Lane\, Las Vegas\, NV\, 89101\, United States
ORGANIZER;CN="CARE Complex":MAILTO:careinfo@carecomplex.org
END:VEVENT
BEGIN:VEVENT
DTSTART;TZID=America/Los_Angeles:20260105T090000
DTEND;TZID=America/Los_Angeles:20260105T120000
DTSTAMP:20260421T042841
CREATED:20250814T182658Z
LAST-MODIFIED:20250814T182658Z
UID:10002353-1767603600-1767614400@helphopehome.org
SUMMARY:Free Hair Cuts
DESCRIPTION:
URL:https://helphopehome.org/event/free-hair-cuts/2026-01-05/
LOCATION:CARE Complex\, 200 Foremaster Lane\, Las Vegas\, NV\, United States
CATEGORIES:Community Events
ORGANIZER;CN="CARE Complex":MAILTO:careinfo@carecomplex.org
END:VEVENT
BEGIN:VEVENT
DTSTART;TZID=America/Los_Angeles:20260105T080000
DTEND;TZID=America/Los_Angeles:20260105T120000
DTSTAMP:20260421T042841
CREATED:20250814T183002Z
LAST-MODIFIED:20250814T183002Z
UID:10002641-1767600000-1767614400@helphopehome.org
SUMMARY:Free Shower Truck
DESCRIPTION:
URL:https://helphopehome.org/event/free-shower-truck/2026-01-05/
LOCATION:CARE Complex\, 200 Foremaster Lane\, Las Vegas\, NV\, United States
CATEGORIES:Community Events
ORGANIZER;CN="CARE Complex":MAILTO:careinfo@carecomplex.org
END:VEVENT
BEGIN:VEVENT
DTSTART;TZID=America/Los_Angeles:20260103T090000
DTEND;TZID=America/Los_Angeles:20260103T120000
DTSTAMP:20260421T042841
CREATED:20250814T183227Z
LAST-MODIFIED:20250814T183227Z
UID:10002885-1767430800-1767441600@helphopehome.org
SUMMARY:Street Dogz: Free Grooming Day & Pet Supplies
DESCRIPTION:
URL:https://helphopehome.org/event/street-dogz-free-grooming-day-2/2026-01-03/
LOCATION:CARE Complex\, 200 Foremaster Lane\, Las Vegas\, NV\, United States
ORGANIZER;CN="Street Dogz":MAILTO:help@streetdogzlv.org
END:VEVENT
BEGIN:VEVENT
DTSTART;TZID=America/Los_Angeles:20251231T130000
DTEND;TZID=America/Los_Angeles:20251231T150000
DTSTAMP:20260421T042841
CREATED:20250731T165509Z
LAST-MODIFIED:20250731T165509Z
UID:10001910-1767186000-1767193200@helphopehome.org
SUMMARY:Support That Moves You Forward
DESCRIPTION:
URL:https://helphopehome.org/event/support-that-moves-you-forward/2025-12-31/
LOCATION:200 Foremaster Lane\, 200 Foremaster Lane\, Las Vegas\, NV\, 89101\, United States
ORGANIZER;CN="CARE Complex":MAILTO:careinfo@carecomplex.org
END:VEVENT
BEGIN:VEVENT
DTSTART;TZID=America/Los_Angeles:20251229T090000
DTEND;TZID=America/Los_Angeles:20251229T120000
DTSTAMP:20260421T042841
CREATED:20250814T182658Z
LAST-MODIFIED:20250814T182658Z
UID:10002352-1766998800-1767009600@helphopehome.org
SUMMARY:Free Hair Cuts
DESCRIPTION:
URL:https://helphopehome.org/event/free-hair-cuts/2025-12-29/
LOCATION:CARE Complex\, 200 Foremaster Lane\, Las Vegas\, NV\, United States
CATEGORIES:Community Events
ORGANIZER;CN="CARE Complex":MAILTO:careinfo@carecomplex.org
END:VEVENT
BEGIN:VEVENT
DTSTART;TZID=America/Los_Angeles:20251229T080000
DTEND;TZID=America/Los_Angeles:20251229T120000
DTSTAMP:20260421T042841
CREATED:20250814T183002Z
LAST-MODIFIED:20250814T183002Z
UID:10002640-1766995200-1767009600@helphopehome.org
SUMMARY:Free Shower Truck
DESCRIPTION:
URL:https://helphopehome.org/event/free-shower-truck/2025-12-29/
LOCATION:CARE Complex\, 200 Foremaster Lane\, Las Vegas\, NV\, United States
CATEGORIES:Community Events
ORGANIZER;CN="CARE Complex":MAILTO:careinfo@carecomplex.org
END:VEVENT
BEGIN:VEVENT
DTSTART;TZID=America/Los_Angeles:20251224T130000
DTEND;TZID=America/Los_Angeles:20251224T150000
DTSTAMP:20260421T042841
CREATED:20250731T165509Z
LAST-MODIFIED:20250731T165509Z
UID:10001909-1766581200-1766588400@helphopehome.org
SUMMARY:Support That Moves You Forward
DESCRIPTION:
URL:https://helphopehome.org/event/support-that-moves-you-forward/2025-12-24/
LOCATION:200 Foremaster Lane\, 200 Foremaster Lane\, Las Vegas\, NV\, 89101\, United States
ORGANIZER;CN="CARE Complex":MAILTO:careinfo@carecomplex.org
END:VEVENT
BEGIN:VEVENT
DTSTART;TZID=America/Los_Angeles:20251222T090000
DTEND;TZID=America/Los_Angeles:20251222T120000
DTSTAMP:20260421T042841
CREATED:20250814T182658Z
LAST-MODIFIED:20250814T182658Z
UID:10002351-1766394000-1766404800@helphopehome.org
SUMMARY:Free Hair Cuts
DESCRIPTION:
URL:https://helphopehome.org/event/free-hair-cuts/2025-12-22/
LOCATION:CARE Complex\, 200 Foremaster Lane\, Las Vegas\, NV\, United States
CATEGORIES:Community Events
ORGANIZER;CN="CARE Complex":MAILTO:careinfo@carecomplex.org
END:VEVENT
BEGIN:VEVENT
DTSTART;TZID=America/Los_Angeles:20251222T080000
DTEND;TZID=America/Los_Angeles:20251222T120000
DTSTAMP:20260421T042841
CREATED:20250814T183002Z
LAST-MODIFIED:20250814T183002Z
UID:10002639-1766390400-1766404800@helphopehome.org
SUMMARY:Free Shower Truck
DESCRIPTION:
URL:https://helphopehome.org/event/free-shower-truck/2025-12-22/
LOCATION:CARE Complex\, 200 Foremaster Lane\, Las Vegas\, NV\, United States
CATEGORIES:Community Events
ORGANIZER;CN="CARE Complex":MAILTO:careinfo@carecomplex.org
END:VEVENT
BEGIN:VEVENT
DTSTART;TZID=America/Los_Angeles:20251217T130000
DTEND;TZID=America/Los_Angeles:20251217T150000
DTSTAMP:20260421T042841
CREATED:20250731T165509Z
LAST-MODIFIED:20250731T165509Z
UID:10001908-1765976400-1765983600@helphopehome.org
SUMMARY:Support That Moves You Forward
DESCRIPTION:
URL:https://helphopehome.org/event/support-that-moves-you-forward/2025-12-17/
LOCATION:200 Foremaster Lane\, 200 Foremaster Lane\, Las Vegas\, NV\, 89101\, United States
ORGANIZER;CN="CARE Complex":MAILTO:careinfo@carecomplex.org
END:VEVENT
BEGIN:VEVENT
DTSTART;TZID=America/Los_Angeles:20251215T090000
DTEND;TZID=America/Los_Angeles:20251215T120000
DTSTAMP:20260421T042841
CREATED:20250814T182658Z
LAST-MODIFIED:20250814T182658Z
UID:10002350-1765789200-1765800000@helphopehome.org
SUMMARY:Free Hair Cuts
DESCRIPTION:
URL:https://helphopehome.org/event/free-hair-cuts/2025-12-15/
LOCATION:CARE Complex\, 200 Foremaster Lane\, Las Vegas\, NV\, United States
CATEGORIES:Community Events
ORGANIZER;CN="CARE Complex":MAILTO:careinfo@carecomplex.org
END:VEVENT
BEGIN:VEVENT
DTSTART;TZID=America/Los_Angeles:20251215T080000
DTEND;TZID=America/Los_Angeles:20251215T120000
DTSTAMP:20260421T042841
CREATED:20250814T183002Z
LAST-MODIFIED:20250814T183002Z
UID:10002638-1765785600-1765800000@helphopehome.org
SUMMARY:Free Shower Truck
DESCRIPTION:
URL:https://helphopehome.org/event/free-shower-truck/2025-12-15/
LOCATION:CARE Complex\, 200 Foremaster Lane\, Las Vegas\, NV\, United States
CATEGORIES:Community Events
ORGANIZER;CN="CARE Complex":MAILTO:careinfo@carecomplex.org
END:VEVENT
BEGIN:VEVENT
DTSTART;TZID=America/Los_Angeles:20251210T130000
DTEND;TZID=America/Los_Angeles:20251210T150000
DTSTAMP:20260421T042841
CREATED:20250731T165509Z
LAST-MODIFIED:20250731T165509Z
UID:10001907-1765371600-1765378800@helphopehome.org
SUMMARY:Support That Moves You Forward
DESCRIPTION:
URL:https://helphopehome.org/event/support-that-moves-you-forward/2025-12-10/
LOCATION:200 Foremaster Lane\, 200 Foremaster Lane\, Las Vegas\, NV\, 89101\, United States
ORGANIZER;CN="CARE Complex":MAILTO:careinfo@carecomplex.org
END:VEVENT
BEGIN:VEVENT
DTSTART;TZID=America/Los_Angeles:20251208T090000
DTEND;TZID=America/Los_Angeles:20251208T120000
DTSTAMP:20260421T042841
CREATED:20250814T182658Z
LAST-MODIFIED:20250814T182658Z
UID:10002349-1765184400-1765195200@helphopehome.org
SUMMARY:Free Hair Cuts
DESCRIPTION:
URL:https://helphopehome.org/event/free-hair-cuts/2025-12-08/
LOCATION:CARE Complex\, 200 Foremaster Lane\, Las Vegas\, NV\, United States
CATEGORIES:Community Events
ORGANIZER;CN="CARE Complex":MAILTO:careinfo@carecomplex.org
END:VEVENT
BEGIN:VEVENT
DTSTART;TZID=America/Los_Angeles:20251208T080000
DTEND;TZID=America/Los_Angeles:20251208T120000
DTSTAMP:20260421T042841
CREATED:20250814T183002Z
LAST-MODIFIED:20250814T183002Z
UID:10002637-1765180800-1765195200@helphopehome.org
SUMMARY:Free Shower Truck
DESCRIPTION:
URL:https://helphopehome.org/event/free-shower-truck/2025-12-08/
LOCATION:CARE Complex\, 200 Foremaster Lane\, Las Vegas\, NV\, United States
CATEGORIES:Community Events
ORGANIZER;CN="CARE Complex":MAILTO:careinfo@carecomplex.org
END:VEVENT
BEGIN:VEVENT
DTSTART;TZID=America/Los_Angeles:20251206T090000
DTEND;TZID=America/Los_Angeles:20251206T120000
DTSTAMP:20260421T042841
CREATED:20250814T183227Z
LAST-MODIFIED:20250814T183227Z
UID:10002884-1765011600-1765022400@helphopehome.org
SUMMARY:Street Dogz: Free Grooming Day & Pet Supplies
DESCRIPTION:
URL:https://helphopehome.org/event/street-dogz-free-grooming-day-2/2025-12-06/
LOCATION:CARE Complex\, 200 Foremaster Lane\, Las Vegas\, NV\, United States
ORGANIZER;CN="Street Dogz":MAILTO:help@streetdogzlv.org
END:VEVENT
BEGIN:VEVENT
DTSTART;TZID=America/Los_Angeles:20251203T130000
DTEND;TZID=America/Los_Angeles:20251203T150000
DTSTAMP:20260421T042841
CREATED:20250731T165509Z
LAST-MODIFIED:20250731T165509Z
UID:10001906-1764766800-1764774000@helphopehome.org
SUMMARY:Support That Moves You Forward
DESCRIPTION:
URL:https://helphopehome.org/event/support-that-moves-you-forward/2025-12-03/
LOCATION:200 Foremaster Lane\, 200 Foremaster Lane\, Las Vegas\, NV\, 89101\, United States
ORGANIZER;CN="CARE Complex":MAILTO:careinfo@carecomplex.org
END:VEVENT
END:VCALENDAR