BEGIN:VCALENDAR
VERSION:2.0
PRODID:-//Help Hope Home - ECPv6.15.20//NONSGML v1.0//EN
CALSCALE:GREGORIAN
METHOD:PUBLISH
X-WR-CALNAME:Help Hope Home
X-ORIGINAL-URL:https://helphopehome.org
X-WR-CALDESC:Events for Help Hope Home
REFRESH-INTERVAL;VALUE=DURATION:PT1H
X-Robots-Tag:noindex
X-PUBLISHED-TTL:PT1H
BEGIN:VTIMEZONE
TZID:America/Los_Angeles
BEGIN:DAYLIGHT
TZOFFSETFROM:-0800
TZOFFSETTO:-0700
TZNAME:PDT
DTSTART:20240310T100000
END:DAYLIGHT
BEGIN:STANDARD
TZOFFSETFROM:-0700
TZOFFSETTO:-0800
TZNAME:PST
DTSTART:20241103T090000
END:STANDARD
BEGIN:DAYLIGHT
TZOFFSETFROM:-0800
TZOFFSETTO:-0700
TZNAME:PDT
DTSTART:20250309T100000
END:DAYLIGHT
BEGIN:STANDARD
TZOFFSETFROM:-0700
TZOFFSETTO:-0800
TZNAME:PST
DTSTART:20251102T090000
END:STANDARD
BEGIN:DAYLIGHT
TZOFFSETFROM:-0800
TZOFFSETTO:-0700
TZNAME:PDT
DTSTART:20260308T100000
END:DAYLIGHT
BEGIN:STANDARD
TZOFFSETFROM:-0700
TZOFFSETTO:-0800
TZNAME:PST
DTSTART:20261101T090000
END:STANDARD
END:VTIMEZONE
BEGIN:VEVENT
DTSTART;TZID=America/Los_Angeles:20251215T080000
DTEND;TZID=America/Los_Angeles:20251215T120000
DTSTAMP:20260421T072322
CREATED:20250814T183002Z
LAST-MODIFIED:20250814T183002Z
UID:10002638-1765785600-1765800000@helphopehome.org
SUMMARY:Free Shower Truck
DESCRIPTION:
URL:https://helphopehome.org/event/free-shower-truck/2025-12-15/
LOCATION:CARE Complex\, 200 Foremaster Lane\, Las Vegas\, NV\, United States
CATEGORIES:Community Events
ORGANIZER;CN="CARE Complex":MAILTO:careinfo@carecomplex.org
END:VEVENT
BEGIN:VEVENT
DTSTART;TZID=America/Los_Angeles:20251210T130000
DTEND;TZID=America/Los_Angeles:20251210T150000
DTSTAMP:20260421T072322
CREATED:20250731T165509Z
LAST-MODIFIED:20250731T165509Z
UID:10001907-1765371600-1765378800@helphopehome.org
SUMMARY:Support That Moves You Forward
DESCRIPTION:
URL:https://helphopehome.org/event/support-that-moves-you-forward/2025-12-10/
LOCATION:200 Foremaster Lane\, 200 Foremaster Lane\, Las Vegas\, NV\, 89101\, United States
ORGANIZER;CN="CARE Complex":MAILTO:careinfo@carecomplex.org
END:VEVENT
BEGIN:VEVENT
DTSTART;TZID=America/Los_Angeles:20251208T090000
DTEND;TZID=America/Los_Angeles:20251208T120000
DTSTAMP:20260421T072322
CREATED:20250814T182658Z
LAST-MODIFIED:20250814T182658Z
UID:10002349-1765184400-1765195200@helphopehome.org
SUMMARY:Free Hair Cuts
DESCRIPTION:
URL:https://helphopehome.org/event/free-hair-cuts/2025-12-08/
LOCATION:CARE Complex\, 200 Foremaster Lane\, Las Vegas\, NV\, United States
CATEGORIES:Community Events
ORGANIZER;CN="CARE Complex":MAILTO:careinfo@carecomplex.org
END:VEVENT
BEGIN:VEVENT
DTSTART;TZID=America/Los_Angeles:20251208T080000
DTEND;TZID=America/Los_Angeles:20251208T120000
DTSTAMP:20260421T072322
CREATED:20250814T183002Z
LAST-MODIFIED:20250814T183002Z
UID:10002637-1765180800-1765195200@helphopehome.org
SUMMARY:Free Shower Truck
DESCRIPTION:
URL:https://helphopehome.org/event/free-shower-truck/2025-12-08/
LOCATION:CARE Complex\, 200 Foremaster Lane\, Las Vegas\, NV\, United States
CATEGORIES:Community Events
ORGANIZER;CN="CARE Complex":MAILTO:careinfo@carecomplex.org
END:VEVENT
BEGIN:VEVENT
DTSTART;TZID=America/Los_Angeles:20251206T090000
DTEND;TZID=America/Los_Angeles:20251206T120000
DTSTAMP:20260421T072322
CREATED:20250814T183227Z
LAST-MODIFIED:20250814T183227Z
UID:10002884-1765011600-1765022400@helphopehome.org
SUMMARY:Street Dogz: Free Grooming Day & Pet Supplies
DESCRIPTION:
URL:https://helphopehome.org/event/street-dogz-free-grooming-day-2/2025-12-06/
LOCATION:CARE Complex\, 200 Foremaster Lane\, Las Vegas\, NV\, United States
ORGANIZER;CN="Street Dogz":MAILTO:help@streetdogzlv.org
END:VEVENT
BEGIN:VEVENT
DTSTART;TZID=America/Los_Angeles:20251203T130000
DTEND;TZID=America/Los_Angeles:20251203T150000
DTSTAMP:20260421T072322
CREATED:20250731T165509Z
LAST-MODIFIED:20250731T165509Z
UID:10001906-1764766800-1764774000@helphopehome.org
SUMMARY:Support That Moves You Forward
DESCRIPTION:
URL:https://helphopehome.org/event/support-that-moves-you-forward/2025-12-03/
LOCATION:200 Foremaster Lane\, 200 Foremaster Lane\, Las Vegas\, NV\, 89101\, United States
ORGANIZER;CN="CARE Complex":MAILTO:careinfo@carecomplex.org
END:VEVENT
BEGIN:VEVENT
DTSTART;TZID=America/Los_Angeles:20251201T090000
DTEND;TZID=America/Los_Angeles:20251201T120000
DTSTAMP:20260421T072322
CREATED:20250814T182658Z
LAST-MODIFIED:20250814T182658Z
UID:10002348-1764579600-1764590400@helphopehome.org
SUMMARY:Free Hair Cuts
DESCRIPTION:
URL:https://helphopehome.org/event/free-hair-cuts/2025-12-01/
LOCATION:CARE Complex\, 200 Foremaster Lane\, Las Vegas\, NV\, United States
CATEGORIES:Community Events
ORGANIZER;CN="CARE Complex":MAILTO:careinfo@carecomplex.org
END:VEVENT
BEGIN:VEVENT
DTSTART;TZID=America/Los_Angeles:20251201T080000
DTEND;TZID=America/Los_Angeles:20251201T120000
DTSTAMP:20260421T072322
CREATED:20250814T183002Z
LAST-MODIFIED:20250814T183002Z
UID:10002636-1764576000-1764590400@helphopehome.org
SUMMARY:Free Shower Truck
DESCRIPTION:
URL:https://helphopehome.org/event/free-shower-truck/2025-12-01/
LOCATION:CARE Complex\, 200 Foremaster Lane\, Las Vegas\, NV\, United States
CATEGORIES:Community Events
ORGANIZER;CN="CARE Complex":MAILTO:careinfo@carecomplex.org
END:VEVENT
BEGIN:VEVENT
DTSTART;TZID=America/Los_Angeles:20251126T130000
DTEND;TZID=America/Los_Angeles:20251126T150000
DTSTAMP:20260421T072322
CREATED:20250731T165509Z
LAST-MODIFIED:20250731T165509Z
UID:10001905-1764162000-1764169200@helphopehome.org
SUMMARY:Support That Moves You Forward
DESCRIPTION:
URL:https://helphopehome.org/event/support-that-moves-you-forward/2025-11-26/
LOCATION:200 Foremaster Lane\, 200 Foremaster Lane\, Las Vegas\, NV\, 89101\, United States
ORGANIZER;CN="CARE Complex":MAILTO:careinfo@carecomplex.org
END:VEVENT
BEGIN:VEVENT
DTSTART;TZID=America/Los_Angeles:20251124T090000
DTEND;TZID=America/Los_Angeles:20251124T120000
DTSTAMP:20260421T072322
CREATED:20250814T182658Z
LAST-MODIFIED:20250814T182658Z
UID:10002347-1763974800-1763985600@helphopehome.org
SUMMARY:Free Hair Cuts
DESCRIPTION:
URL:https://helphopehome.org/event/free-hair-cuts/2025-11-24/
LOCATION:CARE Complex\, 200 Foremaster Lane\, Las Vegas\, NV\, United States
CATEGORIES:Community Events
ORGANIZER;CN="CARE Complex":MAILTO:careinfo@carecomplex.org
END:VEVENT
BEGIN:VEVENT
DTSTART;TZID=America/Los_Angeles:20251124T080000
DTEND;TZID=America/Los_Angeles:20251124T120000
DTSTAMP:20260421T072322
CREATED:20250814T183002Z
LAST-MODIFIED:20250814T183002Z
UID:10002635-1763971200-1763985600@helphopehome.org
SUMMARY:Free Shower Truck
DESCRIPTION:
URL:https://helphopehome.org/event/free-shower-truck/2025-11-24/
LOCATION:CARE Complex\, 200 Foremaster Lane\, Las Vegas\, NV\, United States
CATEGORIES:Community Events
ORGANIZER;CN="CARE Complex":MAILTO:careinfo@carecomplex.org
END:VEVENT
BEGIN:VEVENT
DTSTART;TZID=America/Los_Angeles:20251119T130000
DTEND;TZID=America/Los_Angeles:20251119T150000
DTSTAMP:20260421T072322
CREATED:20250731T165509Z
LAST-MODIFIED:20250731T165509Z
UID:10001904-1763557200-1763564400@helphopehome.org
SUMMARY:Support That Moves You Forward
DESCRIPTION:
URL:https://helphopehome.org/event/support-that-moves-you-forward/2025-11-19/
LOCATION:200 Foremaster Lane\, 200 Foremaster Lane\, Las Vegas\, NV\, 89101\, United States
ORGANIZER;CN="CARE Complex":MAILTO:careinfo@carecomplex.org
END:VEVENT
BEGIN:VEVENT
DTSTART;TZID=America/Los_Angeles:20251117T090000
DTEND;TZID=America/Los_Angeles:20251117T120000
DTSTAMP:20260421T072322
CREATED:20250814T182658Z
LAST-MODIFIED:20250814T182658Z
UID:10002346-1763370000-1763380800@helphopehome.org
SUMMARY:Free Hair Cuts
DESCRIPTION:
URL:https://helphopehome.org/event/free-hair-cuts/2025-11-17/
LOCATION:CARE Complex\, 200 Foremaster Lane\, Las Vegas\, NV\, United States
CATEGORIES:Community Events
ORGANIZER;CN="CARE Complex":MAILTO:careinfo@carecomplex.org
END:VEVENT
BEGIN:VEVENT
DTSTART;TZID=America/Los_Angeles:20251117T080000
DTEND;TZID=America/Los_Angeles:20251117T120000
DTSTAMP:20260421T072322
CREATED:20250814T183002Z
LAST-MODIFIED:20250814T183002Z
UID:10002634-1763366400-1763380800@helphopehome.org
SUMMARY:Free Shower Truck
DESCRIPTION:
URL:https://helphopehome.org/event/free-shower-truck/2025-11-17/
LOCATION:CARE Complex\, 200 Foremaster Lane\, Las Vegas\, NV\, United States
CATEGORIES:Community Events
ORGANIZER;CN="CARE Complex":MAILTO:careinfo@carecomplex.org
END:VEVENT
BEGIN:VEVENT
DTSTART;TZID=America/Los_Angeles:20251112T130000
DTEND;TZID=America/Los_Angeles:20251112T150000
DTSTAMP:20260421T072322
CREATED:20250731T165509Z
LAST-MODIFIED:20250731T165509Z
UID:10001903-1762952400-1762959600@helphopehome.org
SUMMARY:Support That Moves You Forward
DESCRIPTION:
URL:https://helphopehome.org/event/support-that-moves-you-forward/2025-11-12/
LOCATION:200 Foremaster Lane\, 200 Foremaster Lane\, Las Vegas\, NV\, 89101\, United States
ORGANIZER;CN="CARE Complex":MAILTO:careinfo@carecomplex.org
END:VEVENT
BEGIN:VEVENT
DTSTART;TZID=America/Los_Angeles:20251110T090000
DTEND;TZID=America/Los_Angeles:20251110T120000
DTSTAMP:20260421T072322
CREATED:20250814T182658Z
LAST-MODIFIED:20250814T182658Z
UID:10002345-1762765200-1762776000@helphopehome.org
SUMMARY:Free Hair Cuts
DESCRIPTION:
URL:https://helphopehome.org/event/free-hair-cuts/2025-11-10/
LOCATION:CARE Complex\, 200 Foremaster Lane\, Las Vegas\, NV\, United States
CATEGORIES:Community Events
ORGANIZER;CN="CARE Complex":MAILTO:careinfo@carecomplex.org
END:VEVENT
BEGIN:VEVENT
DTSTART;TZID=America/Los_Angeles:20251110T080000
DTEND;TZID=America/Los_Angeles:20251110T120000
DTSTAMP:20260421T072322
CREATED:20250814T183002Z
LAST-MODIFIED:20250814T183002Z
UID:10002633-1762761600-1762776000@helphopehome.org
SUMMARY:Free Shower Truck
DESCRIPTION:
URL:https://helphopehome.org/event/free-shower-truck/2025-11-10/
LOCATION:CARE Complex\, 200 Foremaster Lane\, Las Vegas\, NV\, United States
CATEGORIES:Community Events
ORGANIZER;CN="CARE Complex":MAILTO:careinfo@carecomplex.org
END:VEVENT
BEGIN:VEVENT
DTSTART;TZID=America/Los_Angeles:20251105T130000
DTEND;TZID=America/Los_Angeles:20251105T150000
DTSTAMP:20260421T072322
CREATED:20250731T165509Z
LAST-MODIFIED:20250731T165509Z
UID:10001902-1762347600-1762354800@helphopehome.org
SUMMARY:Support That Moves You Forward
DESCRIPTION:
URL:https://helphopehome.org/event/support-that-moves-you-forward/2025-11-05/
LOCATION:200 Foremaster Lane\, 200 Foremaster Lane\, Las Vegas\, NV\, 89101\, United States
ORGANIZER;CN="CARE Complex":MAILTO:careinfo@carecomplex.org
END:VEVENT
BEGIN:VEVENT
DTSTART;TZID=America/Los_Angeles:20251103T090000
DTEND;TZID=America/Los_Angeles:20251103T120000
DTSTAMP:20260421T072322
CREATED:20250814T182658Z
LAST-MODIFIED:20250814T182658Z
UID:10002344-1762160400-1762171200@helphopehome.org
SUMMARY:Free Hair Cuts
DESCRIPTION:
URL:https://helphopehome.org/event/free-hair-cuts/2025-11-03/
LOCATION:CARE Complex\, 200 Foremaster Lane\, Las Vegas\, NV\, United States
CATEGORIES:Community Events
ORGANIZER;CN="CARE Complex":MAILTO:careinfo@carecomplex.org
END:VEVENT
BEGIN:VEVENT
DTSTART;TZID=America/Los_Angeles:20251103T080000
DTEND;TZID=America/Los_Angeles:20251103T120000
DTSTAMP:20260421T072322
CREATED:20250814T183002Z
LAST-MODIFIED:20250814T183002Z
UID:10002632-1762156800-1762171200@helphopehome.org
SUMMARY:Free Shower Truck
DESCRIPTION:
URL:https://helphopehome.org/event/free-shower-truck/2025-11-03/
LOCATION:CARE Complex\, 200 Foremaster Lane\, Las Vegas\, NV\, United States
CATEGORIES:Community Events
ORGANIZER;CN="CARE Complex":MAILTO:careinfo@carecomplex.org
END:VEVENT
BEGIN:VEVENT
DTSTART;TZID=America/Los_Angeles:20251101T090000
DTEND;TZID=America/Los_Angeles:20251101T120000
DTSTAMP:20260421T072322
CREATED:20251029T235333Z
LAST-MODIFIED:20251029T235333Z
UID:10002898-1761987600-1761998400@helphopehome.org
SUMMARY:Critical Assistance Relief Effort (CARE) Fair
DESCRIPTION:
URL:https://helphopehome.org/event/critical-assistance-relief-effort-care-fair/
LOCATION:CARE Complex\, 200 Foremaster Lane\, Las Vegas\, NV\, United States
ORGANIZER;CN="CARE Complex":MAILTO:careinfo@carecomplex.org
END:VEVENT
BEGIN:VEVENT
DTSTART;TZID=America/Los_Angeles:20251101T090000
DTEND;TZID=America/Los_Angeles:20251101T120000
DTSTAMP:20260421T072322
CREATED:20250814T183227Z
LAST-MODIFIED:20250814T183227Z
UID:10002883-1761987600-1761998400@helphopehome.org
SUMMARY:Street Dogz: Free Grooming Day & Pet Supplies
DESCRIPTION:
URL:https://helphopehome.org/event/street-dogz-free-grooming-day-2/2025-11-01/
LOCATION:CARE Complex\, 200 Foremaster Lane\, Las Vegas\, NV\, United States
ORGANIZER;CN="Street Dogz":MAILTO:help@streetdogzlv.org
END:VEVENT
BEGIN:VEVENT
DTSTART;TZID=America/Los_Angeles:20251029T130000
DTEND;TZID=America/Los_Angeles:20251029T150000
DTSTAMP:20260421T072322
CREATED:20250731T165509Z
LAST-MODIFIED:20250731T165509Z
UID:10001901-1761742800-1761750000@helphopehome.org
SUMMARY:Support That Moves You Forward
DESCRIPTION:
URL:https://helphopehome.org/event/support-that-moves-you-forward/2025-10-29/
LOCATION:200 Foremaster Lane\, 200 Foremaster Lane\, Las Vegas\, NV\, 89101\, United States
ORGANIZER;CN="CARE Complex":MAILTO:careinfo@carecomplex.org
END:VEVENT
BEGIN:VEVENT
DTSTART;TZID=America/Los_Angeles:20251027T090000
DTEND;TZID=America/Los_Angeles:20251027T120000
DTSTAMP:20260421T072322
CREATED:20250814T182658Z
LAST-MODIFIED:20250814T182658Z
UID:10002343-1761555600-1761566400@helphopehome.org
SUMMARY:Free Hair Cuts
DESCRIPTION:
URL:https://helphopehome.org/event/free-hair-cuts/2025-10-27/
LOCATION:CARE Complex\, 200 Foremaster Lane\, Las Vegas\, NV\, United States
CATEGORIES:Community Events
ORGANIZER;CN="CARE Complex":MAILTO:careinfo@carecomplex.org
END:VEVENT
BEGIN:VEVENT
DTSTART;TZID=America/Los_Angeles:20251027T080000
DTEND;TZID=America/Los_Angeles:20251027T120000
DTSTAMP:20260421T072322
CREATED:20250814T183002Z
LAST-MODIFIED:20250814T183002Z
UID:10002631-1761552000-1761566400@helphopehome.org
SUMMARY:Free Shower Truck
DESCRIPTION:
URL:https://helphopehome.org/event/free-shower-truck/2025-10-27/
LOCATION:CARE Complex\, 200 Foremaster Lane\, Las Vegas\, NV\, United States
CATEGORIES:Community Events
ORGANIZER;CN="CARE Complex":MAILTO:careinfo@carecomplex.org
END:VEVENT
BEGIN:VEVENT
DTSTART;TZID=America/Los_Angeles:20251022T130000
DTEND;TZID=America/Los_Angeles:20251022T150000
DTSTAMP:20260421T072322
CREATED:20250731T165509Z
LAST-MODIFIED:20250731T165509Z
UID:10001900-1761138000-1761145200@helphopehome.org
SUMMARY:Support That Moves You Forward
DESCRIPTION:
URL:https://helphopehome.org/event/support-that-moves-you-forward/2025-10-22/
LOCATION:200 Foremaster Lane\, 200 Foremaster Lane\, Las Vegas\, NV\, 89101\, United States
ORGANIZER;CN="CARE Complex":MAILTO:careinfo@carecomplex.org
END:VEVENT
BEGIN:VEVENT
DTSTART;TZID=America/Los_Angeles:20251020T090000
DTEND;TZID=America/Los_Angeles:20251020T120000
DTSTAMP:20260421T072322
CREATED:20250814T182658Z
LAST-MODIFIED:20250814T182658Z
UID:10002342-1760950800-1760961600@helphopehome.org
SUMMARY:Free Hair Cuts
DESCRIPTION:
URL:https://helphopehome.org/event/free-hair-cuts/2025-10-20/
LOCATION:CARE Complex\, 200 Foremaster Lane\, Las Vegas\, NV\, United States
CATEGORIES:Community Events
ORGANIZER;CN="CARE Complex":MAILTO:careinfo@carecomplex.org
END:VEVENT
BEGIN:VEVENT
DTSTART;TZID=America/Los_Angeles:20251020T080000
DTEND;TZID=America/Los_Angeles:20251020T120000
DTSTAMP:20260421T072322
CREATED:20250814T183002Z
LAST-MODIFIED:20250814T183002Z
UID:10002630-1760947200-1760961600@helphopehome.org
SUMMARY:Free Shower Truck
DESCRIPTION:
URL:https://helphopehome.org/event/free-shower-truck/2025-10-20/
LOCATION:CARE Complex\, 200 Foremaster Lane\, Las Vegas\, NV\, United States
CATEGORIES:Community Events
ORGANIZER;CN="CARE Complex":MAILTO:careinfo@carecomplex.org
END:VEVENT
BEGIN:VEVENT
DTSTART;TZID=America/Los_Angeles:20251015T130000
DTEND;TZID=America/Los_Angeles:20251015T150000
DTSTAMP:20260421T072322
CREATED:20250731T165509Z
LAST-MODIFIED:20250731T165509Z
UID:10001899-1760533200-1760540400@helphopehome.org
SUMMARY:Support That Moves You Forward
DESCRIPTION:
URL:https://helphopehome.org/event/support-that-moves-you-forward/2025-10-15/
LOCATION:200 Foremaster Lane\, 200 Foremaster Lane\, Las Vegas\, NV\, 89101\, United States
ORGANIZER;CN="CARE Complex":MAILTO:careinfo@carecomplex.org
END:VEVENT
BEGIN:VEVENT
DTSTART;TZID=America/Los_Angeles:20251013T090000
DTEND;TZID=America/Los_Angeles:20251013T120000
DTSTAMP:20260421T072322
CREATED:20250814T182658Z
LAST-MODIFIED:20250814T182658Z
UID:10002341-1760346000-1760356800@helphopehome.org
SUMMARY:Free Hair Cuts
DESCRIPTION:
URL:https://helphopehome.org/event/free-hair-cuts/2025-10-13/
LOCATION:CARE Complex\, 200 Foremaster Lane\, Las Vegas\, NV\, United States
CATEGORIES:Community Events
ORGANIZER;CN="CARE Complex":MAILTO:careinfo@carecomplex.org
END:VEVENT
END:VCALENDAR