BEGIN:VCALENDAR
VERSION:2.0
PRODID:-//Help Hope Home - ECPv6.15.20//NONSGML v1.0//EN
CALSCALE:GREGORIAN
METHOD:PUBLISH
X-ORIGINAL-URL:https://helphopehome.org
X-WR-CALDESC:Events for Help Hope Home
REFRESH-INTERVAL;VALUE=DURATION:PT1H
X-Robots-Tag:noindex
X-PUBLISHED-TTL:PT1H
BEGIN:VTIMEZONE
TZID:America/Los_Angeles
BEGIN:DAYLIGHT
TZOFFSETFROM:-0800
TZOFFSETTO:-0700
TZNAME:PDT
DTSTART:20240310T100000
END:DAYLIGHT
BEGIN:STANDARD
TZOFFSETFROM:-0700
TZOFFSETTO:-0800
TZNAME:PST
DTSTART:20241103T090000
END:STANDARD
BEGIN:DAYLIGHT
TZOFFSETFROM:-0800
TZOFFSETTO:-0700
TZNAME:PDT
DTSTART:20250309T100000
END:DAYLIGHT
BEGIN:STANDARD
TZOFFSETFROM:-0700
TZOFFSETTO:-0800
TZNAME:PST
DTSTART:20251102T090000
END:STANDARD
BEGIN:DAYLIGHT
TZOFFSETFROM:-0800
TZOFFSETTO:-0700
TZNAME:PDT
DTSTART:20260308T100000
END:DAYLIGHT
BEGIN:STANDARD
TZOFFSETFROM:-0700
TZOFFSETTO:-0800
TZNAME:PST
DTSTART:20261101T090000
END:STANDARD
END:VTIMEZONE
BEGIN:VEVENT
DTSTART;TZID=America/Los_Angeles:20251027T080000
DTEND;TZID=America/Los_Angeles:20251027T120000
DTSTAMP:20260421T161324
CREATED:20250814T183002Z
LAST-MODIFIED:20250814T183002Z
UID:10002631-1761552000-1761566400@helphopehome.org
SUMMARY:Free Shower Truck
DESCRIPTION:
URL:https://helphopehome.org/event/free-shower-truck/2025-10-27/
LOCATION:CARE Complex\, 200 Foremaster Lane\, Las Vegas\, NV\, United States
CATEGORIES:Community Events
ORGANIZER;CN="CARE Complex":MAILTO:careinfo@carecomplex.org
END:VEVENT
BEGIN:VEVENT
DTSTART;TZID=America/Los_Angeles:20251022T130000
DTEND;TZID=America/Los_Angeles:20251022T150000
DTSTAMP:20260421T161324
CREATED:20250731T165509Z
LAST-MODIFIED:20250731T165509Z
UID:10001900-1761138000-1761145200@helphopehome.org
SUMMARY:Support That Moves You Forward
DESCRIPTION:
URL:https://helphopehome.org/event/support-that-moves-you-forward/2025-10-22/
LOCATION:200 Foremaster Lane\, 200 Foremaster Lane\, Las Vegas\, NV\, 89101\, United States
ORGANIZER;CN="CARE Complex":MAILTO:careinfo@carecomplex.org
END:VEVENT
BEGIN:VEVENT
DTSTART;TZID=America/Los_Angeles:20251020T090000
DTEND;TZID=America/Los_Angeles:20251020T120000
DTSTAMP:20260421T161324
CREATED:20250814T182658Z
LAST-MODIFIED:20250814T182658Z
UID:10002342-1760950800-1760961600@helphopehome.org
SUMMARY:Free Hair Cuts
DESCRIPTION:
URL:https://helphopehome.org/event/free-hair-cuts/2025-10-20/
LOCATION:CARE Complex\, 200 Foremaster Lane\, Las Vegas\, NV\, United States
CATEGORIES:Community Events
ORGANIZER;CN="CARE Complex":MAILTO:careinfo@carecomplex.org
END:VEVENT
BEGIN:VEVENT
DTSTART;TZID=America/Los_Angeles:20251020T080000
DTEND;TZID=America/Los_Angeles:20251020T120000
DTSTAMP:20260421T161324
CREATED:20250814T183002Z
LAST-MODIFIED:20250814T183002Z
UID:10002630-1760947200-1760961600@helphopehome.org
SUMMARY:Free Shower Truck
DESCRIPTION:
URL:https://helphopehome.org/event/free-shower-truck/2025-10-20/
LOCATION:CARE Complex\, 200 Foremaster Lane\, Las Vegas\, NV\, United States
CATEGORIES:Community Events
ORGANIZER;CN="CARE Complex":MAILTO:careinfo@carecomplex.org
END:VEVENT
BEGIN:VEVENT
DTSTART;TZID=America/Los_Angeles:20251015T130000
DTEND;TZID=America/Los_Angeles:20251015T150000
DTSTAMP:20260421T161324
CREATED:20250731T165509Z
LAST-MODIFIED:20250731T165509Z
UID:10001899-1760533200-1760540400@helphopehome.org
SUMMARY:Support That Moves You Forward
DESCRIPTION:
URL:https://helphopehome.org/event/support-that-moves-you-forward/2025-10-15/
LOCATION:200 Foremaster Lane\, 200 Foremaster Lane\, Las Vegas\, NV\, 89101\, United States
ORGANIZER;CN="CARE Complex":MAILTO:careinfo@carecomplex.org
END:VEVENT
BEGIN:VEVENT
DTSTART;TZID=America/Los_Angeles:20251013T090000
DTEND;TZID=America/Los_Angeles:20251013T120000
DTSTAMP:20260421T161324
CREATED:20250814T182658Z
LAST-MODIFIED:20250814T182658Z
UID:10002341-1760346000-1760356800@helphopehome.org
SUMMARY:Free Hair Cuts
DESCRIPTION:
URL:https://helphopehome.org/event/free-hair-cuts/2025-10-13/
LOCATION:CARE Complex\, 200 Foremaster Lane\, Las Vegas\, NV\, United States
CATEGORIES:Community Events
ORGANIZER;CN="CARE Complex":MAILTO:careinfo@carecomplex.org
END:VEVENT
BEGIN:VEVENT
DTSTART;TZID=America/Los_Angeles:20251013T080000
DTEND;TZID=America/Los_Angeles:20251013T120000
DTSTAMP:20260421T161324
CREATED:20250814T183002Z
LAST-MODIFIED:20250814T183002Z
UID:10002629-1760342400-1760356800@helphopehome.org
SUMMARY:Free Shower Truck
DESCRIPTION:
URL:https://helphopehome.org/event/free-shower-truck/2025-10-13/
LOCATION:CARE Complex\, 200 Foremaster Lane\, Las Vegas\, NV\, United States
CATEGORIES:Community Events
ORGANIZER;CN="CARE Complex":MAILTO:careinfo@carecomplex.org
END:VEVENT
BEGIN:VEVENT
DTSTART;TZID=America/Los_Angeles:20251008T130000
DTEND;TZID=America/Los_Angeles:20251008T150000
DTSTAMP:20260421T161324
CREATED:20250731T165509Z
LAST-MODIFIED:20250731T165509Z
UID:10001898-1759928400-1759935600@helphopehome.org
SUMMARY:Support That Moves You Forward
DESCRIPTION:
URL:https://helphopehome.org/event/support-that-moves-you-forward/2025-10-08/
LOCATION:200 Foremaster Lane\, 200 Foremaster Lane\, Las Vegas\, NV\, 89101\, United States
ORGANIZER;CN="CARE Complex":MAILTO:careinfo@carecomplex.org
END:VEVENT
BEGIN:VEVENT
DTSTART;TZID=America/Los_Angeles:20251006T090000
DTEND;TZID=America/Los_Angeles:20251006T120000
DTSTAMP:20260421T161324
CREATED:20250814T182658Z
LAST-MODIFIED:20250814T182658Z
UID:10002340-1759741200-1759752000@helphopehome.org
SUMMARY:Free Hair Cuts
DESCRIPTION:
URL:https://helphopehome.org/event/free-hair-cuts/2025-10-06/
LOCATION:CARE Complex\, 200 Foremaster Lane\, Las Vegas\, NV\, United States
CATEGORIES:Community Events
ORGANIZER;CN="CARE Complex":MAILTO:careinfo@carecomplex.org
END:VEVENT
BEGIN:VEVENT
DTSTART;TZID=America/Los_Angeles:20251006T080000
DTEND;TZID=America/Los_Angeles:20251006T120000
DTSTAMP:20260421T161324
CREATED:20250814T183002Z
LAST-MODIFIED:20250814T183002Z
UID:10002628-1759737600-1759752000@helphopehome.org
SUMMARY:Free Shower Truck
DESCRIPTION:
URL:https://helphopehome.org/event/free-shower-truck/2025-10-06/
LOCATION:CARE Complex\, 200 Foremaster Lane\, Las Vegas\, NV\, United States
CATEGORIES:Community Events
ORGANIZER;CN="CARE Complex":MAILTO:careinfo@carecomplex.org
END:VEVENT
BEGIN:VEVENT
DTSTART;TZID=America/Los_Angeles:20251004T090000
DTEND;TZID=America/Los_Angeles:20251004T120000
DTSTAMP:20260421T161324
CREATED:20250814T183227Z
LAST-MODIFIED:20250814T183227Z
UID:10002882-1759568400-1759579200@helphopehome.org
SUMMARY:Street Dogz: Free Grooming Day & Pet Supplies
DESCRIPTION:
URL:https://helphopehome.org/event/street-dogz-free-grooming-day-2/2025-10-04/
LOCATION:CARE Complex\, 200 Foremaster Lane\, Las Vegas\, NV\, United States
ORGANIZER;CN="Street Dogz":MAILTO:help@streetdogzlv.org
END:VEVENT
BEGIN:VEVENT
DTSTART;TZID=America/Los_Angeles:20251001T130000
DTEND;TZID=America/Los_Angeles:20251001T150000
DTSTAMP:20260421T161324
CREATED:20250731T165509Z
LAST-MODIFIED:20250731T165509Z
UID:10001897-1759323600-1759330800@helphopehome.org
SUMMARY:Support That Moves You Forward
DESCRIPTION:
URL:https://helphopehome.org/event/support-that-moves-you-forward/2025-10-01/
LOCATION:200 Foremaster Lane\, 200 Foremaster Lane\, Las Vegas\, NV\, 89101\, United States
ORGANIZER;CN="CARE Complex":MAILTO:careinfo@carecomplex.org
END:VEVENT
BEGIN:VEVENT
DTSTART;TZID=America/Los_Angeles:20250929T090000
DTEND;TZID=America/Los_Angeles:20250929T120000
DTSTAMP:20260421T161324
CREATED:20250814T182658Z
LAST-MODIFIED:20250814T182658Z
UID:10002339-1759136400-1759147200@helphopehome.org
SUMMARY:Free Hair Cuts
DESCRIPTION:
URL:https://helphopehome.org/event/free-hair-cuts/2025-09-29/
LOCATION:CARE Complex\, 200 Foremaster Lane\, Las Vegas\, NV\, United States
CATEGORIES:Community Events
ORGANIZER;CN="CARE Complex":MAILTO:careinfo@carecomplex.org
END:VEVENT
BEGIN:VEVENT
DTSTART;TZID=America/Los_Angeles:20250929T080000
DTEND;TZID=America/Los_Angeles:20250929T120000
DTSTAMP:20260421T161324
CREATED:20250814T183002Z
LAST-MODIFIED:20250814T183002Z
UID:10002627-1759132800-1759147200@helphopehome.org
SUMMARY:Free Shower Truck
DESCRIPTION:
URL:https://helphopehome.org/event/free-shower-truck/2025-09-29/
LOCATION:CARE Complex\, 200 Foremaster Lane\, Las Vegas\, NV\, United States
CATEGORIES:Community Events
ORGANIZER;CN="CARE Complex":MAILTO:careinfo@carecomplex.org
END:VEVENT
BEGIN:VEVENT
DTSTART;TZID=America/Los_Angeles:20250924T130000
DTEND;TZID=America/Los_Angeles:20250924T150000
DTSTAMP:20260421T161324
CREATED:20250731T165509Z
LAST-MODIFIED:20250731T165509Z
UID:10001896-1758718800-1758726000@helphopehome.org
SUMMARY:Support That Moves You Forward
DESCRIPTION:
URL:https://helphopehome.org/event/support-that-moves-you-forward/2025-09-24/
LOCATION:200 Foremaster Lane\, 200 Foremaster Lane\, Las Vegas\, NV\, 89101\, United States
ORGANIZER;CN="CARE Complex":MAILTO:careinfo@carecomplex.org
END:VEVENT
BEGIN:VEVENT
DTSTART;TZID=America/Los_Angeles:20250922T090000
DTEND;TZID=America/Los_Angeles:20250922T120000
DTSTAMP:20260421T161325
CREATED:20250814T182658Z
LAST-MODIFIED:20250814T182658Z
UID:10002338-1758531600-1758542400@helphopehome.org
SUMMARY:Free Hair Cuts
DESCRIPTION:
URL:https://helphopehome.org/event/free-hair-cuts/2025-09-22/
LOCATION:CARE Complex\, 200 Foremaster Lane\, Las Vegas\, NV\, United States
CATEGORIES:Community Events
ORGANIZER;CN="CARE Complex":MAILTO:careinfo@carecomplex.org
END:VEVENT
BEGIN:VEVENT
DTSTART;TZID=America/Los_Angeles:20250922T080000
DTEND;TZID=America/Los_Angeles:20250922T120000
DTSTAMP:20260421T161325
CREATED:20250814T183002Z
LAST-MODIFIED:20250814T183002Z
UID:10002626-1758528000-1758542400@helphopehome.org
SUMMARY:Free Shower Truck
DESCRIPTION:
URL:https://helphopehome.org/event/free-shower-truck/2025-09-22/
LOCATION:CARE Complex\, 200 Foremaster Lane\, Las Vegas\, NV\, United States
CATEGORIES:Community Events
ORGANIZER;CN="CARE Complex":MAILTO:careinfo@carecomplex.org
END:VEVENT
BEGIN:VEVENT
DTSTART;TZID=America/Los_Angeles:20250917T130000
DTEND;TZID=America/Los_Angeles:20250917T150000
DTSTAMP:20260421T161325
CREATED:20250731T165509Z
LAST-MODIFIED:20250731T165509Z
UID:10001895-1758114000-1758121200@helphopehome.org
SUMMARY:Support That Moves You Forward
DESCRIPTION:
URL:https://helphopehome.org/event/support-that-moves-you-forward/2025-09-17/
LOCATION:200 Foremaster Lane\, 200 Foremaster Lane\, Las Vegas\, NV\, 89101\, United States
ORGANIZER;CN="CARE Complex":MAILTO:careinfo@carecomplex.org
END:VEVENT
BEGIN:VEVENT
DTSTART;TZID=America/Los_Angeles:20250915T090000
DTEND;TZID=America/Los_Angeles:20250915T120000
DTSTAMP:20260421T161325
CREATED:20250814T182658Z
LAST-MODIFIED:20250814T182658Z
UID:10002337-1757926800-1757937600@helphopehome.org
SUMMARY:Free Hair Cuts
DESCRIPTION:
URL:https://helphopehome.org/event/free-hair-cuts/2025-09-15/
LOCATION:CARE Complex\, 200 Foremaster Lane\, Las Vegas\, NV\, United States
CATEGORIES:Community Events
ORGANIZER;CN="CARE Complex":MAILTO:careinfo@carecomplex.org
END:VEVENT
BEGIN:VEVENT
DTSTART;TZID=America/Los_Angeles:20250915T080000
DTEND;TZID=America/Los_Angeles:20250915T120000
DTSTAMP:20260421T161325
CREATED:20250814T183002Z
LAST-MODIFIED:20250814T183002Z
UID:10002625-1757923200-1757937600@helphopehome.org
SUMMARY:Free Shower Truck
DESCRIPTION:
URL:https://helphopehome.org/event/free-shower-truck/2025-09-15/
LOCATION:CARE Complex\, 200 Foremaster Lane\, Las Vegas\, NV\, United States
CATEGORIES:Community Events
ORGANIZER;CN="CARE Complex":MAILTO:careinfo@carecomplex.org
END:VEVENT
BEGIN:VEVENT
DTSTART;TZID=America/Los_Angeles:20250910T130000
DTEND;TZID=America/Los_Angeles:20250910T150000
DTSTAMP:20260421T161325
CREATED:20250731T165509Z
LAST-MODIFIED:20250731T165509Z
UID:10001894-1757509200-1757516400@helphopehome.org
SUMMARY:Support That Moves You Forward
DESCRIPTION:
URL:https://helphopehome.org/event/support-that-moves-you-forward/2025-09-10/
LOCATION:200 Foremaster Lane\, 200 Foremaster Lane\, Las Vegas\, NV\, 89101\, United States
ORGANIZER;CN="CARE Complex":MAILTO:careinfo@carecomplex.org
END:VEVENT
BEGIN:VEVENT
DTSTART;TZID=America/Los_Angeles:20250908T090000
DTEND;TZID=America/Los_Angeles:20250908T120000
DTSTAMP:20260421T161325
CREATED:20250814T182658Z
LAST-MODIFIED:20250814T182658Z
UID:10002336-1757322000-1757332800@helphopehome.org
SUMMARY:Free Hair Cuts
DESCRIPTION:
URL:https://helphopehome.org/event/free-hair-cuts/2025-09-08/
LOCATION:CARE Complex\, 200 Foremaster Lane\, Las Vegas\, NV\, United States
CATEGORIES:Community Events
ORGANIZER;CN="CARE Complex":MAILTO:careinfo@carecomplex.org
END:VEVENT
BEGIN:VEVENT
DTSTART;TZID=America/Los_Angeles:20250908T080000
DTEND;TZID=America/Los_Angeles:20250908T120000
DTSTAMP:20260421T161325
CREATED:20250814T183002Z
LAST-MODIFIED:20250814T183002Z
UID:10002624-1757318400-1757332800@helphopehome.org
SUMMARY:Free Shower Truck
DESCRIPTION:
URL:https://helphopehome.org/event/free-shower-truck/2025-09-08/
LOCATION:CARE Complex\, 200 Foremaster Lane\, Las Vegas\, NV\, United States
CATEGORIES:Community Events
ORGANIZER;CN="CARE Complex":MAILTO:careinfo@carecomplex.org
END:VEVENT
BEGIN:VEVENT
DTSTART;TZID=America/Los_Angeles:20250906T090000
DTEND;TZID=America/Los_Angeles:20250906T120000
DTSTAMP:20260421T161325
CREATED:20250814T183227Z
LAST-MODIFIED:20250814T183227Z
UID:10001701-1757149200-1757160000@helphopehome.org
SUMMARY:Street Dogz: Free Grooming Day & Pet Supplies
DESCRIPTION:
URL:https://helphopehome.org/event/street-dogz-free-grooming-day-2/2025-09-06/
LOCATION:CARE Complex\, 200 Foremaster Lane\, Las Vegas\, NV\, United States
ORGANIZER;CN="Street Dogz":MAILTO:help@streetdogzlv.org
END:VEVENT
BEGIN:VEVENT
DTSTART;TZID=America/Los_Angeles:20250903T130000
DTEND;TZID=America/Los_Angeles:20250903T150000
DTSTAMP:20260421T161325
CREATED:20250731T165509Z
LAST-MODIFIED:20250731T165509Z
UID:10001893-1756904400-1756911600@helphopehome.org
SUMMARY:Support That Moves You Forward
DESCRIPTION:
URL:https://helphopehome.org/event/support-that-moves-you-forward/2025-09-03/
LOCATION:200 Foremaster Lane\, 200 Foremaster Lane\, Las Vegas\, NV\, 89101\, United States
ORGANIZER;CN="CARE Complex":MAILTO:careinfo@carecomplex.org
END:VEVENT
BEGIN:VEVENT
DTSTART;TZID=America/Los_Angeles:20250901T090000
DTEND;TZID=America/Los_Angeles:20250901T120000
DTSTAMP:20260421T161325
CREATED:20250814T182658Z
LAST-MODIFIED:20250814T182658Z
UID:10002335-1756717200-1756728000@helphopehome.org
SUMMARY:Free Hair Cuts
DESCRIPTION:
URL:https://helphopehome.org/event/free-hair-cuts/2025-09-01/
LOCATION:CARE Complex\, 200 Foremaster Lane\, Las Vegas\, NV\, United States
CATEGORIES:Community Events
ORGANIZER;CN="CARE Complex":MAILTO:careinfo@carecomplex.org
END:VEVENT
BEGIN:VEVENT
DTSTART;TZID=America/Los_Angeles:20250901T080000
DTEND;TZID=America/Los_Angeles:20250901T120000
DTSTAMP:20260421T161325
CREATED:20250814T183002Z
LAST-MODIFIED:20250814T183002Z
UID:10002623-1756713600-1756728000@helphopehome.org
SUMMARY:Free Shower Truck
DESCRIPTION:
URL:https://helphopehome.org/event/free-shower-truck/2025-09-01/
LOCATION:CARE Complex\, 200 Foremaster Lane\, Las Vegas\, NV\, United States
CATEGORIES:Community Events
ORGANIZER;CN="CARE Complex":MAILTO:careinfo@carecomplex.org
END:VEVENT
BEGIN:VEVENT
DTSTART;TZID=America/Los_Angeles:20250827T130000
DTEND;TZID=America/Los_Angeles:20250827T150000
DTSTAMP:20260421T161325
CREATED:20250731T165509Z
LAST-MODIFIED:20250731T165509Z
UID:10001892-1756299600-1756306800@helphopehome.org
SUMMARY:Support That Moves You Forward
DESCRIPTION:
URL:https://helphopehome.org/event/support-that-moves-you-forward/2025-08-27/
LOCATION:200 Foremaster Lane\, 200 Foremaster Lane\, Las Vegas\, NV\, 89101\, United States
ORGANIZER;CN="CARE Complex":MAILTO:careinfo@carecomplex.org
END:VEVENT
BEGIN:VEVENT
DTSTART;TZID=America/Los_Angeles:20250825T090000
DTEND;TZID=America/Los_Angeles:20250825T120000
DTSTAMP:20260421T161325
CREATED:20250814T182658Z
LAST-MODIFIED:20250814T182658Z
UID:10002334-1756112400-1756123200@helphopehome.org
SUMMARY:Free Hair Cuts
DESCRIPTION:
URL:https://helphopehome.org/event/free-hair-cuts/2025-08-25/
LOCATION:CARE Complex\, 200 Foremaster Lane\, Las Vegas\, NV\, United States
CATEGORIES:Community Events
ORGANIZER;CN="CARE Complex":MAILTO:careinfo@carecomplex.org
END:VEVENT
BEGIN:VEVENT
DTSTART;TZID=America/Los_Angeles:20250825T080000
DTEND;TZID=America/Los_Angeles:20250825T120000
DTSTAMP:20260421T161325
CREATED:20250814T183002Z
LAST-MODIFIED:20250814T183002Z
UID:10002622-1756108800-1756123200@helphopehome.org
SUMMARY:Free Shower Truck
DESCRIPTION:
URL:https://helphopehome.org/event/free-shower-truck/2025-08-25/
LOCATION:CARE Complex\, 200 Foremaster Lane\, Las Vegas\, NV\, United States
CATEGORIES:Community Events
ORGANIZER;CN="CARE Complex":MAILTO:careinfo@carecomplex.org
END:VEVENT
END:VCALENDAR