BEGIN:VCALENDAR
VERSION:2.0
PRODID:-//Help Hope Home - ECPv6.15.20//NONSGML v1.0//EN
CALSCALE:GREGORIAN
METHOD:PUBLISH
X-ORIGINAL-URL:https://helphopehome.org
X-WR-CALDESC:Events for Help Hope Home
REFRESH-INTERVAL;VALUE=DURATION:PT1H
X-Robots-Tag:noindex
X-PUBLISHED-TTL:PT1H
BEGIN:VTIMEZONE
TZID:America/Los_Angeles
BEGIN:DAYLIGHT
TZOFFSETFROM:-0800
TZOFFSETTO:-0700
TZNAME:PDT
DTSTART:20270314T100000
END:DAYLIGHT
BEGIN:STANDARD
TZOFFSETFROM:-0700
TZOFFSETTO:-0800
TZNAME:PST
DTSTART:20271107T090000
END:STANDARD
BEGIN:DAYLIGHT
TZOFFSETFROM:-0800
TZOFFSETTO:-0700
TZNAME:PDT
DTSTART:20280312T100000
END:DAYLIGHT
BEGIN:STANDARD
TZOFFSETFROM:-0700
TZOFFSETTO:-0800
TZNAME:PST
DTSTART:20281105T090000
END:STANDARD
BEGIN:DAYLIGHT
TZOFFSETFROM:-0800
TZOFFSETTO:-0700
TZNAME:PDT
DTSTART:20290311T100000
END:DAYLIGHT
BEGIN:STANDARD
TZOFFSETFROM:-0700
TZOFFSETTO:-0800
TZNAME:PST
DTSTART:20291104T090000
END:STANDARD
BEGIN:DAYLIGHT
TZOFFSETFROM:-0800
TZOFFSETTO:-0700
TZNAME:PDT
DTSTART:20300310T100000
END:DAYLIGHT
BEGIN:STANDARD
TZOFFSETFROM:-0700
TZOFFSETTO:-0800
TZNAME:PST
DTSTART:20301103T090000
END:STANDARD
END:VTIMEZONE
BEGIN:VEVENT
DTSTART;TZID=America/Los_Angeles:20280809T130000
DTEND;TZID=America/Los_Angeles:20280809T150000
DTSTAMP:20260422T134306
CREATED:20250731T165509Z
LAST-MODIFIED:20250731T165509Z
UID:10002046-1849438800-1849446000@helphopehome.org
SUMMARY:Support That Moves You Forward
DESCRIPTION:
URL:https://helphopehome.org/event/support-that-moves-you-forward/2028-08-09/
LOCATION:200 Foremaster Lane\, 200 Foremaster Lane\, Las Vegas\, NV\, 89101\, United States
ORGANIZER;CN="CARE Complex":MAILTO:careinfo@carecomplex.org
END:VEVENT
BEGIN:VEVENT
DTSTART;TZID=America/Los_Angeles:20280816T130000
DTEND;TZID=America/Los_Angeles:20280816T150000
DTSTAMP:20260422T134306
CREATED:20250731T165509Z
LAST-MODIFIED:20250731T165509Z
UID:10002047-1850043600-1850050800@helphopehome.org
SUMMARY:Support That Moves You Forward
DESCRIPTION:
URL:https://helphopehome.org/event/support-that-moves-you-forward/2028-08-16/
LOCATION:200 Foremaster Lane\, 200 Foremaster Lane\, Las Vegas\, NV\, 89101\, United States
ORGANIZER;CN="CARE Complex":MAILTO:careinfo@carecomplex.org
END:VEVENT
BEGIN:VEVENT
DTSTART;TZID=America/Los_Angeles:20280823T130000
DTEND;TZID=America/Los_Angeles:20280823T150000
DTSTAMP:20260422T134306
CREATED:20250731T165509Z
LAST-MODIFIED:20250731T165509Z
UID:10002048-1850648400-1850655600@helphopehome.org
SUMMARY:Support That Moves You Forward
DESCRIPTION:
URL:https://helphopehome.org/event/support-that-moves-you-forward/2028-08-23/
LOCATION:200 Foremaster Lane\, 200 Foremaster Lane\, Las Vegas\, NV\, 89101\, United States
ORGANIZER;CN="CARE Complex":MAILTO:careinfo@carecomplex.org
END:VEVENT
BEGIN:VEVENT
DTSTART;TZID=America/Los_Angeles:20280830T130000
DTEND;TZID=America/Los_Angeles:20280830T150000
DTSTAMP:20260422T134306
CREATED:20250731T165509Z
LAST-MODIFIED:20250731T165509Z
UID:10002049-1851253200-1851260400@helphopehome.org
SUMMARY:Support That Moves You Forward
DESCRIPTION:
URL:https://helphopehome.org/event/support-that-moves-you-forward/2028-08-30/
LOCATION:200 Foremaster Lane\, 200 Foremaster Lane\, Las Vegas\, NV\, 89101\, United States
ORGANIZER;CN="CARE Complex":MAILTO:careinfo@carecomplex.org
END:VEVENT
BEGIN:VEVENT
DTSTART;TZID=America/Los_Angeles:20280906T130000
DTEND;TZID=America/Los_Angeles:20280906T150000
DTSTAMP:20260422T134306
CREATED:20250731T165509Z
LAST-MODIFIED:20250731T165509Z
UID:10002050-1851858000-1851865200@helphopehome.org
SUMMARY:Support That Moves You Forward
DESCRIPTION:
URL:https://helphopehome.org/event/support-that-moves-you-forward/2028-09-06/
LOCATION:200 Foremaster Lane\, 200 Foremaster Lane\, Las Vegas\, NV\, 89101\, United States
ORGANIZER;CN="CARE Complex":MAILTO:careinfo@carecomplex.org
END:VEVENT
BEGIN:VEVENT
DTSTART;TZID=America/Los_Angeles:20280913T130000
DTEND;TZID=America/Los_Angeles:20280913T150000
DTSTAMP:20260422T134306
CREATED:20250731T165509Z
LAST-MODIFIED:20250731T165509Z
UID:10002051-1852462800-1852470000@helphopehome.org
SUMMARY:Support That Moves You Forward
DESCRIPTION:
URL:https://helphopehome.org/event/support-that-moves-you-forward/2028-09-13/
LOCATION:200 Foremaster Lane\, 200 Foremaster Lane\, Las Vegas\, NV\, 89101\, United States
ORGANIZER;CN="CARE Complex":MAILTO:careinfo@carecomplex.org
END:VEVENT
BEGIN:VEVENT
DTSTART;TZID=America/Los_Angeles:20280920T130000
DTEND;TZID=America/Los_Angeles:20280920T150000
DTSTAMP:20260422T134306
CREATED:20250731T165509Z
LAST-MODIFIED:20250731T165509Z
UID:10002052-1853067600-1853074800@helphopehome.org
SUMMARY:Support That Moves You Forward
DESCRIPTION:
URL:https://helphopehome.org/event/support-that-moves-you-forward/2028-09-20/
LOCATION:200 Foremaster Lane\, 200 Foremaster Lane\, Las Vegas\, NV\, 89101\, United States
ORGANIZER;CN="CARE Complex":MAILTO:careinfo@carecomplex.org
END:VEVENT
BEGIN:VEVENT
DTSTART;TZID=America/Los_Angeles:20280927T130000
DTEND;TZID=America/Los_Angeles:20280927T150000
DTSTAMP:20260422T134306
CREATED:20250731T165509Z
LAST-MODIFIED:20250731T165509Z
UID:10002053-1853672400-1853679600@helphopehome.org
SUMMARY:Support That Moves You Forward
DESCRIPTION:
URL:https://helphopehome.org/event/support-that-moves-you-forward/2028-09-27/
LOCATION:200 Foremaster Lane\, 200 Foremaster Lane\, Las Vegas\, NV\, 89101\, United States
ORGANIZER;CN="CARE Complex":MAILTO:careinfo@carecomplex.org
END:VEVENT
BEGIN:VEVENT
DTSTART;TZID=America/Los_Angeles:20281004T130000
DTEND;TZID=America/Los_Angeles:20281004T150000
DTSTAMP:20260422T134306
CREATED:20250731T165509Z
LAST-MODIFIED:20250731T165509Z
UID:10002054-1854277200-1854284400@helphopehome.org
SUMMARY:Support That Moves You Forward
DESCRIPTION:
URL:https://helphopehome.org/event/support-that-moves-you-forward/2028-10-04/
LOCATION:200 Foremaster Lane\, 200 Foremaster Lane\, Las Vegas\, NV\, 89101\, United States
ORGANIZER;CN="CARE Complex":MAILTO:careinfo@carecomplex.org
END:VEVENT
BEGIN:VEVENT
DTSTART;TZID=America/Los_Angeles:20281011T130000
DTEND;TZID=America/Los_Angeles:20281011T150000
DTSTAMP:20260422T134306
CREATED:20250731T165509Z
LAST-MODIFIED:20250731T165509Z
UID:10002055-1854882000-1854889200@helphopehome.org
SUMMARY:Support That Moves You Forward
DESCRIPTION:
URL:https://helphopehome.org/event/support-that-moves-you-forward/2028-10-11/
LOCATION:200 Foremaster Lane\, 200 Foremaster Lane\, Las Vegas\, NV\, 89101\, United States
ORGANIZER;CN="CARE Complex":MAILTO:careinfo@carecomplex.org
END:VEVENT
BEGIN:VEVENT
DTSTART;TZID=America/Los_Angeles:20281018T130000
DTEND;TZID=America/Los_Angeles:20281018T150000
DTSTAMP:20260422T134306
CREATED:20250731T165509Z
LAST-MODIFIED:20250731T165509Z
UID:10002056-1855486800-1855494000@helphopehome.org
SUMMARY:Support That Moves You Forward
DESCRIPTION:
URL:https://helphopehome.org/event/support-that-moves-you-forward/2028-10-18/
LOCATION:200 Foremaster Lane\, 200 Foremaster Lane\, Las Vegas\, NV\, 89101\, United States
ORGANIZER;CN="CARE Complex":MAILTO:careinfo@carecomplex.org
END:VEVENT
BEGIN:VEVENT
DTSTART;TZID=America/Los_Angeles:20281025T130000
DTEND;TZID=America/Los_Angeles:20281025T150000
DTSTAMP:20260422T134306
CREATED:20250731T165509Z
LAST-MODIFIED:20250731T165509Z
UID:10002057-1856091600-1856098800@helphopehome.org
SUMMARY:Support That Moves You Forward
DESCRIPTION:
URL:https://helphopehome.org/event/support-that-moves-you-forward/2028-10-25/
LOCATION:200 Foremaster Lane\, 200 Foremaster Lane\, Las Vegas\, NV\, 89101\, United States
ORGANIZER;CN="CARE Complex":MAILTO:careinfo@carecomplex.org
END:VEVENT
BEGIN:VEVENT
DTSTART;TZID=America/Los_Angeles:20281101T130000
DTEND;TZID=America/Los_Angeles:20281101T150000
DTSTAMP:20260422T134306
CREATED:20250731T165509Z
LAST-MODIFIED:20250731T165509Z
UID:10002058-1856696400-1856703600@helphopehome.org
SUMMARY:Support That Moves You Forward
DESCRIPTION:
URL:https://helphopehome.org/event/support-that-moves-you-forward/2028-11-01/
LOCATION:200 Foremaster Lane\, 200 Foremaster Lane\, Las Vegas\, NV\, 89101\, United States
ORGANIZER;CN="CARE Complex":MAILTO:careinfo@carecomplex.org
END:VEVENT
BEGIN:VEVENT
DTSTART;TZID=America/Los_Angeles:20281108T130000
DTEND;TZID=America/Los_Angeles:20281108T150000
DTSTAMP:20260422T134306
CREATED:20250731T165509Z
LAST-MODIFIED:20250731T165509Z
UID:10002059-1857301200-1857308400@helphopehome.org
SUMMARY:Support That Moves You Forward
DESCRIPTION:
URL:https://helphopehome.org/event/support-that-moves-you-forward/2028-11-08/
LOCATION:200 Foremaster Lane\, 200 Foremaster Lane\, Las Vegas\, NV\, 89101\, United States
ORGANIZER;CN="CARE Complex":MAILTO:careinfo@carecomplex.org
END:VEVENT
BEGIN:VEVENT
DTSTART;TZID=America/Los_Angeles:20281115T130000
DTEND;TZID=America/Los_Angeles:20281115T150000
DTSTAMP:20260422T134306
CREATED:20250731T165509Z
LAST-MODIFIED:20250731T165509Z
UID:10002060-1857906000-1857913200@helphopehome.org
SUMMARY:Support That Moves You Forward
DESCRIPTION:
URL:https://helphopehome.org/event/support-that-moves-you-forward/2028-11-15/
LOCATION:200 Foremaster Lane\, 200 Foremaster Lane\, Las Vegas\, NV\, 89101\, United States
ORGANIZER;CN="CARE Complex":MAILTO:careinfo@carecomplex.org
END:VEVENT
BEGIN:VEVENT
DTSTART;TZID=America/Los_Angeles:20281122T130000
DTEND;TZID=America/Los_Angeles:20281122T150000
DTSTAMP:20260422T134306
CREATED:20250731T165509Z
LAST-MODIFIED:20250731T165509Z
UID:10002061-1858510800-1858518000@helphopehome.org
SUMMARY:Support That Moves You Forward
DESCRIPTION:
URL:https://helphopehome.org/event/support-that-moves-you-forward/2028-11-22/
LOCATION:200 Foremaster Lane\, 200 Foremaster Lane\, Las Vegas\, NV\, 89101\, United States
ORGANIZER;CN="CARE Complex":MAILTO:careinfo@carecomplex.org
END:VEVENT
BEGIN:VEVENT
DTSTART;TZID=America/Los_Angeles:20281129T130000
DTEND;TZID=America/Los_Angeles:20281129T150000
DTSTAMP:20260422T134306
CREATED:20250731T165509Z
LAST-MODIFIED:20250731T165509Z
UID:10002062-1859115600-1859122800@helphopehome.org
SUMMARY:Support That Moves You Forward
DESCRIPTION:
URL:https://helphopehome.org/event/support-that-moves-you-forward/2028-11-29/
LOCATION:200 Foremaster Lane\, 200 Foremaster Lane\, Las Vegas\, NV\, 89101\, United States
ORGANIZER;CN="CARE Complex":MAILTO:careinfo@carecomplex.org
END:VEVENT
BEGIN:VEVENT
DTSTART;TZID=America/Los_Angeles:20281206T130000
DTEND;TZID=America/Los_Angeles:20281206T150000
DTSTAMP:20260422T134306
CREATED:20250731T165509Z
LAST-MODIFIED:20250731T165509Z
UID:10002063-1859720400-1859727600@helphopehome.org
SUMMARY:Support That Moves You Forward
DESCRIPTION:
URL:https://helphopehome.org/event/support-that-moves-you-forward/2028-12-06/
LOCATION:200 Foremaster Lane\, 200 Foremaster Lane\, Las Vegas\, NV\, 89101\, United States
ORGANIZER;CN="CARE Complex":MAILTO:careinfo@carecomplex.org
END:VEVENT
BEGIN:VEVENT
DTSTART;TZID=America/Los_Angeles:20281213T130000
DTEND;TZID=America/Los_Angeles:20281213T150000
DTSTAMP:20260422T134306
CREATED:20250731T165509Z
LAST-MODIFIED:20250731T165509Z
UID:10002064-1860325200-1860332400@helphopehome.org
SUMMARY:Support That Moves You Forward
DESCRIPTION:
URL:https://helphopehome.org/event/support-that-moves-you-forward/2028-12-13/
LOCATION:200 Foremaster Lane\, 200 Foremaster Lane\, Las Vegas\, NV\, 89101\, United States
ORGANIZER;CN="CARE Complex":MAILTO:careinfo@carecomplex.org
END:VEVENT
BEGIN:VEVENT
DTSTART;TZID=America/Los_Angeles:20281220T130000
DTEND;TZID=America/Los_Angeles:20281220T150000
DTSTAMP:20260422T134306
CREATED:20250731T165509Z
LAST-MODIFIED:20250731T165509Z
UID:10002065-1860930000-1860937200@helphopehome.org
SUMMARY:Support That Moves You Forward
DESCRIPTION:
URL:https://helphopehome.org/event/support-that-moves-you-forward/2028-12-20/
LOCATION:200 Foremaster Lane\, 200 Foremaster Lane\, Las Vegas\, NV\, 89101\, United States
ORGANIZER;CN="CARE Complex":MAILTO:careinfo@carecomplex.org
END:VEVENT
BEGIN:VEVENT
DTSTART;TZID=America/Los_Angeles:20281227T130000
DTEND;TZID=America/Los_Angeles:20281227T150000
DTSTAMP:20260422T134306
CREATED:20250731T165509Z
LAST-MODIFIED:20250731T165509Z
UID:10002066-1861534800-1861542000@helphopehome.org
SUMMARY:Support That Moves You Forward
DESCRIPTION:
URL:https://helphopehome.org/event/support-that-moves-you-forward/2028-12-27/
LOCATION:200 Foremaster Lane\, 200 Foremaster Lane\, Las Vegas\, NV\, 89101\, United States
ORGANIZER;CN="CARE Complex":MAILTO:careinfo@carecomplex.org
END:VEVENT
BEGIN:VEVENT
DTSTART;TZID=America/Los_Angeles:20290103T130000
DTEND;TZID=America/Los_Angeles:20290103T150000
DTSTAMP:20260422T134306
CREATED:20250731T165509Z
LAST-MODIFIED:20250731T165509Z
UID:10002067-1862139600-1862146800@helphopehome.org
SUMMARY:Support That Moves You Forward
DESCRIPTION:
URL:https://helphopehome.org/event/support-that-moves-you-forward/2029-01-03/
LOCATION:200 Foremaster Lane\, 200 Foremaster Lane\, Las Vegas\, NV\, 89101\, United States
ORGANIZER;CN="CARE Complex":MAILTO:careinfo@carecomplex.org
END:VEVENT
BEGIN:VEVENT
DTSTART;TZID=America/Los_Angeles:20290110T130000
DTEND;TZID=America/Los_Angeles:20290110T150000
DTSTAMP:20260422T134306
CREATED:20250731T165509Z
LAST-MODIFIED:20250731T165509Z
UID:10002068-1862744400-1862751600@helphopehome.org
SUMMARY:Support That Moves You Forward
DESCRIPTION:
URL:https://helphopehome.org/event/support-that-moves-you-forward/2029-01-10/
LOCATION:200 Foremaster Lane\, 200 Foremaster Lane\, Las Vegas\, NV\, 89101\, United States
ORGANIZER;CN="CARE Complex":MAILTO:careinfo@carecomplex.org
END:VEVENT
BEGIN:VEVENT
DTSTART;TZID=America/Los_Angeles:20290117T130000
DTEND;TZID=America/Los_Angeles:20290117T150000
DTSTAMP:20260422T134306
CREATED:20250731T165509Z
LAST-MODIFIED:20250731T165509Z
UID:10002069-1863349200-1863356400@helphopehome.org
SUMMARY:Support That Moves You Forward
DESCRIPTION:
URL:https://helphopehome.org/event/support-that-moves-you-forward/2029-01-17/
LOCATION:200 Foremaster Lane\, 200 Foremaster Lane\, Las Vegas\, NV\, 89101\, United States
ORGANIZER;CN="CARE Complex":MAILTO:careinfo@carecomplex.org
END:VEVENT
BEGIN:VEVENT
DTSTART;TZID=America/Los_Angeles:20290124T130000
DTEND;TZID=America/Los_Angeles:20290124T150000
DTSTAMP:20260422T134306
CREATED:20250731T165509Z
LAST-MODIFIED:20250731T165509Z
UID:10002070-1863954000-1863961200@helphopehome.org
SUMMARY:Support That Moves You Forward
DESCRIPTION:
URL:https://helphopehome.org/event/support-that-moves-you-forward/2029-01-24/
LOCATION:200 Foremaster Lane\, 200 Foremaster Lane\, Las Vegas\, NV\, 89101\, United States
ORGANIZER;CN="CARE Complex":MAILTO:careinfo@carecomplex.org
END:VEVENT
BEGIN:VEVENT
DTSTART;TZID=America/Los_Angeles:20290131T130000
DTEND;TZID=America/Los_Angeles:20290131T150000
DTSTAMP:20260422T134306
CREATED:20250731T165509Z
LAST-MODIFIED:20250731T165509Z
UID:10002071-1864558800-1864566000@helphopehome.org
SUMMARY:Support That Moves You Forward
DESCRIPTION:
URL:https://helphopehome.org/event/support-that-moves-you-forward/2029-01-31/
LOCATION:200 Foremaster Lane\, 200 Foremaster Lane\, Las Vegas\, NV\, 89101\, United States
ORGANIZER;CN="CARE Complex":MAILTO:careinfo@carecomplex.org
END:VEVENT
BEGIN:VEVENT
DTSTART;TZID=America/Los_Angeles:20290207T130000
DTEND;TZID=America/Los_Angeles:20290207T150000
DTSTAMP:20260422T134306
CREATED:20250731T165509Z
LAST-MODIFIED:20250731T165509Z
UID:10002072-1865163600-1865170800@helphopehome.org
SUMMARY:Support That Moves You Forward
DESCRIPTION:
URL:https://helphopehome.org/event/support-that-moves-you-forward/2029-02-07/
LOCATION:200 Foremaster Lane\, 200 Foremaster Lane\, Las Vegas\, NV\, 89101\, United States
ORGANIZER;CN="CARE Complex":MAILTO:careinfo@carecomplex.org
END:VEVENT
BEGIN:VEVENT
DTSTART;TZID=America/Los_Angeles:20290214T130000
DTEND;TZID=America/Los_Angeles:20290214T150000
DTSTAMP:20260422T134306
CREATED:20250731T165509Z
LAST-MODIFIED:20250731T165509Z
UID:10002073-1865768400-1865775600@helphopehome.org
SUMMARY:Support That Moves You Forward
DESCRIPTION:
URL:https://helphopehome.org/event/support-that-moves-you-forward/2029-02-14/
LOCATION:200 Foremaster Lane\, 200 Foremaster Lane\, Las Vegas\, NV\, 89101\, United States
ORGANIZER;CN="CARE Complex":MAILTO:careinfo@carecomplex.org
END:VEVENT
BEGIN:VEVENT
DTSTART;TZID=America/Los_Angeles:20290221T130000
DTEND;TZID=America/Los_Angeles:20290221T150000
DTSTAMP:20260422T134306
CREATED:20250731T165509Z
LAST-MODIFIED:20250731T165509Z
UID:10002074-1866373200-1866380400@helphopehome.org
SUMMARY:Support That Moves You Forward
DESCRIPTION:
URL:https://helphopehome.org/event/support-that-moves-you-forward/2029-02-21/
LOCATION:200 Foremaster Lane\, 200 Foremaster Lane\, Las Vegas\, NV\, 89101\, United States
ORGANIZER;CN="CARE Complex":MAILTO:careinfo@carecomplex.org
END:VEVENT
BEGIN:VEVENT
DTSTART;TZID=America/Los_Angeles:20290228T130000
DTEND;TZID=America/Los_Angeles:20290228T150000
DTSTAMP:20260422T134306
CREATED:20250731T165509Z
LAST-MODIFIED:20250731T165509Z
UID:10002075-1866978000-1866985200@helphopehome.org
SUMMARY:Support That Moves You Forward
DESCRIPTION:
URL:https://helphopehome.org/event/support-that-moves-you-forward/2029-02-28/
LOCATION:200 Foremaster Lane\, 200 Foremaster Lane\, Las Vegas\, NV\, 89101\, United States
ORGANIZER;CN="CARE Complex":MAILTO:careinfo@carecomplex.org
END:VEVENT
END:VCALENDAR