BEGIN:VCALENDAR
VERSION:2.0
PRODID:-//Help Hope Home - ECPv6.15.20//NONSGML v1.0//EN
CALSCALE:GREGORIAN
METHOD:PUBLISH
X-WR-CALNAME:Help Hope Home
X-ORIGINAL-URL:https://helphopehome.org
X-WR-CALDESC:Events for Help Hope Home
REFRESH-INTERVAL;VALUE=DURATION:PT1H
X-Robots-Tag:noindex
X-PUBLISHED-TTL:PT1H
BEGIN:VTIMEZONE
TZID:America/Los_Angeles
BEGIN:DAYLIGHT
TZOFFSETFROM:-0800
TZOFFSETTO:-0700
TZNAME:PDT
DTSTART:20260308T100000
END:DAYLIGHT
BEGIN:STANDARD
TZOFFSETFROM:-0700
TZOFFSETTO:-0800
TZNAME:PST
DTSTART:20261101T090000
END:STANDARD
BEGIN:DAYLIGHT
TZOFFSETFROM:-0800
TZOFFSETTO:-0700
TZNAME:PDT
DTSTART:20270314T100000
END:DAYLIGHT
BEGIN:STANDARD
TZOFFSETFROM:-0700
TZOFFSETTO:-0800
TZNAME:PST
DTSTART:20271107T090000
END:STANDARD
BEGIN:DAYLIGHT
TZOFFSETFROM:-0800
TZOFFSETTO:-0700
TZNAME:PDT
DTSTART:20280312T100000
END:DAYLIGHT
BEGIN:STANDARD
TZOFFSETFROM:-0700
TZOFFSETTO:-0800
TZNAME:PST
DTSTART:20281105T090000
END:STANDARD
BEGIN:DAYLIGHT
TZOFFSETFROM:-0800
TZOFFSETTO:-0700
TZNAME:PDT
DTSTART:20290311T100000
END:DAYLIGHT
BEGIN:STANDARD
TZOFFSETFROM:-0700
TZOFFSETTO:-0800
TZNAME:PST
DTSTART:20291104T090000
END:STANDARD
END:VTIMEZONE
BEGIN:VEVENT
DTSTART;TZID=America/Los_Angeles:20270616T130000
DTEND;TZID=America/Los_Angeles:20270616T150000
DTSTAMP:20260421T101728
CREATED:20250731T165509Z
LAST-MODIFIED:20250731T165509Z
UID:10001986-1813150800-1813158000@helphopehome.org
SUMMARY:Support That Moves You Forward
DESCRIPTION:
URL:https://helphopehome.org/event/support-that-moves-you-forward/2027-06-16/
LOCATION:200 Foremaster Lane\, 200 Foremaster Lane\, Las Vegas\, NV\, 89101\, United States
ORGANIZER;CN="CARE Complex":MAILTO:careinfo@carecomplex.org
END:VEVENT
BEGIN:VEVENT
DTSTART;TZID=America/Los_Angeles:20270623T130000
DTEND;TZID=America/Los_Angeles:20270623T150000
DTSTAMP:20260421T101728
CREATED:20250731T165509Z
LAST-MODIFIED:20250731T165509Z
UID:10001987-1813755600-1813762800@helphopehome.org
SUMMARY:Support That Moves You Forward
DESCRIPTION:
URL:https://helphopehome.org/event/support-that-moves-you-forward/2027-06-23/
LOCATION:200 Foremaster Lane\, 200 Foremaster Lane\, Las Vegas\, NV\, 89101\, United States
ORGANIZER;CN="CARE Complex":MAILTO:careinfo@carecomplex.org
END:VEVENT
BEGIN:VEVENT
DTSTART;TZID=America/Los_Angeles:20270630T130000
DTEND;TZID=America/Los_Angeles:20270630T150000
DTSTAMP:20260421T101728
CREATED:20250731T165509Z
LAST-MODIFIED:20250731T165509Z
UID:10001988-1814360400-1814367600@helphopehome.org
SUMMARY:Support That Moves You Forward
DESCRIPTION:
URL:https://helphopehome.org/event/support-that-moves-you-forward/2027-06-30/
LOCATION:200 Foremaster Lane\, 200 Foremaster Lane\, Las Vegas\, NV\, 89101\, United States
ORGANIZER;CN="CARE Complex":MAILTO:careinfo@carecomplex.org
END:VEVENT
BEGIN:VEVENT
DTSTART;TZID=America/Los_Angeles:20270707T130000
DTEND;TZID=America/Los_Angeles:20270707T150000
DTSTAMP:20260421T101728
CREATED:20250731T165509Z
LAST-MODIFIED:20250731T165509Z
UID:10001989-1814965200-1814972400@helphopehome.org
SUMMARY:Support That Moves You Forward
DESCRIPTION:
URL:https://helphopehome.org/event/support-that-moves-you-forward/2027-07-07/
LOCATION:200 Foremaster Lane\, 200 Foremaster Lane\, Las Vegas\, NV\, 89101\, United States
ORGANIZER;CN="CARE Complex":MAILTO:careinfo@carecomplex.org
END:VEVENT
BEGIN:VEVENT
DTSTART;TZID=America/Los_Angeles:20270714T130000
DTEND;TZID=America/Los_Angeles:20270714T150000
DTSTAMP:20260421T101728
CREATED:20250731T165509Z
LAST-MODIFIED:20250731T165509Z
UID:10001990-1815570000-1815577200@helphopehome.org
SUMMARY:Support That Moves You Forward
DESCRIPTION:
URL:https://helphopehome.org/event/support-that-moves-you-forward/2027-07-14/
LOCATION:200 Foremaster Lane\, 200 Foremaster Lane\, Las Vegas\, NV\, 89101\, United States
ORGANIZER;CN="CARE Complex":MAILTO:careinfo@carecomplex.org
END:VEVENT
BEGIN:VEVENT
DTSTART;TZID=America/Los_Angeles:20270721T130000
DTEND;TZID=America/Los_Angeles:20270721T150000
DTSTAMP:20260421T101729
CREATED:20250731T165509Z
LAST-MODIFIED:20250731T165509Z
UID:10001991-1816174800-1816182000@helphopehome.org
SUMMARY:Support That Moves You Forward
DESCRIPTION:
URL:https://helphopehome.org/event/support-that-moves-you-forward/2027-07-21/
LOCATION:200 Foremaster Lane\, 200 Foremaster Lane\, Las Vegas\, NV\, 89101\, United States
ORGANIZER;CN="CARE Complex":MAILTO:careinfo@carecomplex.org
END:VEVENT
BEGIN:VEVENT
DTSTART;TZID=America/Los_Angeles:20270728T130000
DTEND;TZID=America/Los_Angeles:20270728T150000
DTSTAMP:20260421T101729
CREATED:20250731T165509Z
LAST-MODIFIED:20250731T165509Z
UID:10001992-1816779600-1816786800@helphopehome.org
SUMMARY:Support That Moves You Forward
DESCRIPTION:
URL:https://helphopehome.org/event/support-that-moves-you-forward/2027-07-28/
LOCATION:200 Foremaster Lane\, 200 Foremaster Lane\, Las Vegas\, NV\, 89101\, United States
ORGANIZER;CN="CARE Complex":MAILTO:careinfo@carecomplex.org
END:VEVENT
BEGIN:VEVENT
DTSTART;TZID=America/Los_Angeles:20270804T130000
DTEND;TZID=America/Los_Angeles:20270804T150000
DTSTAMP:20260421T101729
CREATED:20250731T165509Z
LAST-MODIFIED:20250731T165509Z
UID:10001993-1817384400-1817391600@helphopehome.org
SUMMARY:Support That Moves You Forward
DESCRIPTION:
URL:https://helphopehome.org/event/support-that-moves-you-forward/2027-08-04/
LOCATION:200 Foremaster Lane\, 200 Foremaster Lane\, Las Vegas\, NV\, 89101\, United States
ORGANIZER;CN="CARE Complex":MAILTO:careinfo@carecomplex.org
END:VEVENT
BEGIN:VEVENT
DTSTART;TZID=America/Los_Angeles:20270811T130000
DTEND;TZID=America/Los_Angeles:20270811T150000
DTSTAMP:20260421T101729
CREATED:20250731T165509Z
LAST-MODIFIED:20250731T165509Z
UID:10001994-1817989200-1817996400@helphopehome.org
SUMMARY:Support That Moves You Forward
DESCRIPTION:
URL:https://helphopehome.org/event/support-that-moves-you-forward/2027-08-11/
LOCATION:200 Foremaster Lane\, 200 Foremaster Lane\, Las Vegas\, NV\, 89101\, United States
ORGANIZER;CN="CARE Complex":MAILTO:careinfo@carecomplex.org
END:VEVENT
BEGIN:VEVENT
DTSTART;TZID=America/Los_Angeles:20270818T130000
DTEND;TZID=America/Los_Angeles:20270818T150000
DTSTAMP:20260421T101729
CREATED:20250731T165509Z
LAST-MODIFIED:20250731T165509Z
UID:10001995-1818594000-1818601200@helphopehome.org
SUMMARY:Support That Moves You Forward
DESCRIPTION:
URL:https://helphopehome.org/event/support-that-moves-you-forward/2027-08-18/
LOCATION:200 Foremaster Lane\, 200 Foremaster Lane\, Las Vegas\, NV\, 89101\, United States
ORGANIZER;CN="CARE Complex":MAILTO:careinfo@carecomplex.org
END:VEVENT
BEGIN:VEVENT
DTSTART;TZID=America/Los_Angeles:20270825T130000
DTEND;TZID=America/Los_Angeles:20270825T150000
DTSTAMP:20260421T101729
CREATED:20250731T165509Z
LAST-MODIFIED:20250731T165509Z
UID:10001996-1819198800-1819206000@helphopehome.org
SUMMARY:Support That Moves You Forward
DESCRIPTION:
URL:https://helphopehome.org/event/support-that-moves-you-forward/2027-08-25/
LOCATION:200 Foremaster Lane\, 200 Foremaster Lane\, Las Vegas\, NV\, 89101\, United States
ORGANIZER;CN="CARE Complex":MAILTO:careinfo@carecomplex.org
END:VEVENT
BEGIN:VEVENT
DTSTART;TZID=America/Los_Angeles:20270901T130000
DTEND;TZID=America/Los_Angeles:20270901T150000
DTSTAMP:20260421T101729
CREATED:20250731T165509Z
LAST-MODIFIED:20250731T165509Z
UID:10001997-1819803600-1819810800@helphopehome.org
SUMMARY:Support That Moves You Forward
DESCRIPTION:
URL:https://helphopehome.org/event/support-that-moves-you-forward/2027-09-01/
LOCATION:200 Foremaster Lane\, 200 Foremaster Lane\, Las Vegas\, NV\, 89101\, United States
ORGANIZER;CN="CARE Complex":MAILTO:careinfo@carecomplex.org
END:VEVENT
BEGIN:VEVENT
DTSTART;TZID=America/Los_Angeles:20270908T130000
DTEND;TZID=America/Los_Angeles:20270908T150000
DTSTAMP:20260421T101729
CREATED:20250731T165509Z
LAST-MODIFIED:20250731T165509Z
UID:10001998-1820408400-1820415600@helphopehome.org
SUMMARY:Support That Moves You Forward
DESCRIPTION:
URL:https://helphopehome.org/event/support-that-moves-you-forward/2027-09-08/
LOCATION:200 Foremaster Lane\, 200 Foremaster Lane\, Las Vegas\, NV\, 89101\, United States
ORGANIZER;CN="CARE Complex":MAILTO:careinfo@carecomplex.org
END:VEVENT
BEGIN:VEVENT
DTSTART;TZID=America/Los_Angeles:20270915T130000
DTEND;TZID=America/Los_Angeles:20270915T150000
DTSTAMP:20260421T101729
CREATED:20250731T165509Z
LAST-MODIFIED:20250731T165509Z
UID:10001999-1821013200-1821020400@helphopehome.org
SUMMARY:Support That Moves You Forward
DESCRIPTION:
URL:https://helphopehome.org/event/support-that-moves-you-forward/2027-09-15/
LOCATION:200 Foremaster Lane\, 200 Foremaster Lane\, Las Vegas\, NV\, 89101\, United States
ORGANIZER;CN="CARE Complex":MAILTO:careinfo@carecomplex.org
END:VEVENT
BEGIN:VEVENT
DTSTART;TZID=America/Los_Angeles:20270922T130000
DTEND;TZID=America/Los_Angeles:20270922T150000
DTSTAMP:20260421T101729
CREATED:20250731T165509Z
LAST-MODIFIED:20250731T165509Z
UID:10002000-1821618000-1821625200@helphopehome.org
SUMMARY:Support That Moves You Forward
DESCRIPTION:
URL:https://helphopehome.org/event/support-that-moves-you-forward/2027-09-22/
LOCATION:200 Foremaster Lane\, 200 Foremaster Lane\, Las Vegas\, NV\, 89101\, United States
ORGANIZER;CN="CARE Complex":MAILTO:careinfo@carecomplex.org
END:VEVENT
BEGIN:VEVENT
DTSTART;TZID=America/Los_Angeles:20270929T130000
DTEND;TZID=America/Los_Angeles:20270929T150000
DTSTAMP:20260421T101729
CREATED:20250731T165509Z
LAST-MODIFIED:20250731T165509Z
UID:10002001-1822222800-1822230000@helphopehome.org
SUMMARY:Support That Moves You Forward
DESCRIPTION:
URL:https://helphopehome.org/event/support-that-moves-you-forward/2027-09-29/
LOCATION:200 Foremaster Lane\, 200 Foremaster Lane\, Las Vegas\, NV\, 89101\, United States
ORGANIZER;CN="CARE Complex":MAILTO:careinfo@carecomplex.org
END:VEVENT
BEGIN:VEVENT
DTSTART;TZID=America/Los_Angeles:20271006T130000
DTEND;TZID=America/Los_Angeles:20271006T150000
DTSTAMP:20260421T101729
CREATED:20250731T165509Z
LAST-MODIFIED:20250731T165509Z
UID:10002002-1822827600-1822834800@helphopehome.org
SUMMARY:Support That Moves You Forward
DESCRIPTION:
URL:https://helphopehome.org/event/support-that-moves-you-forward/2027-10-06/
LOCATION:200 Foremaster Lane\, 200 Foremaster Lane\, Las Vegas\, NV\, 89101\, United States
ORGANIZER;CN="CARE Complex":MAILTO:careinfo@carecomplex.org
END:VEVENT
BEGIN:VEVENT
DTSTART;TZID=America/Los_Angeles:20271013T130000
DTEND;TZID=America/Los_Angeles:20271013T150000
DTSTAMP:20260421T101729
CREATED:20250731T165509Z
LAST-MODIFIED:20250731T165509Z
UID:10002003-1823432400-1823439600@helphopehome.org
SUMMARY:Support That Moves You Forward
DESCRIPTION:
URL:https://helphopehome.org/event/support-that-moves-you-forward/2027-10-13/
LOCATION:200 Foremaster Lane\, 200 Foremaster Lane\, Las Vegas\, NV\, 89101\, United States
ORGANIZER;CN="CARE Complex":MAILTO:careinfo@carecomplex.org
END:VEVENT
BEGIN:VEVENT
DTSTART;TZID=America/Los_Angeles:20271020T130000
DTEND;TZID=America/Los_Angeles:20271020T150000
DTSTAMP:20260421T101729
CREATED:20250731T165509Z
LAST-MODIFIED:20250731T165509Z
UID:10002004-1824037200-1824044400@helphopehome.org
SUMMARY:Support That Moves You Forward
DESCRIPTION:
URL:https://helphopehome.org/event/support-that-moves-you-forward/2027-10-20/
LOCATION:200 Foremaster Lane\, 200 Foremaster Lane\, Las Vegas\, NV\, 89101\, United States
ORGANIZER;CN="CARE Complex":MAILTO:careinfo@carecomplex.org
END:VEVENT
BEGIN:VEVENT
DTSTART;TZID=America/Los_Angeles:20271027T130000
DTEND;TZID=America/Los_Angeles:20271027T150000
DTSTAMP:20260421T101729
CREATED:20250731T165509Z
LAST-MODIFIED:20250731T165509Z
UID:10002005-1824642000-1824649200@helphopehome.org
SUMMARY:Support That Moves You Forward
DESCRIPTION:
URL:https://helphopehome.org/event/support-that-moves-you-forward/2027-10-27/
LOCATION:200 Foremaster Lane\, 200 Foremaster Lane\, Las Vegas\, NV\, 89101\, United States
ORGANIZER;CN="CARE Complex":MAILTO:careinfo@carecomplex.org
END:VEVENT
BEGIN:VEVENT
DTSTART;TZID=America/Los_Angeles:20271103T130000
DTEND;TZID=America/Los_Angeles:20271103T150000
DTSTAMP:20260421T101729
CREATED:20250731T165509Z
LAST-MODIFIED:20250731T165509Z
UID:10002006-1825246800-1825254000@helphopehome.org
SUMMARY:Support That Moves You Forward
DESCRIPTION:
URL:https://helphopehome.org/event/support-that-moves-you-forward/2027-11-03/
LOCATION:200 Foremaster Lane\, 200 Foremaster Lane\, Las Vegas\, NV\, 89101\, United States
ORGANIZER;CN="CARE Complex":MAILTO:careinfo@carecomplex.org
END:VEVENT
BEGIN:VEVENT
DTSTART;TZID=America/Los_Angeles:20271110T130000
DTEND;TZID=America/Los_Angeles:20271110T150000
DTSTAMP:20260421T101729
CREATED:20250731T165509Z
LAST-MODIFIED:20250731T165509Z
UID:10002007-1825851600-1825858800@helphopehome.org
SUMMARY:Support That Moves You Forward
DESCRIPTION:
URL:https://helphopehome.org/event/support-that-moves-you-forward/2027-11-10/
LOCATION:200 Foremaster Lane\, 200 Foremaster Lane\, Las Vegas\, NV\, 89101\, United States
ORGANIZER;CN="CARE Complex":MAILTO:careinfo@carecomplex.org
END:VEVENT
BEGIN:VEVENT
DTSTART;TZID=America/Los_Angeles:20271117T130000
DTEND;TZID=America/Los_Angeles:20271117T150000
DTSTAMP:20260421T101729
CREATED:20250731T165509Z
LAST-MODIFIED:20250731T165509Z
UID:10002008-1826456400-1826463600@helphopehome.org
SUMMARY:Support That Moves You Forward
DESCRIPTION:
URL:https://helphopehome.org/event/support-that-moves-you-forward/2027-11-17/
LOCATION:200 Foremaster Lane\, 200 Foremaster Lane\, Las Vegas\, NV\, 89101\, United States
ORGANIZER;CN="CARE Complex":MAILTO:careinfo@carecomplex.org
END:VEVENT
BEGIN:VEVENT
DTSTART;TZID=America/Los_Angeles:20271124T130000
DTEND;TZID=America/Los_Angeles:20271124T150000
DTSTAMP:20260421T101729
CREATED:20250731T165509Z
LAST-MODIFIED:20250731T165509Z
UID:10002009-1827061200-1827068400@helphopehome.org
SUMMARY:Support That Moves You Forward
DESCRIPTION:
URL:https://helphopehome.org/event/support-that-moves-you-forward/2027-11-24/
LOCATION:200 Foremaster Lane\, 200 Foremaster Lane\, Las Vegas\, NV\, 89101\, United States
ORGANIZER;CN="CARE Complex":MAILTO:careinfo@carecomplex.org
END:VEVENT
BEGIN:VEVENT
DTSTART;TZID=America/Los_Angeles:20271201T130000
DTEND;TZID=America/Los_Angeles:20271201T150000
DTSTAMP:20260421T101729
CREATED:20250731T165509Z
LAST-MODIFIED:20250731T165509Z
UID:10002010-1827666000-1827673200@helphopehome.org
SUMMARY:Support That Moves You Forward
DESCRIPTION:
URL:https://helphopehome.org/event/support-that-moves-you-forward/2027-12-01/
LOCATION:200 Foremaster Lane\, 200 Foremaster Lane\, Las Vegas\, NV\, 89101\, United States
ORGANIZER;CN="CARE Complex":MAILTO:careinfo@carecomplex.org
END:VEVENT
BEGIN:VEVENT
DTSTART;TZID=America/Los_Angeles:20271208T130000
DTEND;TZID=America/Los_Angeles:20271208T150000
DTSTAMP:20260421T101729
CREATED:20250731T165509Z
LAST-MODIFIED:20250731T165509Z
UID:10002011-1828270800-1828278000@helphopehome.org
SUMMARY:Support That Moves You Forward
DESCRIPTION:
URL:https://helphopehome.org/event/support-that-moves-you-forward/2027-12-08/
LOCATION:200 Foremaster Lane\, 200 Foremaster Lane\, Las Vegas\, NV\, 89101\, United States
ORGANIZER;CN="CARE Complex":MAILTO:careinfo@carecomplex.org
END:VEVENT
BEGIN:VEVENT
DTSTART;TZID=America/Los_Angeles:20271215T130000
DTEND;TZID=America/Los_Angeles:20271215T150000
DTSTAMP:20260421T101729
CREATED:20250731T165509Z
LAST-MODIFIED:20250731T165509Z
UID:10002012-1828875600-1828882800@helphopehome.org
SUMMARY:Support That Moves You Forward
DESCRIPTION:
URL:https://helphopehome.org/event/support-that-moves-you-forward/2027-12-15/
LOCATION:200 Foremaster Lane\, 200 Foremaster Lane\, Las Vegas\, NV\, 89101\, United States
ORGANIZER;CN="CARE Complex":MAILTO:careinfo@carecomplex.org
END:VEVENT
BEGIN:VEVENT
DTSTART;TZID=America/Los_Angeles:20271222T130000
DTEND;TZID=America/Los_Angeles:20271222T150000
DTSTAMP:20260421T101729
CREATED:20250731T165509Z
LAST-MODIFIED:20250731T165509Z
UID:10002013-1829480400-1829487600@helphopehome.org
SUMMARY:Support That Moves You Forward
DESCRIPTION:
URL:https://helphopehome.org/event/support-that-moves-you-forward/2027-12-22/
LOCATION:200 Foremaster Lane\, 200 Foremaster Lane\, Las Vegas\, NV\, 89101\, United States
ORGANIZER;CN="CARE Complex":MAILTO:careinfo@carecomplex.org
END:VEVENT
BEGIN:VEVENT
DTSTART;TZID=America/Los_Angeles:20271229T130000
DTEND;TZID=America/Los_Angeles:20271229T150000
DTSTAMP:20260421T101729
CREATED:20250731T165509Z
LAST-MODIFIED:20250731T165509Z
UID:10002014-1830085200-1830092400@helphopehome.org
SUMMARY:Support That Moves You Forward
DESCRIPTION:
URL:https://helphopehome.org/event/support-that-moves-you-forward/2027-12-29/
LOCATION:200 Foremaster Lane\, 200 Foremaster Lane\, Las Vegas\, NV\, 89101\, United States
ORGANIZER;CN="CARE Complex":MAILTO:careinfo@carecomplex.org
END:VEVENT
BEGIN:VEVENT
DTSTART;TZID=America/Los_Angeles:20280105T130000
DTEND;TZID=America/Los_Angeles:20280105T150000
DTSTAMP:20260421T101729
CREATED:20250731T165509Z
LAST-MODIFIED:20250731T165509Z
UID:10002015-1830690000-1830697200@helphopehome.org
SUMMARY:Support That Moves You Forward
DESCRIPTION:
URL:https://helphopehome.org/event/support-that-moves-you-forward/2028-01-05/
LOCATION:200 Foremaster Lane\, 200 Foremaster Lane\, Las Vegas\, NV\, 89101\, United States
ORGANIZER;CN="CARE Complex":MAILTO:careinfo@carecomplex.org
END:VEVENT
END:VCALENDAR