BEGIN:VCALENDAR
VERSION:2.0
PRODID:-//Help Hope Home - ECPv6.15.20//NONSGML v1.0//EN
CALSCALE:GREGORIAN
METHOD:PUBLISH
X-WR-CALNAME:Help Hope Home
X-ORIGINAL-URL:https://helphopehome.org
X-WR-CALDESC:Events for Help Hope Home
REFRESH-INTERVAL;VALUE=DURATION:PT1H
X-Robots-Tag:noindex
X-PUBLISHED-TTL:PT1H
BEGIN:VTIMEZONE
TZID:America/Los_Angeles
BEGIN:DAYLIGHT
TZOFFSETFROM:-0800
TZOFFSETTO:-0700
TZNAME:PDT
DTSTART:20230312T100000
END:DAYLIGHT
BEGIN:STANDARD
TZOFFSETFROM:-0700
TZOFFSETTO:-0800
TZNAME:PST
DTSTART:20231105T090000
END:STANDARD
BEGIN:DAYLIGHT
TZOFFSETFROM:-0800
TZOFFSETTO:-0700
TZNAME:PDT
DTSTART:20240310T100000
END:DAYLIGHT
BEGIN:STANDARD
TZOFFSETFROM:-0700
TZOFFSETTO:-0800
TZNAME:PST
DTSTART:20241103T090000
END:STANDARD
BEGIN:DAYLIGHT
TZOFFSETFROM:-0800
TZOFFSETTO:-0700
TZNAME:PDT
DTSTART:20250309T100000
END:DAYLIGHT
BEGIN:STANDARD
TZOFFSETFROM:-0700
TZOFFSETTO:-0800
TZNAME:PST
DTSTART:20251102T090000
END:STANDARD
BEGIN:DAYLIGHT
TZOFFSETFROM:-0800
TZOFFSETTO:-0700
TZNAME:PDT
DTSTART:20260308T100000
END:DAYLIGHT
BEGIN:STANDARD
TZOFFSETFROM:-0700
TZOFFSETTO:-0800
TZNAME:PST
DTSTART:20261101T090000
END:STANDARD
BEGIN:DAYLIGHT
TZOFFSETFROM:-0800
TZOFFSETTO:-0700
TZNAME:PDT
DTSTART:20270314T100000
END:DAYLIGHT
BEGIN:STANDARD
TZOFFSETFROM:-0700
TZOFFSETTO:-0800
TZNAME:PST
DTSTART:20271107T090000
END:STANDARD
END:VTIMEZONE
BEGIN:VEVENT
DTSTART;TZID=America/Los_Angeles:20260312T100000
DTEND;TZID=America/Los_Angeles:20260312T123000
DTSTAMP:20260419T143241
CREATED:20250313T203541Z
LAST-MODIFIED:20250313T203645Z
UID:10001630-1773309600-1773318600@helphopehome.org
SUMMARY:Continuum of Care Membership Meeting
DESCRIPTION:Join Virtually
URL:https://helphopehome.org/event/continuum-of-care-membership-meeting-3-2/2026-03-12/
LOCATION:United Way of Southern Nevada\, 5830 W. Flamingo Road\, Las Vegas\, NV\, 89103\, United States
CATEGORIES:SNHCoC
ORGANIZER;CN="Help Hope Home":MAILTO:helphopehome@clarkcountynv.gov
END:VEVENT
BEGIN:VEVENT
DTSTART;TZID=America/Los_Angeles:20260108T100000
DTEND;TZID=America/Los_Angeles:20260108T123000
DTSTAMP:20260419T143241
CREATED:20250313T203541Z
LAST-MODIFIED:20250313T203645Z
UID:10001629-1767866400-1767875400@helphopehome.org
SUMMARY:Continuum of Care Membership Meeting
DESCRIPTION:Join Virtually
URL:https://helphopehome.org/event/continuum-of-care-membership-meeting-3-2/2026-01-08/
LOCATION:United Way of Southern Nevada\, 5830 W. Flamingo Road\, Las Vegas\, NV\, 89103\, United States
CATEGORIES:SNHCoC
ORGANIZER;CN="Help Hope Home":MAILTO:helphopehome@clarkcountynv.gov
END:VEVENT
BEGIN:VEVENT
DTSTART;TZID=America/Los_Angeles:20251118T150000
DTEND;TZID=America/Los_Angeles:20251118T170000
DTSTAMP:20260419T143241
CREATED:20251118T004834Z
LAST-MODIFIED:20251118T004834Z
UID:10002899-1763478000-1763485200@helphopehome.org
SUMMARY:2025 Notice of Funding Opportunity (NOFO) Info Session
DESCRIPTION:Dear Community Partners\, \nAs we prepare for the 2025 NOFO Competition\, we will be hosting an informational session to provide guidance and answer any questions you may have about this year’s NOFO. You are welcome to join us at any time during the window listed below to ask questions\, learn more\, or gather resources. We encourage both current CoC recipients seeking renewal and those interested in applying for new funding to attend. \nIn our effort to keep communication open during this rapidly evolving NOFO cycle\, these office hours will not only support providers with application questions but will also offer guidance on the potential options the CoC Board may need to consider. It is critical that providers understand where and how they may be able to pivot\, as this will directly impact our community’s ability to respond quickly once the Board determines the NOFO priorities—particularly given the likelihood that applicants may have only 3–4 weeks to prepare their submissions for scoring. \nPlease see the attached NOFO for additional details\, along with important resource links provided below. \nDate & Time: Tuesday\, November 18\, 2025 | 3:00–5:00 PM\nLocation: Microsoft Teams Join the meeting now \nNAEH NOFO Resources: \n\nFull Analysis \nOverall Side-by-Side Comparison of FY24 to FY25 \n\nSide-by-Side Scoring Comparison of FY24 to FY25 
URL:https://helphopehome.org/event/2025-notice-of-funding-opportunity-nofo-info-session/
ORGANIZER;CN="Help Hope Home":MAILTO:helphopehome@clarkcountynv.gov
LOCATION:https://teams.microsoft.com/l/meetup-join/19%3ameeting_YTAyYjRhYzctM2QyMC00ZDE2LThkNWMtNTJlM2M3Zjg1ODJl%40thread.v2/0?context=%7b%22Tid%22%3a%22e37ee3eb-a3cd-4ef6-9786-838c5675c471%22%2c%22Oid%22%3a%226f404821-a040-48b5-8202-44a15a7bedad%22%7d
END:VEVENT
BEGIN:VEVENT
DTSTART;TZID=America/Los_Angeles:20251113T100000
DTEND;TZID=America/Los_Angeles:20251113T123000
DTSTAMP:20260419T143241
CREATED:20250313T203541Z
LAST-MODIFIED:20250313T203645Z
UID:10001628-1763028000-1763037000@helphopehome.org
SUMMARY:Continuum of Care Membership Meeting
DESCRIPTION:Join Virtually
URL:https://helphopehome.org/event/continuum-of-care-membership-meeting-3-2/2025-11-13/
LOCATION:United Way of Southern Nevada\, 5830 W. Flamingo Road\, Las Vegas\, NV\, 89103\, United States
CATEGORIES:SNHCoC
ORGANIZER;CN="Help Hope Home":MAILTO:helphopehome@clarkcountynv.gov
END:VEVENT
BEGIN:VEVENT
DTSTART;TZID=America/Los_Angeles:20250911T100000
DTEND;TZID=America/Los_Angeles:20250911T123000
DTSTAMP:20260419T143241
CREATED:20250313T203541Z
LAST-MODIFIED:20250313T203645Z
UID:10001627-1757584800-1757593800@helphopehome.org
SUMMARY:Continuum of Care Membership Meeting
DESCRIPTION:Join Virtually
URL:https://helphopehome.org/event/continuum-of-care-membership-meeting-3-2/2025-09-11/
LOCATION:United Way of Southern Nevada\, 5830 W. Flamingo Road\, Las Vegas\, NV\, 89103\, United States
CATEGORIES:SNHCoC
ORGANIZER;CN="Help Hope Home":MAILTO:helphopehome@clarkcountynv.gov
END:VEVENT
BEGIN:VEVENT
DTSTART;TZID=America/Los_Angeles:20250825T090000
DTEND;TZID=America/Los_Angeles:20250825T110000
DTSTAMP:20260419T143241
CREATED:20240930T163840Z
LAST-MODIFIED:20241028T205937Z
UID:10001221-1756112400-1756119600@helphopehome.org
SUMMARY:CoC Program Committee Meeting
DESCRIPTION:For designated committee members and staff only
URL:https://helphopehome.org/event/coc-program-committee-meeting-2-2/2025-08-25/
CATEGORIES:SNHCoC
ORGANIZER;CN="Help Hope Home":MAILTO:helphopehome@clarkcountynv.gov
END:VEVENT
BEGIN:VEVENT
DTSTART;TZID=America/Los_Angeles:20250728T090000
DTEND;TZID=America/Los_Angeles:20250728T110000
DTSTAMP:20260419T143241
CREATED:20240930T163840Z
LAST-MODIFIED:20241028T205937Z
UID:10001220-1753693200-1753700400@helphopehome.org
SUMMARY:CoC Program Committee Meeting
DESCRIPTION:For designated committee members and staff only
URL:https://helphopehome.org/event/coc-program-committee-meeting-2-2/2025-07-28/
CATEGORIES:SNHCoC
ORGANIZER;CN="Help Hope Home":MAILTO:helphopehome@clarkcountynv.gov
END:VEVENT
BEGIN:VEVENT
DTSTART;TZID=America/Los_Angeles:20250710T100000
DTEND;TZID=America/Los_Angeles:20250710T123000
DTSTAMP:20260419T143241
CREATED:20250313T203541Z
LAST-MODIFIED:20250313T203645Z
UID:10001626-1752141600-1752150600@helphopehome.org
SUMMARY:Continuum of Care Membership Meeting
DESCRIPTION:Join Virtually
URL:https://helphopehome.org/event/continuum-of-care-membership-meeting-3-2/2025-07-10/
LOCATION:United Way of Southern Nevada\, 5830 W. Flamingo Road\, Las Vegas\, NV\, 89103\, United States
CATEGORIES:SNHCoC
ORGANIZER;CN="Help Hope Home":MAILTO:helphopehome@clarkcountynv.gov
END:VEVENT
BEGIN:VEVENT
DTSTART;TZID=America/Los_Angeles:20250623T090000
DTEND;TZID=America/Los_Angeles:20250623T110000
DTSTAMP:20260419T143241
CREATED:20240930T163840Z
LAST-MODIFIED:20241028T205937Z
UID:10001219-1750669200-1750676400@helphopehome.org
SUMMARY:CoC Program Committee Meeting
DESCRIPTION:For designated committee members and staff only
URL:https://helphopehome.org/event/coc-program-committee-meeting-2-2/2025-06-23/
CATEGORIES:SNHCoC
ORGANIZER;CN="Help Hope Home":MAILTO:helphopehome@clarkcountynv.gov
END:VEVENT
BEGIN:VEVENT
DTSTART;TZID=America/Los_Angeles:20250526T090000
DTEND;TZID=America/Los_Angeles:20250526T110000
DTSTAMP:20260419T143241
CREATED:20240930T163840Z
LAST-MODIFIED:20241028T205937Z
UID:10001218-1748250000-1748257200@helphopehome.org
SUMMARY:CoC Program Committee Meeting
DESCRIPTION:For designated committee members and staff only
URL:https://helphopehome.org/event/coc-program-committee-meeting-2-2/2025-05-26/
CATEGORIES:SNHCoC
ORGANIZER;CN="Help Hope Home":MAILTO:helphopehome@clarkcountynv.gov
END:VEVENT
BEGIN:VEVENT
DTSTART;TZID=America/Los_Angeles:20250508T100000
DTEND;TZID=America/Los_Angeles:20250508T123000
DTSTAMP:20260419T143241
CREATED:20250313T203541Z
LAST-MODIFIED:20250313T203645Z
UID:10001625-1746698400-1746707400@helphopehome.org
SUMMARY:Continuum of Care Membership Meeting
DESCRIPTION:Join Virtually
URL:https://helphopehome.org/event/continuum-of-care-membership-meeting-3-2/2025-05-08/
LOCATION:United Way of Southern Nevada\, 5830 W. Flamingo Road\, Las Vegas\, NV\, 89103\, United States
CATEGORIES:SNHCoC
ORGANIZER;CN="Help Hope Home":MAILTO:helphopehome@clarkcountynv.gov
END:VEVENT
BEGIN:VEVENT
DTSTART;TZID=America/Los_Angeles:20250428T090000
DTEND;TZID=America/Los_Angeles:20250428T110000
DTSTAMP:20260419T143241
CREATED:20240930T163840Z
LAST-MODIFIED:20241028T205937Z
UID:10001217-1745830800-1745838000@helphopehome.org
SUMMARY:CoC Program Committee Meeting
DESCRIPTION:For designated committee members and staff only
URL:https://helphopehome.org/event/coc-program-committee-meeting-2-2/2025-04-28/
CATEGORIES:SNHCoC
ORGANIZER;CN="Help Hope Home":MAILTO:helphopehome@clarkcountynv.gov
END:VEVENT
BEGIN:VEVENT
DTSTART;TZID=America/Los_Angeles:20250324T090000
DTEND;TZID=America/Los_Angeles:20250324T110000
DTSTAMP:20260419T143241
CREATED:20240930T163840Z
LAST-MODIFIED:20241028T205937Z
UID:10001216-1742806800-1742814000@helphopehome.org
SUMMARY:CoC Program Committee Meeting
DESCRIPTION:For designated committee members and staff only
URL:https://helphopehome.org/event/coc-program-committee-meeting-2-2/2025-03-24/
CATEGORIES:SNHCoC
ORGANIZER;CN="Help Hope Home":MAILTO:helphopehome@clarkcountynv.gov
END:VEVENT
BEGIN:VEVENT
DTSTART;TZID=America/Los_Angeles:20250313T100000
DTEND;TZID=America/Los_Angeles:20250313T123000
DTSTAMP:20260419T143241
CREATED:20250313T203541Z
LAST-MODIFIED:20250313T203645Z
UID:10001624-1741860000-1741869000@helphopehome.org
SUMMARY:Continuum of Care Membership Meeting
DESCRIPTION:Join Virtually
URL:https://helphopehome.org/event/continuum-of-care-membership-meeting-3-2/2025-03-13/
LOCATION:United Way of Southern Nevada\, 5830 W. Flamingo Road\, Las Vegas\, NV\, 89103\, United States
CATEGORIES:SNHCoC
ORGANIZER;CN="Help Hope Home":MAILTO:helphopehome@clarkcountynv.gov
END:VEVENT
BEGIN:VEVENT
DTSTART;TZID=America/Los_Angeles:20250224T090000
DTEND;TZID=America/Los_Angeles:20250224T110000
DTSTAMP:20260419T143241
CREATED:20240930T163840Z
LAST-MODIFIED:20241028T205937Z
UID:10001215-1740387600-1740394800@helphopehome.org
SUMMARY:CoC Program Committee Meeting
DESCRIPTION:For designated committee members and staff only
URL:https://helphopehome.org/event/coc-program-committee-meeting-2-2/2025-02-24/
CATEGORIES:SNHCoC
ORGANIZER;CN="Help Hope Home":MAILTO:helphopehome@clarkcountynv.gov
END:VEVENT
BEGIN:VEVENT
DTSTART;TZID=America/Los_Angeles:20250219T150000
DTEND;TZID=America/Los_Angeles:20250219T170000
DTSTAMP:20260419T143241
CREATED:20250213T185919Z
LAST-MODIFIED:20250213T185920Z
UID:10001493-1739977200-1739984400@helphopehome.org
SUMMARY:Southern Nevada CoC Board Meeting
DESCRIPTION:Microsoft Teams Need help? \nJoin the meeting now \nMeeting ID: 293 957 739 972 \nPasscode: 7VW6z7zV \n 
URL:https://helphopehome.org/event/southern-nevada-coc-board-meeting-2-2-2-2/
CATEGORIES:SNHCoC
ORGANIZER;CN="Help Hope Home":MAILTO:helphopehome@clarkcountynv.gov
END:VEVENT
BEGIN:VEVENT
DTSTART;TZID=America/Los_Angeles:20250214T100000
DTEND;TZID=America/Los_Angeles:20250214T113000
DTSTAMP:20260419T143241
CREATED:20240806T213517Z
LAST-MODIFIED:20250312T172454Z
UID:10001616-1739527200-1739532600@helphopehome.org
SUMMARY:Continuum of Care Membership Meeting
DESCRIPTION:Join Virtually
URL:https://helphopehome.org/event/continuum-of-care-membership-meeting/2025-02-14/
LOCATION:United Way of Southern Nevada\, 5830 W. Flamingo Road\, Las Vegas\, NV\, 89103\, United States
CATEGORIES:SNHCoC
ORGANIZER;CN="Help Hope Home":MAILTO:helphopehome@clarkcountynv.gov
END:VEVENT
BEGIN:VEVENT
DTSTART;TZID=America/Los_Angeles:20250127T090000
DTEND;TZID=America/Los_Angeles:20250127T110000
DTSTAMP:20260419T143241
CREATED:20240930T163840Z
LAST-MODIFIED:20241028T205937Z
UID:10001214-1737968400-1737975600@helphopehome.org
SUMMARY:CoC Program Committee Meeting
DESCRIPTION:For designated committee members and staff only
URL:https://helphopehome.org/event/coc-program-committee-meeting-2-2/2025-01-27/
CATEGORIES:SNHCoC
ORGANIZER;CN="Help Hope Home":MAILTO:helphopehome@clarkcountynv.gov
END:VEVENT
BEGIN:VEVENT
DTSTART;TZID=America/Los_Angeles:20250114T100000
DTEND;TZID=America/Los_Angeles:20250114T113000
DTSTAMP:20260419T143241
CREATED:20240806T213517Z
LAST-MODIFIED:20250312T172454Z
UID:10001615-1736848800-1736854200@helphopehome.org
SUMMARY:Continuum of Care Membership Meeting
DESCRIPTION:Join Virtually
URL:https://helphopehome.org/event/continuum-of-care-membership-meeting/2025-01-14/
LOCATION:United Way of Southern Nevada\, 5830 W. Flamingo Road\, Las Vegas\, NV\, 89103\, United States
CATEGORIES:SNHCoC
ORGANIZER;CN="Help Hope Home":MAILTO:helphopehome@clarkcountynv.gov
END:VEVENT
BEGIN:VEVENT
DTSTART;TZID=America/Los_Angeles:20241216T150000
DTEND;TZID=America/Los_Angeles:20241216T170000
DTSTAMP:20260419T143241
CREATED:20241028T193332Z
LAST-MODIFIED:20241028T193332Z
UID:10001386-1734361200-1734368400@helphopehome.org
SUMMARY:Southern Nevada CoC Board Meeting
DESCRIPTION:Join from the meeting link \nMeeting number (access code): 2493 025 7298 \nMeeting password: 28u5PNaMTRC \nTap to join from a mobile device (attendees only) \n+1-408-418-9388\,\,24930257298## United States Toll \nJoin by phone \n+1-408-418-9388 United States Toll \nGlobal call-in numbers \nJoin from a video system or application \nDial 24930257298@clarkcountynv.webex.com \nYou can also dial 173.243.2.68 and enter your meeting number.
URL:https://helphopehome.org/event/southern-nevada-coc-board-meeting-2-2/2024-12-16/
CATEGORIES:SNHCoC
ORGANIZER;CN="Help Hope Home":MAILTO:helphopehome@clarkcountynv.gov
END:VEVENT
BEGIN:VEVENT
DTSTART;TZID=America/Los_Angeles:20241214T100000
DTEND;TZID=America/Los_Angeles:20241214T113000
DTSTAMP:20260419T143241
CREATED:20240806T213517Z
LAST-MODIFIED:20250312T172454Z
UID:10001614-1734170400-1734175800@helphopehome.org
SUMMARY:Continuum of Care Membership Meeting
DESCRIPTION:Join Virtually
URL:https://helphopehome.org/event/continuum-of-care-membership-meeting/2024-12-14/
LOCATION:United Way of Southern Nevada\, 5830 W. Flamingo Road\, Las Vegas\, NV\, 89103\, United States
CATEGORIES:SNHCoC
ORGANIZER;CN="Help Hope Home":MAILTO:helphopehome@clarkcountynv.gov
END:VEVENT
BEGIN:VEVENT
DTSTART;TZID=America/Los_Angeles:20241211T130000
DTEND;TZID=America/Los_Angeles:20241211T150000
DTSTAMP:20260419T143241
CREATED:20240829T142529Z
LAST-MODIFIED:20240829T142811Z
UID:10001337-1733922000-1733929200@helphopehome.org
SUMMARY:HMIS Steering Committee Meeting
DESCRIPTION:For designated committee members and staff only
URL:https://helphopehome.org/event/hmis-steering-committee-meeting/2024-12-11/
CATEGORIES:SNHCoC
ORGANIZER;CN="Help Hope Home":MAILTO:helphopehome@clarkcountynv.gov
END:VEVENT
BEGIN:VEVENT
DTSTART;TZID=America/Los_Angeles:20241211T100000
DTEND;TZID=America/Los_Angeles:20241211T113000
DTSTAMP:20260419T143241
CREATED:20241205T003148Z
LAST-MODIFIED:20241205T004447Z
UID:10001475-1733911200-1733916600@helphopehome.org
SUMMARY:Frontline Learning Collaborative
DESCRIPTION:For the month of December\, we have Adrienne Babbitt with the Las Vegas HUD Field Office. \nThis learning collaborative is for frontline staff and people frequently engaging with those experiencing a housing crisis.   We need the limited seats for the frontline workers like shelter workers\, outreach workers\, housing case managers\, intake workers\, etc. \nLocation: Clark County Government Center (500 S Grand Central Pkwy\, Las Vegas\, NV  89155); 1st Floor Chambers
URL:https://helphopehome.org/event/frontline-learning-collaborative-3/
LOCATION:Clark County Government Center Commission Chambers\, 500 S Grand Central Pkwy\, Las Vegas\, Nevada\, 89155
CATEGORIES:Training
ORGANIZER;CN="Help Hope Home":MAILTO:helphopehome@clarkcountynv.gov
END:VEVENT
BEGIN:VEVENT
DTSTART;TZID=America/Los_Angeles:20241118T150000
DTEND;TZID=America/Los_Angeles:20241118T170000
DTSTAMP:20260419T143241
CREATED:20241028T193332Z
LAST-MODIFIED:20241028T193332Z
UID:10001170-1731942000-1731949200@helphopehome.org
SUMMARY:Southern Nevada CoC Board Meeting
DESCRIPTION:Join from the meeting link \nMeeting number (access code): 2493 025 7298 \nMeeting password: 28u5PNaMTRC \nTap to join from a mobile device (attendees only) \n+1-408-418-9388\,\,24930257298## United States Toll \nJoin by phone \n+1-408-418-9388 United States Toll \nGlobal call-in numbers \nJoin from a video system or application \nDial 24930257298@clarkcountynv.webex.com \nYou can also dial 173.243.2.68 and enter your meeting number.
URL:https://helphopehome.org/event/southern-nevada-coc-board-meeting-2-2/2024-11-18/
CATEGORIES:SNHCoC
ORGANIZER;CN="Help Hope Home":MAILTO:helphopehome@clarkcountynv.gov
END:VEVENT
BEGIN:VEVENT
DTSTART;TZID=America/Los_Angeles:20241114T100000
DTEND;TZID=America/Los_Angeles:20241114T113000
DTSTAMP:20260419T143241
CREATED:20240806T213517Z
LAST-MODIFIED:20250312T172454Z
UID:10001313-1731578400-1731583800@helphopehome.org
SUMMARY:Continuum of Care Membership Meeting
DESCRIPTION:Join Virtually
URL:https://helphopehome.org/event/continuum-of-care-membership-meeting/2024-11-14/
LOCATION:United Way of Southern Nevada\, 5830 W. Flamingo Road\, Las Vegas\, NV\, 89103\, United States
CATEGORIES:SNHCoC
ORGANIZER;CN="Help Hope Home":MAILTO:helphopehome@clarkcountynv.gov
END:VEVENT
BEGIN:VEVENT
DTSTART;TZID=America/Los_Angeles:20241113T130000
DTEND;TZID=America/Los_Angeles:20241113T150000
DTSTAMP:20260419T143241
CREATED:20240829T142529Z
LAST-MODIFIED:20240829T142811Z
UID:10001336-1731502800-1731510000@helphopehome.org
SUMMARY:HMIS Steering Committee Meeting
DESCRIPTION:For designated committee members and staff only
URL:https://helphopehome.org/event/hmis-steering-committee-meeting/2024-11-13/
CATEGORIES:SNHCoC
ORGANIZER;CN="Help Hope Home":MAILTO:helphopehome@clarkcountynv.gov
END:VEVENT
BEGIN:VEVENT
DTSTART;TZID=America/Los_Angeles:20241028T090000
DTEND;TZID=America/Los_Angeles:20241028T110000
DTSTAMP:20260419T143241
CREATED:20240930T163840Z
LAST-MODIFIED:20241028T205937Z
UID:10001211-1730106000-1730113200@helphopehome.org
SUMMARY:CoC Program Committee Meeting
DESCRIPTION:For designated committee members and staff only
URL:https://helphopehome.org/event/coc-program-committee-meeting-2-2/2024-10-28/
CATEGORIES:SNHCoC
ORGANIZER;CN="Help Hope Home":MAILTO:helphopehome@clarkcountynv.gov
END:VEVENT
BEGIN:VEVENT
DTSTART;TZID=America/Los_Angeles:20241023T130000
DTEND;TZID=America/Los_Angeles:20241023T150000
DTSTAMP:20260419T143241
CREATED:20240829T142529Z
LAST-MODIFIED:20240829T142811Z
UID:10001338-1729688400-1729695600@helphopehome.org
SUMMARY:HMIS Steering Committee Meeting
DESCRIPTION:For designated committee members and staff only
URL:https://helphopehome.org/event/hmis-steering-committee-meeting/2024-10-23/
CATEGORIES:SNHCoC
ORGANIZER;CN="Help Hope Home":MAILTO:helphopehome@clarkcountynv.gov
END:VEVENT
BEGIN:VEVENT
DTSTART;TZID=America/Los_Angeles:20241014T150000
DTEND;TZID=America/Los_Angeles:20241014T170000
DTSTAMP:20260419T143241
CREATED:20240725T224711Z
LAST-MODIFIED:20240909T221218Z
UID:10001169-1728918000-1728925200@helphopehome.org
SUMMARY:Southern Nevada CoC Board Meeting
DESCRIPTION:Join from the meeting link: https://clarkcountynv.webex.com/clarkcountynv/j.php?MTID=m216e9d0ff2c64f7b212fee25456921e4 \nJoin by meeting number \nMeeting number (access code): 2493 025 7298 \nMeeting password: 28u5PNaMTRC \nTap to join from a mobile device (attendees only) \n+1-408-418-9388\,\,24930257298## United States Toll \n  \nJoin by phone \n+1-408-418-9388 United States Toll \nGlobal call-in numbers \n  \nJoin from a video system or application \nDial 24930257298@clarkcountynv.webex.com \nYou can also dial 173.243.2.68 and enter your meeting number.
URL:https://helphopehome.org/event/southern-nevada-coc-board-meeting-2/2024-10-14/
CATEGORIES:SNHCoC
ORGANIZER;CN="Help Hope Home":MAILTO:helphopehome@clarkcountynv.gov
END:VEVENT
BEGIN:VEVENT
DTSTART;TZID=America/Los_Angeles:20241009T130000
DTEND;TZID=America/Los_Angeles:20241009T150000
DTSTAMP:20260419T143241
CREATED:20240829T142529Z
LAST-MODIFIED:20240829T142811Z
UID:10001335-1728478800-1728486000@helphopehome.org
SUMMARY:HMIS Steering Committee Meeting
DESCRIPTION:For designated committee members and staff only
URL:https://helphopehome.org/event/hmis-steering-committee-meeting/2024-10-09/
CATEGORIES:SNHCoC
ORGANIZER;CN="Help Hope Home":MAILTO:helphopehome@clarkcountynv.gov
END:VEVENT
END:VCALENDAR