BEGIN:VCALENDAR
VERSION:2.0
PRODID:-//Help Hope Home - ECPv6.15.20//NONSGML v1.0//EN
CALSCALE:GREGORIAN
METHOD:PUBLISH
X-ORIGINAL-URL:https://helphopehome.org
X-WR-CALDESC:Events for Help Hope Home
REFRESH-INTERVAL;VALUE=DURATION:PT1H
X-Robots-Tag:noindex
X-PUBLISHED-TTL:PT1H
BEGIN:VTIMEZONE
TZID:America/Los_Angeles
BEGIN:DAYLIGHT
TZOFFSETFROM:-0800
TZOFFSETTO:-0700
TZNAME:PDT
DTSTART:20220313T100000
END:DAYLIGHT
BEGIN:STANDARD
TZOFFSETFROM:-0700
TZOFFSETTO:-0800
TZNAME:PST
DTSTART:20221106T090000
END:STANDARD
BEGIN:DAYLIGHT
TZOFFSETFROM:-0800
TZOFFSETTO:-0700
TZNAME:PDT
DTSTART:20230312T100000
END:DAYLIGHT
BEGIN:STANDARD
TZOFFSETFROM:-0700
TZOFFSETTO:-0800
TZNAME:PST
DTSTART:20231105T090000
END:STANDARD
BEGIN:DAYLIGHT
TZOFFSETFROM:-0800
TZOFFSETTO:-0700
TZNAME:PDT
DTSTART:20240310T100000
END:DAYLIGHT
BEGIN:STANDARD
TZOFFSETFROM:-0700
TZOFFSETTO:-0800
TZNAME:PST
DTSTART:20241103T090000
END:STANDARD
BEGIN:DAYLIGHT
TZOFFSETFROM:-0800
TZOFFSETTO:-0700
TZNAME:PDT
DTSTART:20250309T100000
END:DAYLIGHT
BEGIN:STANDARD
TZOFFSETFROM:-0700
TZOFFSETTO:-0800
TZNAME:PST
DTSTART:20251102T090000
END:STANDARD
END:VTIMEZONE
BEGIN:VEVENT
DTSTART;TZID=America/Los_Angeles:20241114T100000
DTEND;TZID=America/Los_Angeles:20241114T113000
DTSTAMP:20260419T174414
CREATED:20240806T213517Z
LAST-MODIFIED:20250312T172454Z
UID:10001313-1731578400-1731583800@helphopehome.org
SUMMARY:Continuum of Care Membership Meeting
DESCRIPTION:Join Virtually
URL:https://helphopehome.org/event/continuum-of-care-membership-meeting/2024-11-14/
LOCATION:United Way of Southern Nevada\, 5830 W. Flamingo Road\, Las Vegas\, NV\, 89103\, United States
CATEGORIES:SNHCoC
ORGANIZER;CN="Help Hope Home":MAILTO:helphopehome@clarkcountynv.gov
END:VEVENT
BEGIN:VEVENT
DTSTART;TZID=America/Los_Angeles:20241113T130000
DTEND;TZID=America/Los_Angeles:20241113T150000
DTSTAMP:20260419T174414
CREATED:20240829T142529Z
LAST-MODIFIED:20240829T142811Z
UID:10001336-1731502800-1731510000@helphopehome.org
SUMMARY:HMIS Steering Committee Meeting
DESCRIPTION:For designated committee members and staff only
URL:https://helphopehome.org/event/hmis-steering-committee-meeting/2024-11-13/
CATEGORIES:SNHCoC
ORGANIZER;CN="Help Hope Home":MAILTO:helphopehome@clarkcountynv.gov
END:VEVENT
BEGIN:VEVENT
DTSTART;TZID=America/Los_Angeles:20241028T090000
DTEND;TZID=America/Los_Angeles:20241028T110000
DTSTAMP:20260419T174414
CREATED:20240930T163840Z
LAST-MODIFIED:20241028T205937Z
UID:10001211-1730106000-1730113200@helphopehome.org
SUMMARY:CoC Program Committee Meeting
DESCRIPTION:For designated committee members and staff only
URL:https://helphopehome.org/event/coc-program-committee-meeting-2-2/2024-10-28/
CATEGORIES:SNHCoC
ORGANIZER;CN="Help Hope Home":MAILTO:helphopehome@clarkcountynv.gov
END:VEVENT
BEGIN:VEVENT
DTSTART;TZID=America/Los_Angeles:20241023T130000
DTEND;TZID=America/Los_Angeles:20241023T150000
DTSTAMP:20260419T174414
CREATED:20240829T142529Z
LAST-MODIFIED:20240829T142811Z
UID:10001338-1729688400-1729695600@helphopehome.org
SUMMARY:HMIS Steering Committee Meeting
DESCRIPTION:For designated committee members and staff only
URL:https://helphopehome.org/event/hmis-steering-committee-meeting/2024-10-23/
CATEGORIES:SNHCoC
ORGANIZER;CN="Help Hope Home":MAILTO:helphopehome@clarkcountynv.gov
END:VEVENT
BEGIN:VEVENT
DTSTART;TZID=America/Los_Angeles:20241014T150000
DTEND;TZID=America/Los_Angeles:20241014T170000
DTSTAMP:20260419T174414
CREATED:20240725T224711Z
LAST-MODIFIED:20240909T221218Z
UID:10001169-1728918000-1728925200@helphopehome.org
SUMMARY:Southern Nevada CoC Board Meeting
DESCRIPTION:Join from the meeting link: https://clarkcountynv.webex.com/clarkcountynv/j.php?MTID=m216e9d0ff2c64f7b212fee25456921e4 \nJoin by meeting number \nMeeting number (access code): 2493 025 7298 \nMeeting password: 28u5PNaMTRC \nTap to join from a mobile device (attendees only) \n+1-408-418-9388\,\,24930257298## United States Toll \n  \nJoin by phone \n+1-408-418-9388 United States Toll \nGlobal call-in numbers \n  \nJoin from a video system or application \nDial 24930257298@clarkcountynv.webex.com \nYou can also dial 173.243.2.68 and enter your meeting number.
URL:https://helphopehome.org/event/southern-nevada-coc-board-meeting-2/2024-10-14/
CATEGORIES:SNHCoC
ORGANIZER;CN="Help Hope Home":MAILTO:helphopehome@clarkcountynv.gov
END:VEVENT
BEGIN:VEVENT
DTSTART;TZID=America/Los_Angeles:20241009T130000
DTEND;TZID=America/Los_Angeles:20241009T150000
DTSTAMP:20260419T174414
CREATED:20240829T142529Z
LAST-MODIFIED:20240829T142811Z
UID:10001335-1728478800-1728486000@helphopehome.org
SUMMARY:HMIS Steering Committee Meeting
DESCRIPTION:For designated committee members and staff only
URL:https://helphopehome.org/event/hmis-steering-committee-meeting/2024-10-09/
CATEGORIES:SNHCoC
ORGANIZER;CN="Help Hope Home":MAILTO:helphopehome@clarkcountynv.gov
END:VEVENT
BEGIN:VEVENT
DTSTART;TZID=America/Los_Angeles:20240926T100000
DTEND;TZID=America/Los_Angeles:20240926T113000
DTSTAMP:20260419T174414
CREATED:20240806T221849Z
LAST-MODIFIED:20240827T124520Z
UID:10001323-1727344800-1727350200@helphopehome.org
SUMMARY:Continuum of Care Membership
DESCRIPTION:
URL:https://helphopehome.org/event/continuum-of-care-membership/
LOCATION:United Way of Southern Nevada\, 5830 W. Flamingo Road\, Las Vegas\, NV\, 89103\, United States
CATEGORIES:SNHCoC
ORGANIZER;CN="Help Hope Home":MAILTO:helphopehome@clarkcountynv.gov
END:VEVENT
BEGIN:VEVENT
DTSTART;TZID=America/Los_Angeles:20240925T130000
DTEND;TZID=America/Los_Angeles:20240925T150000
DTSTAMP:20260419T174414
CREATED:20240829T142529Z
LAST-MODIFIED:20240829T142811Z
UID:10001334-1727269200-1727276400@helphopehome.org
SUMMARY:HMIS Steering Committee Meeting
DESCRIPTION:For designated committee members and staff only
URL:https://helphopehome.org/event/hmis-steering-committee-meeting/2024-09-25/
CATEGORIES:SNHCoC
ORGANIZER;CN="Help Hope Home":MAILTO:helphopehome@clarkcountynv.gov
END:VEVENT
BEGIN:VEVENT
DTSTART;TZID=America/Los_Angeles:20240911T130000
DTEND;TZID=America/Los_Angeles:20240911T150000
DTSTAMP:20260419T174414
CREATED:20240829T142529Z
LAST-MODIFIED:20240829T142811Z
UID:10001333-1726059600-1726066800@helphopehome.org
SUMMARY:HMIS Steering Committee Meeting
DESCRIPTION:For designated committee members and staff only
URL:https://helphopehome.org/event/hmis-steering-committee-meeting/2024-09-11/
CATEGORIES:SNHCoC
ORGANIZER;CN="Help Hope Home":MAILTO:helphopehome@clarkcountynv.gov
END:VEVENT
BEGIN:VEVENT
DTSTART;TZID=America/Los_Angeles:20240909T150000
DTEND;TZID=America/Los_Angeles:20240909T170000
DTSTAMP:20260419T174414
CREATED:20240725T224711Z
LAST-MODIFIED:20240909T221218Z
UID:10001168-1725894000-1725901200@helphopehome.org
SUMMARY:Southern Nevada CoC Board Meeting
DESCRIPTION:Join from the meeting link: https://clarkcountynv.webex.com/clarkcountynv/j.php?MTID=m216e9d0ff2c64f7b212fee25456921e4 \nJoin by meeting number \nMeeting number (access code): 2493 025 7298 \nMeeting password: 28u5PNaMTRC \nTap to join from a mobile device (attendees only) \n+1-408-418-9388\,\,24930257298## United States Toll \n  \nJoin by phone \n+1-408-418-9388 United States Toll \nGlobal call-in numbers \n  \nJoin from a video system or application \nDial 24930257298@clarkcountynv.webex.com \nYou can also dial 173.243.2.68 and enter your meeting number.
URL:https://helphopehome.org/event/southern-nevada-coc-board-meeting-2/2024-09-09/
CATEGORIES:SNHCoC
ORGANIZER;CN="Help Hope Home":MAILTO:helphopehome@clarkcountynv.gov
END:VEVENT
BEGIN:VEVENT
DTSTART;TZID=America/Los_Angeles:20240828T130000
DTEND;TZID=America/Los_Angeles:20240828T150000
DTSTAMP:20260419T174414
CREATED:20240828T002743Z
LAST-MODIFIED:20240828T002743Z
UID:10001332-1724850000-1724857200@helphopehome.org
SUMMARY:HMIS Steering Committee
DESCRIPTION:Designated committee members and staff only
URL:https://helphopehome.org/event/hmis-steering-committee-2/
CATEGORIES:SNHCoC
ORGANIZER;CN="Help Hope Home":MAILTO:helphopehome@clarkcountynv.gov
END:VEVENT
BEGIN:VEVENT
DTSTART;TZID=America/Los_Angeles:20240826T090000
DTEND;TZID=America/Los_Angeles:20240826T110000
DTSTAMP:20260419T174414
CREATED:20240806T211257Z
LAST-MODIFIED:20240827T124648Z
UID:10001209-1724662800-1724670000@helphopehome.org
SUMMARY:CoC Program Committee Meeting
DESCRIPTION:For designated committee members and staff only
URL:https://helphopehome.org/event/coc-program-committee-meeting-2/
CATEGORIES:SNHCoC
ORGANIZER;CN="Help Hope Home":MAILTO:helphopehome@clarkcountynv.gov
END:VEVENT
BEGIN:VEVENT
DTSTART;TZID=America/Los_Angeles:20240814T130000
DTEND;TZID=America/Los_Angeles:20240814T150000
DTSTAMP:20260419T174414
CREATED:20240806T205120Z
LAST-MODIFIED:20240827T124146Z
UID:10001191-1723640400-1723647600@helphopehome.org
SUMMARY:HMIS Steering Committee Meeting
DESCRIPTION:For designated committee members and staff only
URL:https://helphopehome.org/event/hmis-steering-committee/
CATEGORIES:SNHCoC
ORGANIZER;CN="Help Hope Home":MAILTO:helphopehome@clarkcountynv.gov
END:VEVENT
BEGIN:VEVENT
DTSTART;TZID=America/Los_Angeles:20240812T150000
DTEND;TZID=America/Los_Angeles:20240812T170000
DTSTAMP:20260419T174414
CREATED:20240725T224711Z
LAST-MODIFIED:20240909T221218Z
UID:10001167-1723474800-1723482000@helphopehome.org
SUMMARY:Southern Nevada CoC Board Meeting
DESCRIPTION:Join from the meeting link: https://clarkcountynv.webex.com/clarkcountynv/j.php?MTID=m216e9d0ff2c64f7b212fee25456921e4 \nJoin by meeting number \nMeeting number (access code): 2493 025 7298 \nMeeting password: 28u5PNaMTRC \nTap to join from a mobile device (attendees only) \n+1-408-418-9388\,\,24930257298## United States Toll \n  \nJoin by phone \n+1-408-418-9388 United States Toll \nGlobal call-in numbers \n  \nJoin from a video system or application \nDial 24930257298@clarkcountynv.webex.com \nYou can also dial 173.243.2.68 and enter your meeting number.
URL:https://helphopehome.org/event/southern-nevada-coc-board-meeting-2/2024-08-12/
CATEGORIES:SNHCoC
ORGANIZER;CN="Help Hope Home":MAILTO:helphopehome@clarkcountynv.gov
END:VEVENT
BEGIN:VEVENT
DTSTART;TZID=America/Los_Angeles:20240319T130000
DTEND;TZID=America/Los_Angeles:20240319T150000
DTSTAMP:20260419T174414
CREATED:20230802T153521Z
LAST-MODIFIED:20230802T163747Z
UID:10000269-1710853200-1710860400@helphopehome.org
SUMMARY:Coordinated Entry Services Working Group
DESCRIPTION:Monthly virtual meeting of the Coordinated Entry Services Working Group \nWebex: https://clarkcountynv.webex.com/clarkcountynv/j.php?MTID=md0f3ead790216d5cdb4e1ee6c3fe7522 \nMeeting number (access code): 2480 381 2345 \nMeeting password: rG8FHKwMg87 \nJoin by phone: +1-408-418-9388 \n 
URL:https://helphopehome.org/event/coordinated-entry-services-working-group/2024-03-19/
ORGANIZER;CN="Help Hope Home":MAILTO:helphopehome@clarkcountynv.gov
END:VEVENT
BEGIN:VEVENT
DTSTART;TZID=America/Los_Angeles:20240314T140000
DTEND;TZID=America/Los_Angeles:20240314T170000
DTSTAMP:20260419T174414
CREATED:20230802T211651Z
LAST-MODIFIED:20230802T221653Z
UID:10000277-1710424800-1710435600@helphopehome.org
SUMMARY:Southern Nevada Homelessness Continuum of Care Board Meeting
DESCRIPTION:This is a monthly meeting of the Southern Nevada Homelessness Continuum of Care Board\, which convenes on the 2nd Thursdays at 2:00pm.  Meetings will continue to be virtual until further notice.  January is intended to include business items for deliberation of the entire CoC\, including updated board membership.    \nPursuant to open meeting law\, a quorum is required for the meeting to convene\, so roll call will be taken at the beginning of each virtual meeting.   \nWebex: https://clarkcountynv.webex.com/clarkcountynv/j.php?MTID=m7af3bb7f426d0a63f74cde9c30d79d91 \nMeeting number: 2481 888 9589\nPassword: SNHCoC \nJoin by video system\nDial 24818889589@clarkcountynv.webex.com\nYou can also dial 173.243.2.68 and enter your meeting number. \nJoin by phone\n+1-408-418-9388 United States Toll \nAccess code: 248 188 89589
URL:https://helphopehome.org/event/southern-nevada-homelessness-continuum-of-care-board-meeting/2024-03-14/
ORGANIZER;CN="Help Hope Home":MAILTO:helphopehome@clarkcountynv.gov
END:VEVENT
BEGIN:VEVENT
DTSTART;TZID=America/Los_Angeles:20240307T150000
DTEND;TZID=America/Los_Angeles:20240307T163000
DTSTAMP:20260419T174414
CREATED:20230831T232821Z
LAST-MODIFIED:20230831T232821Z
UID:10000295-1709823600-1709829000@helphopehome.org
SUMMARY:SNHCoC Planning Working Group Meeting (NEW)
DESCRIPTION:SNHCoC Planning Working Group Meeting (NEW) \nThis work group meeting will meet the first Thursday of every month from 3:00pm – 4:30pm \n\n\n\nJoin from the meeting link \n\n\nhttps://clv.webex.com/clv/j.php?MTID=m2d10fa7137b22ccde525bf8b7f6c1187
URL:https://helphopehome.org/event/snhcoc-planning-working-group-meeting-new/2024-03-07/
ORGANIZER;CN="Help Hope Home":MAILTO:helphopehome@clarkcountynv.gov
END:VEVENT
BEGIN:VEVENT
DTSTART;TZID=America/Los_Angeles:20240220T130000
DTEND;TZID=America/Los_Angeles:20240220T150000
DTSTAMP:20260419T174414
CREATED:20230802T153521Z
LAST-MODIFIED:20230802T163747Z
UID:10000268-1708434000-1708441200@helphopehome.org
SUMMARY:Coordinated Entry Services Working Group
DESCRIPTION:Monthly virtual meeting of the Coordinated Entry Services Working Group \nWebex: https://clarkcountynv.webex.com/clarkcountynv/j.php?MTID=md0f3ead790216d5cdb4e1ee6c3fe7522 \nMeeting number (access code): 2480 381 2345 \nMeeting password: rG8FHKwMg87 \nJoin by phone: +1-408-418-9388 \n 
URL:https://helphopehome.org/event/coordinated-entry-services-working-group/2024-02-20/
ORGANIZER;CN="Help Hope Home":MAILTO:helphopehome@clarkcountynv.gov
END:VEVENT
BEGIN:VEVENT
DTSTART;TZID=America/Los_Angeles:20240208T140000
DTEND;TZID=America/Los_Angeles:20240208T170000
DTSTAMP:20260419T174414
CREATED:20230802T211651Z
LAST-MODIFIED:20230802T221653Z
UID:10000276-1707400800-1707411600@helphopehome.org
SUMMARY:Southern Nevada Homelessness Continuum of Care Board Meeting
DESCRIPTION:This is a monthly meeting of the Southern Nevada Homelessness Continuum of Care Board\, which convenes on the 2nd Thursdays at 2:00pm.  Meetings will continue to be virtual until further notice.  January is intended to include business items for deliberation of the entire CoC\, including updated board membership.    \nPursuant to open meeting law\, a quorum is required for the meeting to convene\, so roll call will be taken at the beginning of each virtual meeting.   \nWebex: https://clarkcountynv.webex.com/clarkcountynv/j.php?MTID=m7af3bb7f426d0a63f74cde9c30d79d91 \nMeeting number: 2481 888 9589\nPassword: SNHCoC \nJoin by video system\nDial 24818889589@clarkcountynv.webex.com\nYou can also dial 173.243.2.68 and enter your meeting number. \nJoin by phone\n+1-408-418-9388 United States Toll \nAccess code: 248 188 89589
URL:https://helphopehome.org/event/southern-nevada-homelessness-continuum-of-care-board-meeting/2024-02-08/
ORGANIZER;CN="Help Hope Home":MAILTO:helphopehome@clarkcountynv.gov
END:VEVENT
BEGIN:VEVENT
DTSTART;TZID=America/Los_Angeles:20240201T150000
DTEND;TZID=America/Los_Angeles:20240201T163000
DTSTAMP:20260419T174414
CREATED:20230831T232821Z
LAST-MODIFIED:20230831T232821Z
UID:10000294-1706799600-1706805000@helphopehome.org
SUMMARY:SNHCoC Planning Working Group Meeting (NEW)
DESCRIPTION:SNHCoC Planning Working Group Meeting (NEW) \nThis work group meeting will meet the first Thursday of every month from 3:00pm – 4:30pm \n\n\n\nJoin from the meeting link \n\n\nhttps://clv.webex.com/clv/j.php?MTID=m2d10fa7137b22ccde525bf8b7f6c1187
URL:https://helphopehome.org/event/snhcoc-planning-working-group-meeting-new/2024-02-01/
ORGANIZER;CN="Help Hope Home":MAILTO:helphopehome@clarkcountynv.gov
END:VEVENT
BEGIN:VEVENT
DTSTART;TZID=America/Los_Angeles:20240116T130000
DTEND;TZID=America/Los_Angeles:20240116T150000
DTSTAMP:20260419T174414
CREATED:20230802T153521Z
LAST-MODIFIED:20230802T163747Z
UID:10000267-1705410000-1705417200@helphopehome.org
SUMMARY:Coordinated Entry Services Working Group
DESCRIPTION:Monthly virtual meeting of the Coordinated Entry Services Working Group \nWebex: https://clarkcountynv.webex.com/clarkcountynv/j.php?MTID=md0f3ead790216d5cdb4e1ee6c3fe7522 \nMeeting number (access code): 2480 381 2345 \nMeeting password: rG8FHKwMg87 \nJoin by phone: +1-408-418-9388 \n 
URL:https://helphopehome.org/event/coordinated-entry-services-working-group/2024-01-16/
ORGANIZER;CN="Help Hope Home":MAILTO:helphopehome@clarkcountynv.gov
END:VEVENT
BEGIN:VEVENT
DTSTART;TZID=America/Los_Angeles:20240111T140000
DTEND;TZID=America/Los_Angeles:20240111T170000
DTSTAMP:20260419T174414
CREATED:20230802T211651Z
LAST-MODIFIED:20230802T221653Z
UID:10000275-1704981600-1704992400@helphopehome.org
SUMMARY:Southern Nevada Homelessness Continuum of Care Board Meeting
DESCRIPTION:This is a monthly meeting of the Southern Nevada Homelessness Continuum of Care Board\, which convenes on the 2nd Thursdays at 2:00pm.  Meetings will continue to be virtual until further notice.  January is intended to include business items for deliberation of the entire CoC\, including updated board membership.    \nPursuant to open meeting law\, a quorum is required for the meeting to convene\, so roll call will be taken at the beginning of each virtual meeting.   \nWebex: https://clarkcountynv.webex.com/clarkcountynv/j.php?MTID=m7af3bb7f426d0a63f74cde9c30d79d91 \nMeeting number: 2481 888 9589\nPassword: SNHCoC \nJoin by video system\nDial 24818889589@clarkcountynv.webex.com\nYou can also dial 173.243.2.68 and enter your meeting number. \nJoin by phone\n+1-408-418-9388 United States Toll \nAccess code: 248 188 89589
URL:https://helphopehome.org/event/southern-nevada-homelessness-continuum-of-care-board-meeting/2024-01-11/
ORGANIZER;CN="Help Hope Home":MAILTO:helphopehome@clarkcountynv.gov
END:VEVENT
BEGIN:VEVENT
DTSTART;TZID=America/Los_Angeles:20240104T150000
DTEND;TZID=America/Los_Angeles:20240104T163000
DTSTAMP:20260419T174414
CREATED:20230831T232821Z
LAST-MODIFIED:20230831T232821Z
UID:10000293-1704380400-1704385800@helphopehome.org
SUMMARY:SNHCoC Planning Working Group Meeting (NEW)
DESCRIPTION:SNHCoC Planning Working Group Meeting (NEW) \nThis work group meeting will meet the first Thursday of every month from 3:00pm – 4:30pm \n\n\n\nJoin from the meeting link \n\n\nhttps://clv.webex.com/clv/j.php?MTID=m2d10fa7137b22ccde525bf8b7f6c1187
URL:https://helphopehome.org/event/snhcoc-planning-working-group-meeting-new/2024-01-04/
ORGANIZER;CN="Help Hope Home":MAILTO:helphopehome@clarkcountynv.gov
END:VEVENT
BEGIN:VEVENT
DTSTART;TZID=America/Los_Angeles:20231219T130000
DTEND;TZID=America/Los_Angeles:20231219T150000
DTSTAMP:20260419T174414
CREATED:20230802T153521Z
LAST-MODIFIED:20230802T163747Z
UID:10000266-1702990800-1702998000@helphopehome.org
SUMMARY:Coordinated Entry Services Working Group
DESCRIPTION:Monthly virtual meeting of the Coordinated Entry Services Working Group \nWebex: https://clarkcountynv.webex.com/clarkcountynv/j.php?MTID=md0f3ead790216d5cdb4e1ee6c3fe7522 \nMeeting number (access code): 2480 381 2345 \nMeeting password: rG8FHKwMg87 \nJoin by phone: +1-408-418-9388 \n 
URL:https://helphopehome.org/event/coordinated-entry-services-working-group/2023-12-19/
ORGANIZER;CN="Help Hope Home":MAILTO:helphopehome@clarkcountynv.gov
END:VEVENT
BEGIN:VEVENT
DTSTART;TZID=America/Los_Angeles:20231214T083000
DTEND;TZID=America/Los_Angeles:20231214T113000
DTSTAMP:20260419T174414
CREATED:20231211T161604Z
LAST-MODIFIED:20231211T164036Z
UID:10000274-1702542600-1702553400@helphopehome.org
SUMMARY:Southern Nevada Homelessness Continuum of Care Board Meeting
DESCRIPTION:This is a monthly meeting of the Southern Nevada Homelessness Continuum of Care Board\, which convenes on the 2nd Thursdays.  This month’s meeting is at 8:30am.  Meetings will continue to be virtual until further notice.  January is intended to include business items for deliberation of the entire CoC\, including updated board membership.    \nhttps://clarkcountynv.webex.com/clarkcountynv/j.php?MTID=m603335674448047ca1880140d15c1f6d\nThursday\, December 14\, 2023 8:30 AM | 3 hours | (UTC-08:00) Pacific Time (US & Canada)\nMeeting number: 2490 784 4297\nPassword: SNHCoC \nJoin by video system\nDial 24907844297@clarkcountynv.webex.com\nYou can also dial 173.243.2.68 and enter your meeting number. \nJoin by phone\n+1-408-418-9388 United States Toll \nAccess code: 249 078 44297
URL:https://helphopehome.org/event/southern-nevada-homelessness-continuum-of-care-board-meeting-2/
ORGANIZER;CN="Help Hope Home":MAILTO:helphopehome@clarkcountynv.gov
END:VEVENT
BEGIN:VEVENT
DTSTART;TZID=America/Los_Angeles:20231207T150000
DTEND;TZID=America/Los_Angeles:20231207T163000
DTSTAMP:20260419T174414
CREATED:20230831T232821Z
LAST-MODIFIED:20230831T232821Z
UID:10000292-1701961200-1701966600@helphopehome.org
SUMMARY:SNHCoC Planning Working Group Meeting (NEW)
DESCRIPTION:SNHCoC Planning Working Group Meeting (NEW) \nThis work group meeting will meet the first Thursday of every month from 3:00pm – 4:30pm \n\n\n\nJoin from the meeting link \n\n\nhttps://clv.webex.com/clv/j.php?MTID=m2d10fa7137b22ccde525bf8b7f6c1187
URL:https://helphopehome.org/event/snhcoc-planning-working-group-meeting-new/2023-12-07/
ORGANIZER;CN="Help Hope Home":MAILTO:helphopehome@clarkcountynv.gov
END:VEVENT
BEGIN:VEVENT
DTSTART;TZID=America/Los_Angeles:20231121T130000
DTEND;TZID=America/Los_Angeles:20231121T150000
DTSTAMP:20260419T174414
CREATED:20230802T153521Z
LAST-MODIFIED:20230802T163747Z
UID:10000265-1700571600-1700578800@helphopehome.org
SUMMARY:Coordinated Entry Services Working Group
DESCRIPTION:Monthly virtual meeting of the Coordinated Entry Services Working Group \nWebex: https://clarkcountynv.webex.com/clarkcountynv/j.php?MTID=md0f3ead790216d5cdb4e1ee6c3fe7522 \nMeeting number (access code): 2480 381 2345 \nMeeting password: rG8FHKwMg87 \nJoin by phone: +1-408-418-9388 \n 
URL:https://helphopehome.org/event/coordinated-entry-services-working-group/2023-11-21/
ORGANIZER;CN="Help Hope Home":MAILTO:helphopehome@clarkcountynv.gov
END:VEVENT
BEGIN:VEVENT
DTSTART;TZID=America/Los_Angeles:20231109T140000
DTEND;TZID=America/Los_Angeles:20231109T170000
DTSTAMP:20260419T174414
CREATED:20230802T211651Z
LAST-MODIFIED:20230802T221653Z
UID:10000273-1699538400-1699549200@helphopehome.org
SUMMARY:Southern Nevada Homelessness Continuum of Care Board Meeting
DESCRIPTION:This is a monthly meeting of the Southern Nevada Homelessness Continuum of Care Board\, which convenes on the 2nd Thursdays at 2:00pm.  Meetings will continue to be virtual until further notice.  January is intended to include business items for deliberation of the entire CoC\, including updated board membership.    \nPursuant to open meeting law\, a quorum is required for the meeting to convene\, so roll call will be taken at the beginning of each virtual meeting.   \nWebex: https://clarkcountynv.webex.com/clarkcountynv/j.php?MTID=m7af3bb7f426d0a63f74cde9c30d79d91 \nMeeting number: 2481 888 9589\nPassword: SNHCoC \nJoin by video system\nDial 24818889589@clarkcountynv.webex.com\nYou can also dial 173.243.2.68 and enter your meeting number. \nJoin by phone\n+1-408-418-9388 United States Toll \nAccess code: 248 188 89589
URL:https://helphopehome.org/event/southern-nevada-homelessness-continuum-of-care-board-meeting/2023-11-09/
ORGANIZER;CN="Help Hope Home":MAILTO:helphopehome@clarkcountynv.gov
END:VEVENT
BEGIN:VEVENT
DTSTART;TZID=America/Los_Angeles:20231102T150000
DTEND;TZID=America/Los_Angeles:20231102T163000
DTSTAMP:20260419T174414
CREATED:20230831T232821Z
LAST-MODIFIED:20230831T232821Z
UID:10000291-1698937200-1698942600@helphopehome.org
SUMMARY:SNHCoC Planning Working Group Meeting (NEW)
DESCRIPTION:SNHCoC Planning Working Group Meeting (NEW) \nThis work group meeting will meet the first Thursday of every month from 3:00pm – 4:30pm \n\n\n\nJoin from the meeting link \n\n\nhttps://clv.webex.com/clv/j.php?MTID=m2d10fa7137b22ccde525bf8b7f6c1187
URL:https://helphopehome.org/event/snhcoc-planning-working-group-meeting-new/2023-11-02/
ORGANIZER;CN="Help Hope Home":MAILTO:helphopehome@clarkcountynv.gov
END:VEVENT
BEGIN:VEVENT
DTSTART;TZID=America/Los_Angeles:20231017T130000
DTEND;TZID=America/Los_Angeles:20231017T150000
DTSTAMP:20260419T174414
CREATED:20230802T153521Z
LAST-MODIFIED:20230802T163747Z
UID:10000264-1697547600-1697554800@helphopehome.org
SUMMARY:Coordinated Entry Services Working Group
DESCRIPTION:Monthly virtual meeting of the Coordinated Entry Services Working Group \nWebex: https://clarkcountynv.webex.com/clarkcountynv/j.php?MTID=md0f3ead790216d5cdb4e1ee6c3fe7522 \nMeeting number (access code): 2480 381 2345 \nMeeting password: rG8FHKwMg87 \nJoin by phone: +1-408-418-9388 \n 
URL:https://helphopehome.org/event/coordinated-entry-services-working-group/2023-10-17/
ORGANIZER;CN="Help Hope Home":MAILTO:helphopehome@clarkcountynv.gov
END:VEVENT
END:VCALENDAR