BEGIN:VCALENDAR
VERSION:2.0
PRODID:-//Help Hope Home - ECPv6.15.20//NONSGML v1.0//EN
CALSCALE:GREGORIAN
METHOD:PUBLISH
X-WR-CALNAME:Help Hope Home
X-ORIGINAL-URL:https://helphopehome.org
X-WR-CALDESC:Events for Help Hope Home
REFRESH-INTERVAL;VALUE=DURATION:PT1H
X-Robots-Tag:noindex
X-PUBLISHED-TTL:PT1H
BEGIN:VTIMEZONE
TZID:America/Los_Angeles
BEGIN:DAYLIGHT
TZOFFSETFROM:-0800
TZOFFSETTO:-0700
TZNAME:PDT
DTSTART:20230312T100000
END:DAYLIGHT
BEGIN:STANDARD
TZOFFSETFROM:-0700
TZOFFSETTO:-0800
TZNAME:PST
DTSTART:20231105T090000
END:STANDARD
BEGIN:DAYLIGHT
TZOFFSETFROM:-0800
TZOFFSETTO:-0700
TZNAME:PDT
DTSTART:20240310T100000
END:DAYLIGHT
BEGIN:STANDARD
TZOFFSETFROM:-0700
TZOFFSETTO:-0800
TZNAME:PST
DTSTART:20241103T090000
END:STANDARD
BEGIN:DAYLIGHT
TZOFFSETFROM:-0800
TZOFFSETTO:-0700
TZNAME:PDT
DTSTART:20250309T100000
END:DAYLIGHT
BEGIN:STANDARD
TZOFFSETFROM:-0700
TZOFFSETTO:-0800
TZNAME:PST
DTSTART:20251102T090000
END:STANDARD
END:VTIMEZONE
BEGIN:VEVENT
DTSTART;TZID=America/Los_Angeles:20241118T113000
DTEND;TZID=America/Los_Angeles:20241118T130000
DTSTAMP:20260420T054948
CREATED:20241015T171006Z
LAST-MODIFIED:20241015T171116Z
UID:10001371-1731929400-1731934800@helphopehome.org
SUMMARY:HIPAA and Data Sharing HUD Training for CoCs
DESCRIPTION:Webinar Description\nWe recognize that to serve people experiencing homelessness effectively\, efficiently\, and equitably\, we must understand who they are as humans. This includes a comprehensive understanding of the services people experiencing homelessness are currently accessing as\nwell as the services they need access to. We also recognize that partnerships between health care systems and homeless response systems are critical\, and that perceptions about the Health Insurance Portability and Accountability Act (HIPAA) have created barriers to streamlined connections between these two systems of care. \nPlease join us on Monday\, November 18 to hear directly from the Department of Housing and Urban Development (HUD) and the Department of Housing and Human Services (HHS) about how data that is covered by HIPAA can be shared with homeless response systems\, and in turn\, how data from HMIS can be shared back. The ability to share data between these two systems of care is critical to ensuring people experiencing homelessness have access to critical services and housing supports. \nRegistration\nThis webinar will occur on Monday\, November 18 from 11:30am-1:00pm PT. Please use the following link to register:\nhttps://csh-org.zoom.us/webinar/register/WN_D3gPcFm1QsGGezRBo8TBzw
URL:https://helphopehome.org/event/hipaadatasharinghudtraining/
CATEGORIES:Technical Assistance
LOCATION:https://helphopehome.org/event/hipaadatasharinghudtraining/
END:VEVENT
END:VCALENDAR