BEGIN:VCALENDAR
VERSION:2.0
PRODID:-//Help Hope Home - ECPv6.15.20//NONSGML v1.0//EN
CALSCALE:GREGORIAN
METHOD:PUBLISH
X-ORIGINAL-URL:https://helphopehome.org
X-WR-CALDESC:Events for Help Hope Home
REFRESH-INTERVAL;VALUE=DURATION:PT1H
X-Robots-Tag:noindex
X-PUBLISHED-TTL:PT1H
BEGIN:VTIMEZONE
TZID:America/Los_Angeles
BEGIN:DAYLIGHT
TZOFFSETFROM:-0800
TZOFFSETTO:-0700
TZNAME:PDT
DTSTART:20230312T100000
END:DAYLIGHT
BEGIN:STANDARD
TZOFFSETFROM:-0700
TZOFFSETTO:-0800
TZNAME:PST
DTSTART:20231105T090000
END:STANDARD
BEGIN:DAYLIGHT
TZOFFSETFROM:-0800
TZOFFSETTO:-0700
TZNAME:PDT
DTSTART:20240310T100000
END:DAYLIGHT
BEGIN:STANDARD
TZOFFSETFROM:-0700
TZOFFSETTO:-0800
TZNAME:PST
DTSTART:20241103T090000
END:STANDARD
BEGIN:DAYLIGHT
TZOFFSETFROM:-0800
TZOFFSETTO:-0700
TZNAME:PDT
DTSTART:20250309T100000
END:DAYLIGHT
BEGIN:STANDARD
TZOFFSETFROM:-0700
TZOFFSETTO:-0800
TZNAME:PST
DTSTART:20251102T090000
END:STANDARD
BEGIN:DAYLIGHT
TZOFFSETFROM:-0800
TZOFFSETTO:-0700
TZNAME:PDT
DTSTART:20260308T100000
END:DAYLIGHT
BEGIN:STANDARD
TZOFFSETFROM:-0700
TZOFFSETTO:-0800
TZNAME:PST
DTSTART:20261101T090000
END:STANDARD
BEGIN:DAYLIGHT
TZOFFSETFROM:-0800
TZOFFSETTO:-0700
TZNAME:PDT
DTSTART:20270314T100000
END:DAYLIGHT
BEGIN:STANDARD
TZOFFSETFROM:-0700
TZOFFSETTO:-0800
TZNAME:PST
DTSTART:20271107T090000
END:STANDARD
END:VTIMEZONE
BEGIN:VEVENT
DTSTART;TZID=America/Los_Angeles:20260210T100000
DTEND;TZID=America/Los_Angeles:20260210T130000
DTSTAMP:20260419T161606
CREATED:20260205T210450Z
LAST-MODIFIED:20260205T210450Z
UID:10002904-1770717600-1770728400@helphopehome.org
SUMMARY:Project Homeless Connect Event
DESCRIPTION:NHA & Share Village is holding an On-Site PHC Event next Tuesday and we need your help to spread the word. This event will be held on February 10th from 10:00am – 1:00pm. \nThe address is: 50 N. 21st. Street\, Las Vegas. \nWe will have a variety of service providers in attendance to provide on the spot assistance\, ranging from housing resources\, MCO’s\, mental/behavioral health\, rapid testing\,emergency shelter placements\, welfare supportive services\, community resources and more. \nProvider registration for this event is closed but please share the flyers on your event board\, throughout the community and with those that you serve.
URL:https://helphopehome.org/event/project-homeless-connect-event-6/
LOCATION:Share Village\, 50 N. 21st Street\, Las Vegas\, NV\, 89101
END:VEVENT
BEGIN:VEVENT
DTSTART;TZID=America/Los_Angeles:20251119T090000
DTEND;TZID=America/Los_Angeles:20251119T160000
DTSTAMP:20260419T161606
CREATED:20250513T145241Z
LAST-MODIFIED:20251023T185330Z
UID:10001710-1763542800-1763568000@helphopehome.org
SUMMARY:Project Homeless Connect
DESCRIPTION:The 2025 Project Homeless Connect is a community-wide event that aims to unite local providers\, businesses\, and volunteers to deliver essential services to individuals experiencing homelessness or severe housing insecurity. This event\, scheduled for November 19\, 2025\, offers a unique opportunity for individuals and organizations to come together and make a meaningful impact. By participating\, you can help provide vital services\, support\, and resources to those in need. Whether you’re a volunteer\, donor\, or service provider\, your contribution can help create a more compassionate and supportive community. Join us in this effort to bring about positive change and improve the lives of those struggling with homelessness or housing insecurity.
URL:https://helphopehome.org/event/project-homeless-connect-4/
LOCATION:World Market Center\, 475 S Grand Central Parkway\, Las Vegas\, NV\, 89106\, United States
END:VEVENT
BEGIN:VEVENT
DTSTART;TZID=America/Los_Angeles:20251023T100000
DTEND;TZID=America/Los_Angeles:20251023T130000
DTSTAMP:20260419T161606
CREATED:20251022T182038Z
LAST-MODIFIED:20251022T182038Z
UID:10002896-1761213600-1761224400@helphopehome.org
SUMMARY:POP UP Homeless Connect
DESCRIPTION:NHA & West Las Vegas Library has a PHC Pop-Up event this week. This event will be held on Thursday\, October 23rd from 10:00am – 1:00pm at 951 W. Lake Mead Blvd. \nWe will have a variety of service providers in attendance to provide on the spot assistance\, ranging from vision screenings\, rapid testing\, housing resources\, department of welfare services\, MCO’s\, spiritual support\, community resources\, food and more. \nProvider registration for this event is closed but please share the event flyers on your event board\, throughout the community and with those that you serve.
URL:https://helphopehome.org/event/pop-up-homeless-connect/
LOCATION:West Las Vegas Library\, 951 W. Lake Mead Blvd\, Las Vegas\, NV\, 89106\, United States
END:VEVENT
BEGIN:VEVENT
DTSTART;TZID=America/Los_Angeles:20250925T090000
DTEND;TZID=America/Los_Angeles:20250925T120000
DTSTAMP:20260419T161606
CREATED:20250826T192649Z
LAST-MODIFIED:20250826T192649Z
UID:10002894-1758790800-1758801600@helphopehome.org
SUMMARY:Project Homeless Connect
DESCRIPTION:Free Services: \n\nHousing assessments & referrals\nID/Birth Certs for people experiencing homelessness\nWelfare Department Services\nMedical Insurance/Medical Services\nLegal Aid & Disability Services\nVeteran Services\nEmployment & Workforce\nBehavioral/Mental Health\nFamily Services\nLGBTQIA+ Support\nHarm Reduction & Hygiene Kits\nClothing & giveaways\n& more …
URL:https://helphopehome.org/event/project-homeless-connect-8/
LOCATION:HELP of Southern Nevada\, 1640 E Flamingo Road\, Las Vegas\, NV\, United States
END:VEVENT
BEGIN:VEVENT
DTSTART;TZID=America/Los_Angeles:20250918T130000
DTEND;TZID=America/Los_Angeles:20250918T160000
DTSTAMP:20260419T161606
CREATED:20250826T192554Z
LAST-MODIFIED:20250826T192554Z
UID:10002893-1758200400-1758211200@helphopehome.org
SUMMARY:Project Homeless Connect
DESCRIPTION:Free Services: \n\nHousing assessments & referrals\nID/Birth Certs for people experiencing homelessness\nWelfare Department Services\nMedical Insurance/Medical Services\nLegal Aid & Disability Services\nVeteran Services\nEmployment & Workforce\nBehavioral/Mental Health\nFamily Services\nLGBTQIA+ Support\nHarm Reduction & Hygiene Kits\nClothing & giveaways\n& more …
URL:https://helphopehome.org/event/project-homeless-connect-7/
LOCATION:BTC (Bonneville Transit Center)\, 101 E Bonneville Ave\, Las Vegas\, NV\, 89169\, United States
END:VEVENT
BEGIN:VEVENT
DTSTART;TZID=America/Los_Angeles:20250912T100000
DTEND;TZID=America/Los_Angeles:20250912T140000
DTSTAMP:20260419T161606
CREATED:20250826T192513Z
LAST-MODIFIED:20250826T192513Z
UID:10002892-1757671200-1757685600@helphopehome.org
SUMMARY:Project Homeless Connect
DESCRIPTION:Free Services: \n\nHousing assessments & referrals\nID/Birth Certs for people experiencing homelessness\nWelfare Department Services\nMedical Insurance/Medical Services\nLegal Aid & Disability Services\nVeteran Services\nEmployment & Workforce\nBehavioral/Mental Health\nFamily Services\nLGBTQIA+ Support\nHarm Reduction & Hygiene Kits\nClothing & giveaways\n& more …
URL:https://helphopehome.org/event/project-homeless-connect-6/
LOCATION:Keeping It Real Ministries\, 1100 Almond Tree Lane\, Las Vegas\, 89104\, United States
END:VEVENT
BEGIN:VEVENT
DTSTART;TZID=America/Los_Angeles:20250904T100000
DTEND;TZID=America/Los_Angeles:20250904T120000
DTSTAMP:20260419T161606
CREATED:20250826T191445Z
LAST-MODIFIED:20250826T192247Z
UID:10002891-1756980000-1756987200@helphopehome.org
SUMMARY:Project Homeless Connect
DESCRIPTION:Free Services: \n\nHousing assessments & referrals\nID/Birth Certs for people experiencing homelessness\nWelfare Department Services\nMedical Insurance/Medical Services\nLegal Aid & Disability Services\nVeteran Services\nEmployment & Workforce\nBehavioral/Mental Health\nFamily Services\nLGBTQIA+ Support\nHarm Reduction & Hygiene Kits\nClothing & giveaways\n& more …
URL:https://helphopehome.org/event/project-homeless-connect-5/
LOCATION:3 Keys Communities\, 227 St. Louis Ave.\, Las Vegas\, NV\, 89102\, United States
END:VEVENT
BEGIN:VEVENT
DTSTART;TZID=America/Los_Angeles:20250814T090000
DTEND;TZID=America/Los_Angeles:20250814T120000
DTSTAMP:20260419T161606
CREATED:20250812T153937Z
LAST-MODIFIED:20250812T154554Z
UID:10002332-1755162000-1755172800@helphopehome.org
SUMMARY:PHC Pop-Up Event
DESCRIPTION:
URL:https://helphopehome.org/event/phc-pop-up-event/
LOCATION:Aghaby Clinic\, 1845 Civic Center Dr.\, North Las Vegas\, NV\, 89030\, United States
CATEGORIES:Community Events,NHA,Provider Collaboratives
END:VEVENT
BEGIN:VEVENT
DTSTART;TZID=America/Los_Angeles:20250725T100000
DTEND;TZID=America/Los_Angeles:20250725T130000
DTSTAMP:20260419T161606
CREATED:20250724T221009Z
LAST-MODIFIED:20250724T221009Z
UID:10001885-1753437600-1753448400@helphopehome.org
SUMMARY:Project Homeless Event
DESCRIPTION:Pop-Up Flyer
URL:https://helphopehome.org/event/project-homeless-event/
LOCATION:The Center\, 401 S. Maryland Parkway\, Las Vegas\, NV\, United States
END:VEVENT
BEGIN:VEVENT
DTSTART;TZID=America/Los_Angeles:20250708T080000
DTEND;TZID=America/Los_Angeles:20250708T110000
DTSTAMP:20260419T161606
CREATED:20250708T205618Z
LAST-MODIFIED:20250708T205618Z
UID:10001833-1751961600-1751972400@helphopehome.org
SUMMARY:Project Homeless Connect Event.
DESCRIPTION:
URL:https://helphopehome.org/event/project-homeless-connect-event-5/
LOCATION:WC Health\, 5412 Boulder Highway\, Las Vegas\, NV\, 89122\, United States
END:VEVENT
BEGIN:VEVENT
DTSTART;TZID=America/Los_Angeles:20250624T100000
DTEND;TZID=America/Los_Angeles:20250624T130000
DTSTAMP:20260419T161606
CREATED:20250528T165449Z
LAST-MODIFIED:20250528T165449Z
UID:10001732-1750759200-1750770000@helphopehome.org
SUMMARY:Project Homeless Connect Event
DESCRIPTION:Pop-Up Flyer – Spring Valley Library 6-24-25
URL:https://helphopehome.org/event/project-homeless-connect-event-2/
LOCATION:Spring Valley Library\, 4280 A Jones Blvd\, Las Vegas\, NV\, 89103\, United States
END:VEVENT
BEGIN:VEVENT
DTSTART;TZID=America/Los_Angeles:20250617T090000
DTEND;TZID=America/Los_Angeles:20250617T120000
DTSTAMP:20260419T161606
CREATED:20250528T160220Z
LAST-MODIFIED:20250528T160220Z
UID:10001731-1750150800-1750161600@helphopehome.org
SUMMARY:Project Homeless Connect Event
DESCRIPTION:Pop-Up Flyer – Share Village – 6-17-25
URL:https://helphopehome.org/event/project-homeless-connect-event/
LOCATION:Share Village\, 50 N. 21st Street\, Las Vegas\, NV\, 89101
END:VEVENT
BEGIN:VEVENT
DTSTART;TZID=America/Los_Angeles:20250605T080000
DTEND;TZID=America/Los_Angeles:20250605T120000
DTSTAMP:20260419T161606
CREATED:20250528T165648Z
LAST-MODIFIED:20250528T165648Z
UID:10001733-1749110400-1749124800@helphopehome.org
SUMMARY:Project Homeless Connect Event
DESCRIPTION:Pop-Up Flyer – Clark County Library – 6-5-25
URL:https://helphopehome.org/event/project-homeless-connect-event-3/
LOCATION:Clark County Library\, 1401 E. Flamingo Road\, Las Vegas\, NV\, 89119\, United States
END:VEVENT
BEGIN:VEVENT
DTSTART;TZID=America/Los_Angeles:20250528T090000
DTEND;TZID=America/Los_Angeles:20250528T120000
DTSTAMP:20260419T161606
CREATED:20250528T170112Z
LAST-MODIFIED:20250528T170112Z
UID:10001735-1748422800-1748433600@helphopehome.org
SUMMARY:Project Homeless Connect Event
DESCRIPTION:Pop-Up Flyer – CTC 5-29-25
URL:https://helphopehome.org/event/project-homeless-connect-event-4/
LOCATION:CTC- Las Vegas\, 2887 S Maryland Pkwy\, Las Vegas\, NV\, 89109\, United States
END:VEVENT
BEGIN:VEVENT
DTSTART;TZID=America/Los_Angeles:20250417T100000
DTEND;TZID=America/Los_Angeles:20250417T130000
DTSTAMP:20260419T161606
CREATED:20250326T162049Z
LAST-MODIFIED:20250326T162049Z
UID:10001662-1744884000-1744894800@helphopehome.org
SUMMARY:NHA Project Homeless Connect Event
DESCRIPTION:April 2025 PHC Flyer (1)
URL:https://helphopehome.org/event/nha-project-homeless-connect-event-2/
LOCATION:First Church of God\, 827 Balzar Avenue\, Las Vegas\, NV\, 89106\, United States
END:VEVENT
BEGIN:VEVENT
DTSTART;TZID=America/Los_Angeles:20250410T130000
DTEND;TZID=America/Los_Angeles:20250410T160000
DTSTAMP:20260419T161606
CREATED:20250326T161928Z
LAST-MODIFIED:20250326T161928Z
UID:10001661-1744290000-1744300800@helphopehome.org
SUMMARY:NHA Project Homeless Connect Event
DESCRIPTION:April 2025 PHC Flyer (1)
URL:https://helphopehome.org/event/nha-project-homeless-connect-event/
LOCATION:BTC (Bonneville Transit Center)\, 101 E Bonneville Ave\, Las Vegas\, NV\, 89169\, United States
END:VEVENT
BEGIN:VEVENT
DTSTART;TZID=America/Los_Angeles:20250403T100000
DTEND;TZID=America/Los_Angeles:20250403T130000
DTSTAMP:20260419T161606
CREATED:20250325T162923Z
LAST-MODIFIED:20250325T162923Z
UID:10001659-1743674400-1743685200@helphopehome.org
SUMMARY:NHA Homeless connect partnering with Freedom House
DESCRIPTION:
URL:https://helphopehome.org/event/nha-homeless-connect-partnering-with-freedom-house/
LOCATION:Molasky Park\, 1065 E Twain Ave\, Las Vegas\, NV\, 89101\, United States
END:VEVENT
BEGIN:VEVENT
DTSTART;TZID=America/Los_Angeles:20250326T110000
DTEND;TZID=America/Los_Angeles:20250326T140000
DTSTAMP:20260419T161606
CREATED:20250310T222922Z
LAST-MODIFIED:20250310T222922Z
UID:10001580-1742986800-1742997600@helphopehome.org
SUMMARY:Project Homeless Connect
DESCRIPTION:
URL:https://helphopehome.org/event/project-homeless-connect-3/
LOCATION:The Salvation Army\, 35 W. Owens Ave\, North Las Vegas\, NV\, 89030\, United States
END:VEVENT
BEGIN:VEVENT
DTSTART;TZID=America/Los_Angeles:20250313T110000
DTEND;TZID=America/Los_Angeles:20250313T140000
DTSTAMP:20260419T161606
CREATED:20250310T222642Z
LAST-MODIFIED:20250310T222642Z
UID:10001579-1741863600-1741874400@helphopehome.org
SUMMARY:Project Homeless Connect
DESCRIPTION:
URL:https://helphopehome.org/event/project-homeless-connect-2/
LOCATION:The Lovell Center/Hub LV\, 846 E. Sahara Ave\, Las Vegas\, 89104\, United States
END:VEVENT
BEGIN:VEVENT
DTSTART;TZID=America/Los_Angeles:20250311T140000
DTEND;TZID=America/Los_Angeles:20250311T170000
DTSTAMP:20260419T161606
CREATED:20250310T222417Z
LAST-MODIFIED:20250310T222748Z
UID:10001578-1741701600-1741712400@helphopehome.org
SUMMARY:Project Homeless Connect
DESCRIPTION:Family Connect Event
URL:https://helphopehome.org/event/project-homeless-connect/
LOCATION:Cheyenne High School\, 3200 W. Alexander Rd\, North Las Vegas\, NV\, 89032\, United States
END:VEVENT
BEGIN:VEVENT
DTSTART;TZID=America/Los_Angeles:20250130T140000
DTEND;TZID=America/Los_Angeles:20250130T170000
DTSTAMP:20260419T161606
CREATED:20241211T002246Z
LAST-MODIFIED:20241211T002246Z
UID:10001477-1738245600-1738256400@helphopehome.org
SUMMARY:Pop-Up Family Connect
DESCRIPTION:
URL:https://helphopehome.org/event/pop-up-family-connect-2/
LOCATION:Desert Rose High School\, 602 W Brooks Ave\, North Las Vegas\, NV\, 89030\, United States
END:VEVENT
BEGIN:VEVENT
DTSTART;TZID=America/Los_Angeles:20250123T100000
DTEND;TZID=America/Los_Angeles:20250123T130000
DTSTAMP:20260419T161606
CREATED:20250106T170609Z
LAST-MODIFIED:20250106T170609Z
UID:10001484-1737626400-1737637200@helphopehome.org
SUMMARY:Pop-Up PHC
DESCRIPTION:
URL:https://helphopehome.org/event/pop-up-phc-5/
LOCATION:Vegas Stronger\, 916 N Main St\, Las Vegas\, NV\, 89101\, United States
CATEGORIES:Community Events,NHA,Provider Collaboratives,Services Events
END:VEVENT
BEGIN:VEVENT
DTSTART;TZID=America/Los_Angeles:20250114T140000
DTEND;TZID=America/Los_Angeles:20250114T170000
DTSTAMP:20260419T161606
CREATED:20241211T001519Z
LAST-MODIFIED:20241211T002437Z
UID:10001476-1736863200-1736874000@helphopehome.org
SUMMARY:Pop-Up Family Connect
DESCRIPTION:
URL:https://helphopehome.org/event/pop-up-family-connect/
LOCATION:Cimarron Memorial High School\, 2301 N Tenaya Way\, Las Vegas\, NV\, 89128\, United States
CATEGORIES:Community Events,NHA
END:VEVENT
BEGIN:VEVENT
DTSTART;TZID=America/Los_Angeles:20250109T090000
DTEND;TZID=America/Los_Angeles:20250109T120000
DTSTAMP:20260419T161606
CREATED:20250106T170347Z
LAST-MODIFIED:20250106T170347Z
UID:10001483-1736413200-1736424000@helphopehome.org
SUMMARY:Pop-Up PHC
DESCRIPTION:
URL:https://helphopehome.org/event/pop-up-phc-4/
LOCATION:Hopelink of Southern Nevada\, 178 Westminster Way\, Henderson\, NV\, 89015\, United States
CATEGORIES:Community Events,NHA,Provider Collaboratives,Services Events
END:VEVENT
BEGIN:VEVENT
DTSTART;TZID=America/Los_Angeles:20241217T100000
DTEND;TZID=America/Los_Angeles:20241217T130000
DTSTAMP:20260419T161606
CREATED:20241219T174703Z
LAST-MODIFIED:20241219T175010Z
UID:10001479-1734429600-1734440400@helphopehome.org
SUMMARY:Pop-Up Project Homeless Connect
DESCRIPTION:2024 December Pop-Up Flyer – West Charleston Library – 12-17-24
URL:https://helphopehome.org/event/pop-up-project-homeless-connect-6/
LOCATION:West Charleston Library\, 6101 W Charleston Blvd\, Las Vegas\, NV\, 89146\, United States
CATEGORIES:NHA,Provider Collaboratives,Services Events
END:VEVENT
BEGIN:VEVENT
DTSTART;TZID=America/Los_Angeles:20241212T150000
DTEND;TZID=America/Los_Angeles:20241212T180000
DTSTAMP:20260419T161606
CREATED:20241118T222123Z
LAST-MODIFIED:20241118T222123Z
UID:10001415-1734015600-1734026400@helphopehome.org
SUMMARY:31st Annual Homeless Candlelight Vigil
DESCRIPTION:The vigil will feature a candlelight ceremony to honor the lives lost\, live music\, speakers\, vendor booths offering valuable resources\, delicious food\, and we will be distributing survival kits to help those facing homelessness during the winter months. This is a great opportunity to connect\, reflect\, and take action. \nFeel free to transport clients to the event—let’s come together to share hope\, compassion\, and community. \nWe are seeking items for survival kits/backpacks including\, but not limited to:  \n\nHygiene items\nWhite Socks\nGloves\nKnit caps/Beanies\n\nAs part of the vigil\, we will be offering space for vendors to set up booths to showcase products\, services\, or information that can support individuals who are experiencing homelessness\, or that align with the values of community\, compassion\, and support. This is a wonderful opportunity to reach a compassionate and engaged audience while contributing to an event that is dedicated to making a positive impact on our community. Please be advised that there will be a limited amount of booths accepted.
URL:https://helphopehome.org/event/31st-annual-homeless-candlelight-vigil/
LOCATION:Behind the Stratosphere\, 227 W. St Louis Avenue\, Las Vegas\, NV\, 89102\, United States
CATEGORIES:NHA,Provider Collaboratives,Services Events
END:VEVENT
BEGIN:VEVENT
DTSTART;TZID=America/Los_Angeles:20241120T150000
DTEND;TZID=America/Los_Angeles:20241120T180000
DTSTAMP:20260419T161606
CREATED:20241028T175935Z
LAST-MODIFIED:20241028T175935Z
UID:10001374-1732114800-1732125600@helphopehome.org
SUMMARY:Family Connect Pop-Up
DESCRIPTION:Clark HS Flyer Nov 20 2024
URL:https://helphopehome.org/event/family-connect-pop-up-2/
LOCATION:Clark High School\, 4291 Penwood Avenue\, Las Vegas\, NV\, 89102\, United States
END:VEVENT
BEGIN:VEVENT
DTSTART;TZID=America/Los_Angeles:20241115T100000
DTEND;TZID=America/Los_Angeles:20241115T140000
DTSTAMP:20260419T161606
CREATED:20241028T191850Z
LAST-MODIFIED:20241028T191850Z
UID:10001376-1731664800-1731679200@helphopehome.org
SUMMARY:Pop-Up Project Homeless Connect
DESCRIPTION:Pop-Up Flyer – The Center – 11.15.24 \nFriday\, November 15th\n10:00 am – 2:00 pm\nThe Center\n401 S. Maryland Pkwy\n(Indoor/Outdoor Mobile Units)\nFree Services & Resources:\nHousing Assessments\, ID/Birth Certificate for people experiencing homelessness\, Medical Insurance & Mental Health\, Medical\, Dental\, & Vision Services\, Mobile Showers & Clothing\, Haircuts\, Cell Phones & Tablets\, Food & Drinks\, Hygiene kits and more!\n*More services are being added – stay tuned!
URL:https://helphopehome.org/event/pop-up-project-homeless-connect-3/
LOCATION:The Center\, 401 S. Maryland Parkway\, Las Vegas\, NV\, United States
CATEGORIES:NHA
END:VEVENT
BEGIN:VEVENT
DTSTART;TZID=America/Los_Angeles:20241106T133000
DTEND;TZID=America/Los_Angeles:20241106T163000
DTSTAMP:20260419T161606
CREATED:20241028T175547Z
LAST-MODIFIED:20241028T175547Z
UID:10001373-1730899800-1730910600@helphopehome.org
SUMMARY:Family Connect Pop-Up
DESCRIPTION:Basic HS Academy Flyer 11-06-24
URL:https://helphopehome.org/event/family-connect-pop-up/
LOCATION:Basic Academy\, 400 Palo Verde Dr\, Henderson\, NV\, 89015\, United States
END:VEVENT
BEGIN:VEVENT
DTSTART;TZID=America/Los_Angeles:20241030T130000
DTEND;TZID=America/Los_Angeles:20241030T160000
DTSTAMP:20260419T161606
CREATED:20240930T172104Z
LAST-MODIFIED:20240930T172104Z
UID:10001360-1730293200-1730304000@helphopehome.org
SUMMARY:Pop-Up PHC
DESCRIPTION:
URL:https://helphopehome.org/event/pop-up-phc-3/
LOCATION:Whitney Library\, 5175 E. Tropicana Avenue\, Las Vegas\, NV\, 89122\, United States
CATEGORIES:NHA
END:VEVENT
END:VCALENDAR