BEGIN:VCALENDAR
VERSION:2.0
PRODID:-//Help Hope Home - ECPv6.15.20//NONSGML v1.0//EN
CALSCALE:GREGORIAN
METHOD:PUBLISH
X-WR-CALNAME:Help Hope Home
X-ORIGINAL-URL:https://helphopehome.org
X-WR-CALDESC:Events for Help Hope Home
REFRESH-INTERVAL;VALUE=DURATION:PT1H
X-Robots-Tag:noindex
X-PUBLISHED-TTL:PT1H
BEGIN:VTIMEZONE
TZID:America/Los_Angeles
BEGIN:DAYLIGHT
TZOFFSETFROM:-0800
TZOFFSETTO:-0700
TZNAME:PDT
DTSTART:20240310T100000
END:DAYLIGHT
BEGIN:STANDARD
TZOFFSETFROM:-0700
TZOFFSETTO:-0800
TZNAME:PST
DTSTART:20241103T090000
END:STANDARD
BEGIN:DAYLIGHT
TZOFFSETFROM:-0800
TZOFFSETTO:-0700
TZNAME:PDT
DTSTART:20250309T100000
END:DAYLIGHT
BEGIN:STANDARD
TZOFFSETFROM:-0700
TZOFFSETTO:-0800
TZNAME:PST
DTSTART:20251102T090000
END:STANDARD
BEGIN:DAYLIGHT
TZOFFSETFROM:-0800
TZOFFSETTO:-0700
TZNAME:PDT
DTSTART:20260308T100000
END:DAYLIGHT
BEGIN:STANDARD
TZOFFSETFROM:-0700
TZOFFSETTO:-0800
TZNAME:PST
DTSTART:20261101T090000
END:STANDARD
BEGIN:DAYLIGHT
TZOFFSETFROM:-0800
TZOFFSETTO:-0700
TZNAME:PDT
DTSTART:20270314T100000
END:DAYLIGHT
BEGIN:STANDARD
TZOFFSETFROM:-0700
TZOFFSETTO:-0800
TZNAME:PST
DTSTART:20271107T090000
END:STANDARD
END:VTIMEZONE
BEGIN:VEVENT
DTSTART;TZID=America/Los_Angeles:20260407T090000
DTEND;TZID=America/Los_Angeles:20260407T120000
DTSTAMP:20260421T070712
CREATED:20250605T220850Z
LAST-MODIFIED:20250814T182835Z
UID:10002614-1775552400-1775563200@helphopehome.org
SUMMARY:Expertise Barber School @ The Care Complex
DESCRIPTION:
URL:https://helphopehome.org/event/expertise-barber-school-the-care-complex-2-2/2026-04-07/
LOCATION:The Care Complex\, 200 Foremaster Lane\, Las Vegas\, NV\, 89101\, United States
END:VEVENT
BEGIN:VEVENT
DTSTART;TZID=America/Los_Angeles:20260324T090000
DTEND;TZID=America/Los_Angeles:20260324T120000
DTSTAMP:20260421T070712
CREATED:20250605T220850Z
LAST-MODIFIED:20250814T182835Z
UID:10002613-1774342800-1774353600@helphopehome.org
SUMMARY:Expertise Barber School @ The Care Complex
DESCRIPTION:
URL:https://helphopehome.org/event/expertise-barber-school-the-care-complex-2-2/2026-03-24/
LOCATION:The Care Complex\, 200 Foremaster Lane\, Las Vegas\, NV\, 89101\, United States
END:VEVENT
BEGIN:VEVENT
DTSTART;TZID=America/Los_Angeles:20260310T090000
DTEND;TZID=America/Los_Angeles:20260310T120000
DTSTAMP:20260421T070712
CREATED:20250605T220850Z
LAST-MODIFIED:20250814T182835Z
UID:10002612-1773133200-1773144000@helphopehome.org
SUMMARY:Expertise Barber School @ The Care Complex
DESCRIPTION:
URL:https://helphopehome.org/event/expertise-barber-school-the-care-complex-2-2/2026-03-10/
LOCATION:The Care Complex\, 200 Foremaster Lane\, Las Vegas\, NV\, 89101\, United States
END:VEVENT
BEGIN:VEVENT
DTSTART;TZID=America/Los_Angeles:20260307T140000
DTEND;TZID=America/Los_Angeles:20260307T150000
DTSTAMP:20260421T070712
CREATED:20250324T175241Z
LAST-MODIFIED:20250324T192440Z
UID:10001644-1772892000-1772895600@helphopehome.org
SUMMARY:Let's Talk Mental Health
DESCRIPTION:
URL:https://helphopehome.org/event/lets-talk-mental-health/2026-03-07/
LOCATION:The Care Complex\, 200 Foremaster Lane\, Las Vegas\, NV\, 89101\, United States
END:VEVENT
BEGIN:VEVENT
DTSTART;TZID=America/Los_Angeles:20260306T130000
DTEND;TZID=America/Los_Angeles:20260306T140000
DTSTAMP:20260421T070712
CREATED:20250324T192837Z
LAST-MODIFIED:20250324T192837Z
UID:10001657-1772802000-1772805600@helphopehome.org
SUMMARY:Youth Support Group
DESCRIPTION:
URL:https://helphopehome.org/event/youth-support-group/2026-03-06/
LOCATION:The Care Complex\, 200 Foremaster Lane\, Las Vegas\, NV\, 89101\, United States
END:VEVENT
BEGIN:VEVENT
DTSTART;TZID=America/Los_Angeles:20260224T090000
DTEND;TZID=America/Los_Angeles:20260224T120000
DTSTAMP:20260421T070712
CREATED:20250605T220850Z
LAST-MODIFIED:20250814T182835Z
UID:10002611-1771923600-1771934400@helphopehome.org
SUMMARY:Expertise Barber School @ The Care Complex
DESCRIPTION:
URL:https://helphopehome.org/event/expertise-barber-school-the-care-complex-2-2/2026-02-24/
LOCATION:The Care Complex\, 200 Foremaster Lane\, Las Vegas\, NV\, 89101\, United States
END:VEVENT
BEGIN:VEVENT
DTSTART;TZID=America/Los_Angeles:20260210T090000
DTEND;TZID=America/Los_Angeles:20260210T120000
DTSTAMP:20260421T070712
CREATED:20250605T220850Z
LAST-MODIFIED:20250814T182835Z
UID:10002610-1770714000-1770724800@helphopehome.org
SUMMARY:Expertise Barber School @ The Care Complex
DESCRIPTION:
URL:https://helphopehome.org/event/expertise-barber-school-the-care-complex-2-2/2026-02-10/
LOCATION:The Care Complex\, 200 Foremaster Lane\, Las Vegas\, NV\, 89101\, United States
END:VEVENT
BEGIN:VEVENT
DTSTART;TZID=America/Los_Angeles:20260207T140000
DTEND;TZID=America/Los_Angeles:20260207T150000
DTSTAMP:20260421T070712
CREATED:20250324T175241Z
LAST-MODIFIED:20250324T192440Z
UID:10001643-1770472800-1770476400@helphopehome.org
SUMMARY:Let's Talk Mental Health
DESCRIPTION:
URL:https://helphopehome.org/event/lets-talk-mental-health/2026-02-07/
LOCATION:The Care Complex\, 200 Foremaster Lane\, Las Vegas\, NV\, 89101\, United States
END:VEVENT
BEGIN:VEVENT
DTSTART;TZID=America/Los_Angeles:20260206T130000
DTEND;TZID=America/Los_Angeles:20260206T140000
DTSTAMP:20260421T070712
CREATED:20250324T192837Z
LAST-MODIFIED:20250324T192837Z
UID:10001656-1770382800-1770386400@helphopehome.org
SUMMARY:Youth Support Group
DESCRIPTION:
URL:https://helphopehome.org/event/youth-support-group/2026-02-06/
LOCATION:The Care Complex\, 200 Foremaster Lane\, Las Vegas\, NV\, 89101\, United States
END:VEVENT
BEGIN:VEVENT
DTSTART;TZID=America/Los_Angeles:20260127T090000
DTEND;TZID=America/Los_Angeles:20260127T120000
DTSTAMP:20260421T070712
CREATED:20250605T220850Z
LAST-MODIFIED:20250814T182835Z
UID:10002609-1769504400-1769515200@helphopehome.org
SUMMARY:Expertise Barber School @ The Care Complex
DESCRIPTION:
URL:https://helphopehome.org/event/expertise-barber-school-the-care-complex-2-2/2026-01-27/
LOCATION:The Care Complex\, 200 Foremaster Lane\, Las Vegas\, NV\, 89101\, United States
END:VEVENT
BEGIN:VEVENT
DTSTART;TZID=America/Los_Angeles:20260113T090000
DTEND;TZID=America/Los_Angeles:20260113T120000
DTSTAMP:20260421T070712
CREATED:20250605T220850Z
LAST-MODIFIED:20250814T182835Z
UID:10002608-1768294800-1768305600@helphopehome.org
SUMMARY:Expertise Barber School @ The Care Complex
DESCRIPTION:
URL:https://helphopehome.org/event/expertise-barber-school-the-care-complex-2-2/2026-01-13/
LOCATION:The Care Complex\, 200 Foremaster Lane\, Las Vegas\, NV\, 89101\, United States
END:VEVENT
BEGIN:VEVENT
DTSTART;TZID=America/Los_Angeles:20260103T140000
DTEND;TZID=America/Los_Angeles:20260103T150000
DTSTAMP:20260421T070712
CREATED:20250324T175241Z
LAST-MODIFIED:20250324T192440Z
UID:10001642-1767448800-1767452400@helphopehome.org
SUMMARY:Let's Talk Mental Health
DESCRIPTION:
URL:https://helphopehome.org/event/lets-talk-mental-health/2026-01-03/
LOCATION:The Care Complex\, 200 Foremaster Lane\, Las Vegas\, NV\, 89101\, United States
END:VEVENT
BEGIN:VEVENT
DTSTART;TZID=America/Los_Angeles:20260102T130000
DTEND;TZID=America/Los_Angeles:20260102T140000
DTSTAMP:20260421T070712
CREATED:20250324T192837Z
LAST-MODIFIED:20250324T192837Z
UID:10001655-1767358800-1767362400@helphopehome.org
SUMMARY:Youth Support Group
DESCRIPTION:
URL:https://helphopehome.org/event/youth-support-group/2026-01-02/
LOCATION:The Care Complex\, 200 Foremaster Lane\, Las Vegas\, NV\, 89101\, United States
END:VEVENT
BEGIN:VEVENT
DTSTART;TZID=America/Los_Angeles:20251230T090000
DTEND;TZID=America/Los_Angeles:20251230T120000
DTSTAMP:20260421T070712
CREATED:20250605T220850Z
LAST-MODIFIED:20250814T182835Z
UID:10002607-1767085200-1767096000@helphopehome.org
SUMMARY:Expertise Barber School @ The Care Complex
DESCRIPTION:
URL:https://helphopehome.org/event/expertise-barber-school-the-care-complex-2-2/2025-12-30/
LOCATION:The Care Complex\, 200 Foremaster Lane\, Las Vegas\, NV\, 89101\, United States
END:VEVENT
BEGIN:VEVENT
DTSTART;TZID=America/Los_Angeles:20251216T090000
DTEND;TZID=America/Los_Angeles:20251216T120000
DTSTAMP:20260421T070712
CREATED:20250605T220850Z
LAST-MODIFIED:20250814T182835Z
UID:10002606-1765875600-1765886400@helphopehome.org
SUMMARY:Expertise Barber School @ The Care Complex
DESCRIPTION:
URL:https://helphopehome.org/event/expertise-barber-school-the-care-complex-2-2/2025-12-16/
LOCATION:The Care Complex\, 200 Foremaster Lane\, Las Vegas\, NV\, 89101\, United States
END:VEVENT
BEGIN:VEVENT
DTSTART;TZID=America/Los_Angeles:20251206T140000
DTEND;TZID=America/Los_Angeles:20251206T150000
DTSTAMP:20260421T070712
CREATED:20250324T175241Z
LAST-MODIFIED:20250324T192440Z
UID:10001641-1765029600-1765033200@helphopehome.org
SUMMARY:Let's Talk Mental Health
DESCRIPTION:
URL:https://helphopehome.org/event/lets-talk-mental-health/2025-12-06/
LOCATION:The Care Complex\, 200 Foremaster Lane\, Las Vegas\, NV\, 89101\, United States
END:VEVENT
BEGIN:VEVENT
DTSTART;TZID=America/Los_Angeles:20251205T130000
DTEND;TZID=America/Los_Angeles:20251205T140000
DTSTAMP:20260421T070712
CREATED:20250324T192837Z
LAST-MODIFIED:20250324T192837Z
UID:10001654-1764939600-1764943200@helphopehome.org
SUMMARY:Youth Support Group
DESCRIPTION:
URL:https://helphopehome.org/event/youth-support-group/2025-12-05/
LOCATION:The Care Complex\, 200 Foremaster Lane\, Las Vegas\, NV\, 89101\, United States
END:VEVENT
BEGIN:VEVENT
DTSTART;TZID=America/Los_Angeles:20251202T090000
DTEND;TZID=America/Los_Angeles:20251202T120000
DTSTAMP:20260421T070712
CREATED:20250605T220850Z
LAST-MODIFIED:20250814T182835Z
UID:10002605-1764666000-1764676800@helphopehome.org
SUMMARY:Expertise Barber School @ The Care Complex
DESCRIPTION:
URL:https://helphopehome.org/event/expertise-barber-school-the-care-complex-2-2/2025-12-02/
LOCATION:The Care Complex\, 200 Foremaster Lane\, Las Vegas\, NV\, 89101\, United States
END:VEVENT
BEGIN:VEVENT
DTSTART;TZID=America/Los_Angeles:20251118T090000
DTEND;TZID=America/Los_Angeles:20251118T120000
DTSTAMP:20260421T070712
CREATED:20250605T220850Z
LAST-MODIFIED:20250814T182835Z
UID:10002604-1763456400-1763467200@helphopehome.org
SUMMARY:Expertise Barber School @ The Care Complex
DESCRIPTION:
URL:https://helphopehome.org/event/expertise-barber-school-the-care-complex-2-2/2025-11-18/
LOCATION:The Care Complex\, 200 Foremaster Lane\, Las Vegas\, NV\, 89101\, United States
END:VEVENT
BEGIN:VEVENT
DTSTART;TZID=America/Los_Angeles:20251107T130000
DTEND;TZID=America/Los_Angeles:20251107T140000
DTSTAMP:20260421T070712
CREATED:20250324T192837Z
LAST-MODIFIED:20250324T192837Z
UID:10001653-1762520400-1762524000@helphopehome.org
SUMMARY:Youth Support Group
DESCRIPTION:
URL:https://helphopehome.org/event/youth-support-group/2025-11-07/
LOCATION:The Care Complex\, 200 Foremaster Lane\, Las Vegas\, NV\, 89101\, United States
END:VEVENT
BEGIN:VEVENT
DTSTART;TZID=America/Los_Angeles:20251104T090000
DTEND;TZID=America/Los_Angeles:20251104T120000
DTSTAMP:20260421T070712
CREATED:20250605T220850Z
LAST-MODIFIED:20250814T182835Z
UID:10002603-1762246800-1762257600@helphopehome.org
SUMMARY:Expertise Barber School @ The Care Complex
DESCRIPTION:
URL:https://helphopehome.org/event/expertise-barber-school-the-care-complex-2-2/2025-11-04/
LOCATION:The Care Complex\, 200 Foremaster Lane\, Las Vegas\, NV\, 89101\, United States
END:VEVENT
BEGIN:VEVENT
DTSTART;TZID=America/Los_Angeles:20251101T140000
DTEND;TZID=America/Los_Angeles:20251101T150000
DTSTAMP:20260421T070712
CREATED:20250324T175241Z
LAST-MODIFIED:20250324T192440Z
UID:10001640-1762005600-1762009200@helphopehome.org
SUMMARY:Let's Talk Mental Health
DESCRIPTION:
URL:https://helphopehome.org/event/lets-talk-mental-health/2025-11-01/
LOCATION:The Care Complex\, 200 Foremaster Lane\, Las Vegas\, NV\, 89101\, United States
END:VEVENT
BEGIN:VEVENT
DTSTART;TZID=America/Los_Angeles:20251021T090000
DTEND;TZID=America/Los_Angeles:20251021T120000
DTSTAMP:20260421T070712
CREATED:20250605T220850Z
LAST-MODIFIED:20250814T182835Z
UID:10002602-1761037200-1761048000@helphopehome.org
SUMMARY:Expertise Barber School @ The Care Complex
DESCRIPTION:
URL:https://helphopehome.org/event/expertise-barber-school-the-care-complex-2-2/2025-10-21/
LOCATION:The Care Complex\, 200 Foremaster Lane\, Las Vegas\, NV\, 89101\, United States
END:VEVENT
BEGIN:VEVENT
DTSTART;TZID=America/Los_Angeles:20251007T090000
DTEND;TZID=America/Los_Angeles:20251007T120000
DTSTAMP:20260421T070712
CREATED:20250605T220850Z
LAST-MODIFIED:20250814T182835Z
UID:10002601-1759827600-1759838400@helphopehome.org
SUMMARY:Expertise Barber School @ The Care Complex
DESCRIPTION:
URL:https://helphopehome.org/event/expertise-barber-school-the-care-complex-2-2/2025-10-07/
LOCATION:The Care Complex\, 200 Foremaster Lane\, Las Vegas\, NV\, 89101\, United States
END:VEVENT
BEGIN:VEVENT
DTSTART;TZID=America/Los_Angeles:20251004T140000
DTEND;TZID=America/Los_Angeles:20251004T150000
DTSTAMP:20260421T070712
CREATED:20250324T175241Z
LAST-MODIFIED:20250324T192440Z
UID:10001639-1759586400-1759590000@helphopehome.org
SUMMARY:Let's Talk Mental Health
DESCRIPTION:
URL:https://helphopehome.org/event/lets-talk-mental-health/2025-10-04/
LOCATION:The Care Complex\, 200 Foremaster Lane\, Las Vegas\, NV\, 89101\, United States
END:VEVENT
BEGIN:VEVENT
DTSTART;TZID=America/Los_Angeles:20251003T130000
DTEND;TZID=America/Los_Angeles:20251003T140000
DTSTAMP:20260421T070713
CREATED:20250324T192837Z
LAST-MODIFIED:20250324T192837Z
UID:10001652-1759496400-1759500000@helphopehome.org
SUMMARY:Youth Support Group
DESCRIPTION:
URL:https://helphopehome.org/event/youth-support-group/2025-10-03/
LOCATION:The Care Complex\, 200 Foremaster Lane\, Las Vegas\, NV\, 89101\, United States
END:VEVENT
BEGIN:VEVENT
DTSTART;TZID=America/Los_Angeles:20250923T090000
DTEND;TZID=America/Los_Angeles:20250923T120000
DTSTAMP:20260421T070713
CREATED:20250605T220850Z
LAST-MODIFIED:20250814T182835Z
UID:10002600-1758618000-1758628800@helphopehome.org
SUMMARY:Expertise Barber School @ The Care Complex
DESCRIPTION:
URL:https://helphopehome.org/event/expertise-barber-school-the-care-complex-2-2/2025-09-23/
LOCATION:The Care Complex\, 200 Foremaster Lane\, Las Vegas\, NV\, 89101\, United States
END:VEVENT
BEGIN:VEVENT
DTSTART;TZID=America/Los_Angeles:20250909T090000
DTEND;TZID=America/Los_Angeles:20250909T120000
DTSTAMP:20260421T070713
CREATED:20250605T220850Z
LAST-MODIFIED:20250814T182835Z
UID:10002599-1757408400-1757419200@helphopehome.org
SUMMARY:Expertise Barber School @ The Care Complex
DESCRIPTION:
URL:https://helphopehome.org/event/expertise-barber-school-the-care-complex-2-2/2025-09-09/
LOCATION:The Care Complex\, 200 Foremaster Lane\, Las Vegas\, NV\, 89101\, United States
END:VEVENT
BEGIN:VEVENT
DTSTART;TZID=America/Los_Angeles:20250906T140000
DTEND;TZID=America/Los_Angeles:20250906T150000
DTSTAMP:20260421T070713
CREATED:20250324T175241Z
LAST-MODIFIED:20250324T192440Z
UID:10001638-1757167200-1757170800@helphopehome.org
SUMMARY:Let's Talk Mental Health
DESCRIPTION:
URL:https://helphopehome.org/event/lets-talk-mental-health/2025-09-06/
LOCATION:The Care Complex\, 200 Foremaster Lane\, Las Vegas\, NV\, 89101\, United States
END:VEVENT
BEGIN:VEVENT
DTSTART;TZID=America/Los_Angeles:20250905T130000
DTEND;TZID=America/Los_Angeles:20250905T140000
DTSTAMP:20260421T070713
CREATED:20250324T192837Z
LAST-MODIFIED:20250324T192837Z
UID:10001651-1757077200-1757080800@helphopehome.org
SUMMARY:Youth Support Group
DESCRIPTION:
URL:https://helphopehome.org/event/youth-support-group/2025-09-05/
LOCATION:The Care Complex\, 200 Foremaster Lane\, Las Vegas\, NV\, 89101\, United States
END:VEVENT
END:VCALENDAR