BEGIN:VCALENDAR
VERSION:2.0
PRODID:-//Help Hope Home - ECPv6.15.20//NONSGML v1.0//EN
CALSCALE:GREGORIAN
METHOD:PUBLISH
X-ORIGINAL-URL:https://helphopehome.org
X-WR-CALDESC:Events for Help Hope Home
REFRESH-INTERVAL;VALUE=DURATION:PT1H
X-Robots-Tag:noindex
X-PUBLISHED-TTL:PT1H
BEGIN:VTIMEZONE
TZID:America/Los_Angeles
BEGIN:DAYLIGHT
TZOFFSETFROM:-0800
TZOFFSETTO:-0700
TZNAME:PDT
DTSTART:20230312T100000
END:DAYLIGHT
BEGIN:STANDARD
TZOFFSETFROM:-0700
TZOFFSETTO:-0800
TZNAME:PST
DTSTART:20231105T090000
END:STANDARD
BEGIN:DAYLIGHT
TZOFFSETFROM:-0800
TZOFFSETTO:-0700
TZNAME:PDT
DTSTART:20240310T100000
END:DAYLIGHT
BEGIN:STANDARD
TZOFFSETFROM:-0700
TZOFFSETTO:-0800
TZNAME:PST
DTSTART:20241103T090000
END:STANDARD
BEGIN:DAYLIGHT
TZOFFSETFROM:-0800
TZOFFSETTO:-0700
TZNAME:PDT
DTSTART:20250309T100000
END:DAYLIGHT
BEGIN:STANDARD
TZOFFSETFROM:-0700
TZOFFSETTO:-0800
TZNAME:PST
DTSTART:20251102T090000
END:STANDARD
END:VTIMEZONE
BEGIN:VEVENT
DTSTART;TZID=America/Los_Angeles:20241106T133000
DTEND;TZID=America/Los_Angeles:20241106T163000
DTSTAMP:20260420T031118
CREATED:20241028T175547Z
LAST-MODIFIED:20241028T175547Z
UID:10001373-1730899800-1730910600@helphopehome.org
SUMMARY:Family Connect Pop-Up
DESCRIPTION:Basic HS Academy Flyer 11-06-24
URL:https://helphopehome.org/event/family-connect-pop-up/
LOCATION:Basic Academy\, 400 Palo Verde Dr\, Henderson\, NV\, 89015\, United States
END:VEVENT
END:VCALENDAR