BEGIN:VCALENDAR
VERSION:2.0
PRODID:-//Help Hope Home - ECPv6.15.20//NONSGML v1.0//EN
CALSCALE:GREGORIAN
METHOD:PUBLISH
X-ORIGINAL-URL:https://helphopehome.org
X-WR-CALDESC:Events for Help Hope Home
REFRESH-INTERVAL;VALUE=DURATION:PT1H
X-Robots-Tag:noindex
X-PUBLISHED-TTL:PT1H
BEGIN:VTIMEZONE
TZID:America/Los_Angeles
BEGIN:DAYLIGHT
TZOFFSETFROM:-0800
TZOFFSETTO:-0700
TZNAME:PDT
DTSTART:20230312T100000
END:DAYLIGHT
BEGIN:STANDARD
TZOFFSETFROM:-0700
TZOFFSETTO:-0800
TZNAME:PST
DTSTART:20231105T090000
END:STANDARD
BEGIN:DAYLIGHT
TZOFFSETFROM:-0800
TZOFFSETTO:-0700
TZNAME:PDT
DTSTART:20240310T100000
END:DAYLIGHT
BEGIN:STANDARD
TZOFFSETFROM:-0700
TZOFFSETTO:-0800
TZNAME:PST
DTSTART:20241103T090000
END:STANDARD
BEGIN:DAYLIGHT
TZOFFSETFROM:-0800
TZOFFSETTO:-0700
TZNAME:PDT
DTSTART:20250309T100000
END:DAYLIGHT
BEGIN:STANDARD
TZOFFSETFROM:-0700
TZOFFSETTO:-0800
TZNAME:PST
DTSTART:20251102T090000
END:STANDARD
END:VTIMEZONE
BEGIN:VEVENT
DTSTART;TZID=America/Los_Angeles:20241211T100000
DTEND;TZID=America/Los_Angeles:20241211T113000
DTSTAMP:20260419T235636
CREATED:20241205T003148Z
LAST-MODIFIED:20241205T004447Z
UID:10001475-1733911200-1733916600@helphopehome.org
SUMMARY:Frontline Learning Collaborative
DESCRIPTION:For the month of December\, we have Adrienne Babbitt with the Las Vegas HUD Field Office. \nThis learning collaborative is for frontline staff and people frequently engaging with those experiencing a housing crisis.   We need the limited seats for the frontline workers like shelter workers\, outreach workers\, housing case managers\, intake workers\, etc. \nLocation: Clark County Government Center (500 S Grand Central Pkwy\, Las Vegas\, NV  89155); 1st Floor Chambers
URL:https://helphopehome.org/event/frontline-learning-collaborative-3/
LOCATION:Clark County Government Center Commission Chambers\, 500 S Grand Central Pkwy\, Las Vegas\, Nevada\, 89155
CATEGORIES:Training
ORGANIZER;CN="Help Hope Home":MAILTO:helphopehome@clarkcountynv.gov
END:VEVENT
BEGIN:VEVENT
DTSTART;TZID=America/Los_Angeles:20241113T100000
DTEND;TZID=America/Los_Angeles:20241113T113000
DTSTAMP:20260419T235636
CREATED:20241029T153209Z
LAST-MODIFIED:20241029T153330Z
UID:10001195-1731492000-1731497400@helphopehome.org
SUMMARY:Frontline Learning Collaborative
DESCRIPTION:For the month of November\, we have Brooke Page with The Cooperation for Supportive Housing.  Additionally\, we will be hearing from Kiana Harding with RTDS Truck Driving School. \nThis learning collaborative is for frontline staff and people frequently engaging with those experiencing a housing crisis.   We need the limited seats for the frontline workers like shelter workers\, outreach workers\, housing case managers\, intake workers\, etc. \nLocation: Clark County Government Center (500 S Grand Central Pkwy\, Las Vegas\, NV  89155); 1st Floor Chambers
URL:https://helphopehome.org/event/frontline-learning-collaborative-2/
LOCATION:Clark County Government Center Commission Chambers\, 500 S Grand Central Pkwy\, Las Vegas\, Nevada\, 89155
END:VEVENT
BEGIN:VEVENT
DTSTART;TZID=America/Los_Angeles:20241009T100000
DTEND;TZID=America/Los_Angeles:20241009T113000
DTSTAMP:20260419T235637
CREATED:20240806T210032Z
LAST-MODIFIED:20240806T210032Z
UID:10001194-1728468000-1728473400@helphopehome.org
SUMMARY:Frontline Learning Collaborative
DESCRIPTION:This learning collaborative is for frontline staff and people frequently engaging with those experiencing a housing crisis.   We need the limited seats for the frontline workers like shelter workers\, outreach workers\, housing case managers\, intake workers\, etc. \nLocation: Clark County Government Center (500 S Grand Central Pkwy\, Las Vegas\, NV  89155); 1st Floor Chambers
URL:https://helphopehome.org/event/frontline-learning-collaborative/2024-10-09/
LOCATION:Clark County Government Center Commission Chambers\, 500 S Grand Central Pkwy\, Las Vegas\, Nevada\, 89155
END:VEVENT
BEGIN:VEVENT
DTSTART;TZID=America/Los_Angeles:20240911T100000
DTEND;TZID=America/Los_Angeles:20240911T113000
DTSTAMP:20260419T235637
CREATED:20240806T210032Z
LAST-MODIFIED:20240806T210032Z
UID:10001193-1726048800-1726054200@helphopehome.org
SUMMARY:Frontline Learning Collaborative
DESCRIPTION:This learning collaborative is for frontline staff and people frequently engaging with those experiencing a housing crisis.   We need the limited seats for the frontline workers like shelter workers\, outreach workers\, housing case managers\, intake workers\, etc. \nLocation: Clark County Government Center (500 S Grand Central Pkwy\, Las Vegas\, NV  89155); 1st Floor Chambers
URL:https://helphopehome.org/event/frontline-learning-collaborative/2024-09-11/
LOCATION:Clark County Government Center Commission Chambers\, 500 S Grand Central Pkwy\, Las Vegas\, Nevada\, 89155
END:VEVENT
BEGIN:VEVENT
DTSTART;TZID=America/Los_Angeles:20240814T100000
DTEND;TZID=America/Los_Angeles:20240814T113000
DTSTAMP:20260419T235637
CREATED:20240806T210032Z
LAST-MODIFIED:20240806T210032Z
UID:10001192-1723629600-1723635000@helphopehome.org
SUMMARY:Frontline Learning Collaborative
DESCRIPTION:This learning collaborative is for frontline staff and people frequently engaging with those experiencing a housing crisis.   We need the limited seats for the frontline workers like shelter workers\, outreach workers\, housing case managers\, intake workers\, etc. \nLocation: Clark County Government Center (500 S Grand Central Pkwy\, Las Vegas\, NV  89155); 1st Floor Chambers
URL:https://helphopehome.org/event/frontline-learning-collaborative/2024-08-14/
LOCATION:Clark County Government Center Commission Chambers\, 500 S Grand Central Pkwy\, Las Vegas\, Nevada\, 89155
END:VEVENT
BEGIN:VEVENT
DTSTART;TZID=America/Los_Angeles:20240610T150000
DTEND;TZID=America/Los_Angeles:20240610T200000
DTSTAMP:20260419T235637
CREATED:20240529T205722Z
LAST-MODIFIED:20240529T211842Z
UID:10001165-1718031600-1718049600@helphopehome.org
SUMMARY:Southern Nevada CoC Board Meeting
DESCRIPTION:More ways to join: \n  \nJoin from the meeting link \nhttps://clarkcountynv.webex.com/clarkcountynv/j.php?MTID=m216e9d0ff2c64f7b212fee25456921e4 \n  \nJoin by meeting number \nMeeting number (access code): 2493 025 7298 \nMeeting password: 28u5PNaMTRC \n  \nTap to join from a mobile device (attendees only) \n+1-408-418-9388\,\,24930257298## United States Toll \n  \nJoin by phone \n+1-408-418-9388 United States Toll \nGlobal call-in numbers \n  \nJoin from a video system or application \nDial 24930257298@clarkcountynv.webex.com \nYou can also dial 173.243.2.68 and enter your meeting number.
URL:https://helphopehome.org/event/southern-nevada-coc-board-meeting/
LOCATION:Clark County Government Center Commission Chambers\, 500 S Grand Central Pkwy\, Las Vegas\, Nevada\, 89155
END:VEVENT
END:VCALENDAR