BEGIN:VCALENDAR
VERSION:2.0
PRODID:-//Help Hope Home - ECPv6.15.20//NONSGML v1.0//EN
CALSCALE:GREGORIAN
METHOD:PUBLISH
X-ORIGINAL-URL:https://helphopehome.org
X-WR-CALDESC:Events for Help Hope Home
REFRESH-INTERVAL;VALUE=DURATION:PT1H
X-Robots-Tag:noindex
X-PUBLISHED-TTL:PT1H
BEGIN:VTIMEZONE
TZID:America/Los_Angeles
BEGIN:DAYLIGHT
TZOFFSETFROM:-0800
TZOFFSETTO:-0700
TZNAME:PDT
DTSTART:20240310T100000
END:DAYLIGHT
BEGIN:STANDARD
TZOFFSETFROM:-0700
TZOFFSETTO:-0800
TZNAME:PST
DTSTART:20241103T090000
END:STANDARD
BEGIN:DAYLIGHT
TZOFFSETFROM:-0800
TZOFFSETTO:-0700
TZNAME:PDT
DTSTART:20250309T100000
END:DAYLIGHT
BEGIN:STANDARD
TZOFFSETFROM:-0700
TZOFFSETTO:-0800
TZNAME:PST
DTSTART:20251102T090000
END:STANDARD
BEGIN:DAYLIGHT
TZOFFSETFROM:-0800
TZOFFSETTO:-0700
TZNAME:PDT
DTSTART:20260308T100000
END:DAYLIGHT
BEGIN:STANDARD
TZOFFSETFROM:-0700
TZOFFSETTO:-0800
TZNAME:PST
DTSTART:20261101T090000
END:STANDARD
END:VTIMEZONE
BEGIN:VEVENT
DTSTART;TZID=America/Los_Angeles:20250715T090000
DTEND;TZID=America/Los_Angeles:20250715T120000
DTSTAMP:20260421T193013
CREATED:20250605T220850Z
LAST-MODIFIED:20250814T182835Z
UID:10002595-1752570000-1752580800@helphopehome.org
SUMMARY:Expertise Barber School @ The Care Complex
DESCRIPTION:
URL:https://helphopehome.org/event/expertise-barber-school-the-care-complex-2-2/2025-07-15/
LOCATION:The Care Complex\, 200 Foremaster Lane\, Las Vegas\, NV\, 89101\, United States
END:VEVENT
BEGIN:VEVENT
DTSTART;TZID=America/Los_Angeles:20250705T140000
DTEND;TZID=America/Los_Angeles:20250705T150000
DTSTAMP:20260421T193013
CREATED:20250324T175241Z
LAST-MODIFIED:20250324T192440Z
UID:10001636-1751724000-1751727600@helphopehome.org
SUMMARY:Let's Talk Mental Health
DESCRIPTION:
URL:https://helphopehome.org/event/lets-talk-mental-health/2025-07-05/
LOCATION:The Care Complex\, 200 Foremaster Lane\, Las Vegas\, NV\, 89101\, United States
END:VEVENT
BEGIN:VEVENT
DTSTART;TZID=America/Los_Angeles:20250705T090000
DTEND;TZID=America/Los_Angeles:20250705T120000
DTSTAMP:20260421T193013
CREATED:20250630T142224Z
LAST-MODIFIED:20250630T142224Z
UID:10001831-1751706000-1751716800@helphopehome.org
SUMMARY:The Care Complex: Care Fair
DESCRIPTION:
URL:https://helphopehome.org/event/the-care-complex-care-fair-2/
LOCATION:The Care Complex\, 200 Foremaster Lane\, Las Vegas\, NV\, 89101\, United States
END:VEVENT
BEGIN:VEVENT
DTSTART;TZID=America/Los_Angeles:20250704T130000
DTEND;TZID=America/Los_Angeles:20250704T140000
DTSTAMP:20260421T193013
CREATED:20250324T192837Z
LAST-MODIFIED:20250324T192837Z
UID:10001649-1751634000-1751637600@helphopehome.org
SUMMARY:Youth Support Group
DESCRIPTION:
URL:https://helphopehome.org/event/youth-support-group/2025-07-04/
LOCATION:The Care Complex\, 200 Foremaster Lane\, Las Vegas\, NV\, 89101\, United States
END:VEVENT
BEGIN:VEVENT
DTSTART;TZID=America/Los_Angeles:20250701T090000
DTEND;TZID=America/Los_Angeles:20250701T120000
DTSTAMP:20260421T193013
CREATED:20250605T220850Z
LAST-MODIFIED:20250814T182835Z
UID:10002594-1751360400-1751371200@helphopehome.org
SUMMARY:Expertise Barber School @ The Care Complex
DESCRIPTION:
URL:https://helphopehome.org/event/expertise-barber-school-the-care-complex-2-2/2025-07-01/
LOCATION:The Care Complex\, 200 Foremaster Lane\, Las Vegas\, NV\, 89101\, United States
END:VEVENT
BEGIN:VEVENT
DTSTART;TZID=America/Los_Angeles:20250607T140000
DTEND;TZID=America/Los_Angeles:20250607T150000
DTSTAMP:20260421T193013
CREATED:20250324T175241Z
LAST-MODIFIED:20250324T192440Z
UID:10001635-1749304800-1749308400@helphopehome.org
SUMMARY:Let's Talk Mental Health
DESCRIPTION:
URL:https://helphopehome.org/event/lets-talk-mental-health/2025-06-07/
LOCATION:The Care Complex\, 200 Foremaster Lane\, Las Vegas\, NV\, 89101\, United States
END:VEVENT
BEGIN:VEVENT
DTSTART;TZID=America/Los_Angeles:20250606T130000
DTEND;TZID=America/Los_Angeles:20250606T140000
DTSTAMP:20260421T193013
CREATED:20250324T192837Z
LAST-MODIFIED:20250324T192837Z
UID:10001648-1749214800-1749218400@helphopehome.org
SUMMARY:Youth Support Group
DESCRIPTION:
URL:https://helphopehome.org/event/youth-support-group/2025-06-06/
LOCATION:The Care Complex\, 200 Foremaster Lane\, Las Vegas\, NV\, 89101\, United States
END:VEVENT
BEGIN:VEVENT
DTSTART;TZID=America/Los_Angeles:20250603T080000
DTEND;TZID=America/Los_Angeles:20250603T170000
DTSTAMP:20260421T193013
CREATED:20250605T205543Z
LAST-MODIFIED:20250605T205543Z
UID:10001761-1748937600-1748970000@helphopehome.org
SUMMARY:Expertise Barber School @ The Care Complex
DESCRIPTION:
URL:https://helphopehome.org/event/expertise-barber-school-the-care-complex-2/
LOCATION:The Care Complex\, 200 Foremaster Lane\, Las Vegas\, NV\, 89101\, United States
END:VEVENT
BEGIN:VEVENT
DTSTART;TZID=America/Los_Angeles:20250503T140000
DTEND;TZID=America/Los_Angeles:20250503T150000
DTSTAMP:20260421T193013
CREATED:20250324T175241Z
LAST-MODIFIED:20250324T192440Z
UID:10001634-1746280800-1746284400@helphopehome.org
SUMMARY:Let's Talk Mental Health
DESCRIPTION:
URL:https://helphopehome.org/event/lets-talk-mental-health/2025-05-03/
LOCATION:The Care Complex\, 200 Foremaster Lane\, Las Vegas\, NV\, 89101\, United States
END:VEVENT
BEGIN:VEVENT
DTSTART;TZID=America/Los_Angeles:20250503T090000
DTEND;TZID=America/Los_Angeles:20250503T120000
DTSTAMP:20260421T193013
CREATED:20250501T181930Z
LAST-MODIFIED:20250501T181930Z
UID:10001672-1746262800-1746273600@helphopehome.org
SUMMARY:The Care Complex Care Fair
DESCRIPTION:
URL:https://helphopehome.org/event/the-care-complex-care-fair/
LOCATION:The Care Complex\, 200 Foremaster Lane\, Las Vegas\, NV\, 89101\, United States
END:VEVENT
BEGIN:VEVENT
DTSTART;TZID=America/Los_Angeles:20250502T130000
DTEND;TZID=America/Los_Angeles:20250502T140000
DTSTAMP:20260421T193013
CREATED:20250324T192837Z
LAST-MODIFIED:20250324T192837Z
UID:10001647-1746190800-1746194400@helphopehome.org
SUMMARY:Youth Support Group
DESCRIPTION:
URL:https://helphopehome.org/event/youth-support-group/2025-05-02/
LOCATION:The Care Complex\, 200 Foremaster Lane\, Las Vegas\, NV\, 89101\, United States
END:VEVENT
BEGIN:VEVENT
DTSTART;TZID=America/Los_Angeles:20250405T140000
DTEND;TZID=America/Los_Angeles:20250405T150000
DTSTAMP:20260421T193013
CREATED:20250324T175241Z
LAST-MODIFIED:20250324T192440Z
UID:10001633-1743861600-1743865200@helphopehome.org
SUMMARY:Let's Talk Mental Health
DESCRIPTION:
URL:https://helphopehome.org/event/lets-talk-mental-health/2025-04-05/
LOCATION:The Care Complex\, 200 Foremaster Lane\, Las Vegas\, NV\, 89101\, United States
END:VEVENT
BEGIN:VEVENT
DTSTART;TZID=America/Los_Angeles:20250404T130000
DTEND;TZID=America/Los_Angeles:20250404T140000
DTSTAMP:20260421T193013
CREATED:20250324T192837Z
LAST-MODIFIED:20250324T192837Z
UID:10001646-1743771600-1743775200@helphopehome.org
SUMMARY:Youth Support Group
DESCRIPTION:
URL:https://helphopehome.org/event/youth-support-group/2025-04-04/
LOCATION:The Care Complex\, 200 Foremaster Lane\, Las Vegas\, NV\, 89101\, United States
END:VEVENT
BEGIN:VEVENT
DTSTART;TZID=America/Los_Angeles:20250325T150000
DTEND;TZID=America/Los_Angeles:20250325T170000
DTSTAMP:20260421T193013
CREATED:20250324T174043Z
LAST-MODIFIED:20250324T174043Z
UID:10001631-1742914800-1742922000@helphopehome.org
SUMMARY:Full Plates & Fresh Paws
DESCRIPTION:
URL:https://helphopehome.org/event/full-plates-fresh-paws/
LOCATION:The Care Complex\, 200 Foremaster Lane\, Las Vegas\, NV\, 89101\, United States
END:VEVENT
BEGIN:VEVENT
DTSTART;TZID=America/Los_Angeles:20250307T130000
DTEND;TZID=America/Los_Angeles:20250307T140000
DTSTAMP:20260421T193013
CREATED:20250324T192837Z
LAST-MODIFIED:20250324T192837Z
UID:10001645-1741352400-1741356000@helphopehome.org
SUMMARY:Youth Support Group
DESCRIPTION:
URL:https://helphopehome.org/event/youth-support-group/2025-03-07/
LOCATION:The Care Complex\, 200 Foremaster Lane\, Las Vegas\, NV\, 89101\, United States
END:VEVENT
BEGIN:VEVENT
DTSTART;TZID=America/Los_Angeles:20250301T140000
DTEND;TZID=America/Los_Angeles:20250301T150000
DTSTAMP:20260421T193013
CREATED:20250324T175241Z
LAST-MODIFIED:20250324T192440Z
UID:10001632-1740837600-1740841200@helphopehome.org
SUMMARY:Let's Talk Mental Health
DESCRIPTION:
URL:https://helphopehome.org/event/lets-talk-mental-health/2025-03-01/
LOCATION:The Care Complex\, 200 Foremaster Lane\, Las Vegas\, NV\, 89101\, United States
END:VEVENT
END:VCALENDAR